| Back to Multiple platform build/check report for BioC 3.12 |
|
This page was generated on 2021-05-06 12:35:32 -0400 (Thu, 06 May 2021).
|
To the developers/maintainers of the Maaslin2 package: Please make sure to use the following settings in order to reproduce any error or warning you see on this page. |
| Package 983/1974 | Hostname | OS / Arch | INSTALL | BUILD | CHECK | BUILD BIN | ||||||||
| Maaslin2 1.4.0 (landing page) Lauren McIver
| malbec1 | Linux (Ubuntu 18.04.5 LTS) / x86_64 | OK | OK | OK | |||||||||
| tokay1 | Windows Server 2012 R2 Standard / x64 | OK | OK | OK | OK | |||||||||
| merida1 | macOS 10.14.6 Mojave / x86_64 | OK | OK | OK | OK | |||||||||
| Package: Maaslin2 |
| Version: 1.4.0 |
| Command: rm -rf Maaslin2.buildbin-libdir && mkdir Maaslin2.buildbin-libdir && /Users/biocbuild/BBS/utils/build-universal.sh Maaslin2_1.4.0.tar.gz /Library/Frameworks/R.framework/Versions/Current/Resources/bin/R Maaslin2.buildbin-libdir |
| StartedAt: 2021-05-06 09:05:55 -0400 (Thu, 06 May 2021) |
| EndedAt: 2021-05-06 09:06:57 -0400 (Thu, 06 May 2021) |
| EllapsedTime: 62.4 seconds |
| RetCode: 0 |
| Status: OK |
| PackageFile: Maaslin2_1.4.0.tgz |
| PackageFileSize: 721.6 KiB |
##############################################################################
##############################################################################
###
### Running command:
###
### rm -rf Maaslin2.buildbin-libdir && mkdir Maaslin2.buildbin-libdir && /Users/biocbuild/BBS/utils/build-universal.sh Maaslin2_1.4.0.tar.gz /Library/Frameworks/R.framework/Versions/Current/Resources/bin/R Maaslin2.buildbin-libdir
###
##############################################################################
##############################################################################
>>>>>>>
>>>>>>> INSTALLATION WITH 'R CMD INSTALL --preclean --no-multiarch --library=Maaslin2.buildbin-libdir Maaslin2_1.4.0.tar.gz'
>>>>>>>
* installing *source* package ‘Maaslin2’ ...
** using staged installation
** R
** inst
** byte-compile and prepare package for lazy loading
Warning in checkMatrixPackageVersion() :
Package version inconsistency detected.
TMB was built with Matrix version 1.3.2
Current Matrix version is 1.3.3
Please re-install 'TMB' from source using install.packages('TMB', type = 'source') or ask CRAN for a binary version of 'TMB' matching CRAN's 'Matrix' package
** help
*** installing help indices
** building package indices
** installing vignettes
** testing if installed package can be loaded from temporary location
** testing if installed package can be loaded from final location
** testing if installed package keeps a record of temporary installation path
* DONE (Maaslin2)