| Back to Multiple platform build/check report for BioC 3.12 |
|
This page was generated on 2021-05-06 12:35:50 -0400 (Thu, 06 May 2021).
|
To the developers/maintainers of the MSstatsQC package: Please make sure to use the following settings in order to reproduce any error or warning you see on this page. |
| Package 1168/1974 | Hostname | OS / Arch | INSTALL | BUILD | CHECK | BUILD BIN | ||||||||
| MSstatsQC 2.8.0 (landing page) Eralp Dogu
| malbec1 | Linux (Ubuntu 18.04.5 LTS) / x86_64 | OK | OK | OK | |||||||||
| tokay1 | Windows Server 2012 R2 Standard / x64 | OK | OK | OK | OK | |||||||||
| merida1 | macOS 10.14.6 Mojave / x86_64 | OK | OK | OK | OK | |||||||||
| Package: MSstatsQC |
| Version: 2.8.0 |
| Command: /Library/Frameworks/R.framework/Versions/Current/Resources/bin/R CMD build --keep-empty-dirs --no-resave-data MSstatsQC |
| StartedAt: 2021-05-05 20:48:58 -0400 (Wed, 05 May 2021) |
| EndedAt: 2021-05-05 20:50:01 -0400 (Wed, 05 May 2021) |
| EllapsedTime: 63.2 seconds |
| RetCode: 0 |
| Status: OK |
| PackageFile: MSstatsQC_2.8.0.tar.gz |
| PackageFileSize: 1.918 MiB |
############################################################################## ############################################################################## ### ### Running command: ### ### /Library/Frameworks/R.framework/Versions/Current/Resources/bin/R CMD build --keep-empty-dirs --no-resave-data MSstatsQC ### ############################################################################## ############################################################################## * checking for file ‘MSstatsQC/DESCRIPTION’ ... OK * preparing ‘MSstatsQC’: * checking DESCRIPTION meta-information ... OK * installing the package to build vignettes * creating vignettes ... OK * checking for LF line-endings in source and make files and shell scripts * checking for empty or unneeded directories NB: this package now depends on R (>= 3.5.0) WARNING: Added dependency on R >= 3.5.0 because serialized objects in serialize/load version 3 cannot be read in older versions of R. File(s) containing such objects: ‘MSstatsQC/data/S9Site54.RData’ * building ‘MSstatsQC_2.8.0.tar.gz’