| Back to Multiple platform build/check report for BioC 3.12 |
|
This page was generated on 2021-05-06 12:32:23 -0400 (Thu, 06 May 2021).
|
To the developers/maintainers of the MSstatsPTM package: Please make sure to use the following settings in order to reproduce any error or warning you see on this page. |
| Package 1167/1974 | Hostname | OS / Arch | INSTALL | BUILD | CHECK | BUILD BIN | ||||||||
| MSstatsPTM 1.0.0 (landing page) Tsung-Heng Tsai
| malbec1 | Linux (Ubuntu 18.04.5 LTS) / x86_64 | OK | OK | OK | |||||||||
| tokay1 | Windows Server 2012 R2 Standard / x64 | OK | OK | OK | OK | |||||||||
| merida1 | macOS 10.14.6 Mojave / x86_64 | OK | OK | ERROR | OK | |||||||||
| Package: MSstatsPTM |
| Version: 1.0.0 |
| Command: rm -rf MSstatsPTM.buildbin-libdir && mkdir MSstatsPTM.buildbin-libdir && C:\Users\biocbuild\bbs-3.12-bioc\R\bin\R.exe CMD INSTALL --merge-multiarch --build --library=MSstatsPTM.buildbin-libdir MSstatsPTM_1.0.0.tar.gz |
| StartedAt: 2021-05-06 09:35:43 -0400 (Thu, 06 May 2021) |
| EndedAt: 2021-05-06 09:36:01 -0400 (Thu, 06 May 2021) |
| EllapsedTime: 18.0 seconds |
| RetCode: 0 |
| Status: OK |
| PackageFile: MSstatsPTM_1.0.0.zip |
| PackageFileSize: 410.9 KiB |
##############################################################################
##############################################################################
###
### Running command:
###
### rm -rf MSstatsPTM.buildbin-libdir && mkdir MSstatsPTM.buildbin-libdir && C:\Users\biocbuild\bbs-3.12-bioc\R\bin\R.exe CMD INSTALL --merge-multiarch --build --library=MSstatsPTM.buildbin-libdir MSstatsPTM_1.0.0.tar.gz
###
##############################################################################
##############################################################################
install for i386
* installing *source* package 'MSstatsPTM' ...
** using staged installation
** R
** inst
** byte-compile and prepare package for lazy loading
** help
*** installing help indices
converting help for package 'MSstatsPTM'
finding HTML links ... done
MSstatsPTM html
PTMcompareMeans html
PTMestimate html
PTMlocate html
PTMnormalize html
PTMsimulateExperiment html
PTMsummarize html
adjustProteinLevel html
annotSite html
estimateAbundance html
extractMeanDiff html
fitLinearModel html
fixedGroup html
fixedGroupBatch html
locateMod html
simulatePeaks html
simulateSites html
simulateSummarization html
summarizeFeatures html
tidyEstimates html
tidyFasta html
** building package indices
** installing vignettes
** testing if installed package can be loaded from temporary location
** testing if installed package can be loaded from final location
** testing if installed package keeps a record of temporary installation path
install for x64
* installing *source* package 'MSstatsPTM' ...
** testing if installed package can be loaded
* MD5 sums
packaged installation of 'MSstatsPTM' as MSstatsPTM_1.0.0.zip
* DONE (MSstatsPTM)