| Back to Multiple platform build/check report for BioC 3.12 |
|
This page was generated on 2021-05-06 12:35:47 -0400 (Thu, 06 May 2021).
|
To the developers/maintainers of the MOSim package: Please make sure to use the following settings in order to reproduce any error or warning you see on this page. |
| Package 1141/1974 | Hostname | OS / Arch | INSTALL | BUILD | CHECK | BUILD BIN | ||||||||
| MOSim 1.4.0 (landing page) Carlos Martínez
| malbec1 | Linux (Ubuntu 18.04.5 LTS) / x86_64 | OK | OK | OK | |||||||||
| tokay1 | Windows Server 2012 R2 Standard / x64 | OK | OK | OK | OK | |||||||||
| merida1 | macOS 10.14.6 Mojave / x86_64 | OK | OK | OK | OK | |||||||||
| Package: MOSim |
| Version: 1.4.0 |
| Command: rm -rf MOSim.buildbin-libdir && mkdir MOSim.buildbin-libdir && /Users/biocbuild/BBS/utils/build-universal.sh MOSim_1.4.0.tar.gz /Library/Frameworks/R.framework/Versions/Current/Resources/bin/R MOSim.buildbin-libdir |
| StartedAt: 2021-05-06 09:18:15 -0400 (Thu, 06 May 2021) |
| EndedAt: 2021-05-06 09:19:07 -0400 (Thu, 06 May 2021) |
| EllapsedTime: 52.4 seconds |
| RetCode: 0 |
| Status: OK |
| PackageFile: MOSim_1.4.0.tgz |
| PackageFileSize: 4.769 MiB |
############################################################################## ############################################################################## ### ### Running command: ### ### rm -rf MOSim.buildbin-libdir && mkdir MOSim.buildbin-libdir && /Users/biocbuild/BBS/utils/build-universal.sh MOSim_1.4.0.tar.gz /Library/Frameworks/R.framework/Versions/Current/Resources/bin/R MOSim.buildbin-libdir ### ############################################################################## ############################################################################## >>>>>>> >>>>>>> INSTALLATION WITH 'R CMD INSTALL --preclean --no-multiarch --library=MOSim.buildbin-libdir MOSim_1.4.0.tar.gz' >>>>>>> * installing *source* package ‘MOSim’ ... ** using staged installation ** R ** data ** inst ** byte-compile and prepare package for lazy loading Creating a new generic function for ‘simulate’ in package ‘MOSim’ ** help *** installing help indices ** building package indices ** installing vignettes ** testing if installed package can be loaded from temporary location ** testing if installed package can be loaded from final location ** testing if installed package keeps a record of temporary installation path * DONE (MOSim)