| Back to Multiple platform build/check report for BioC 3.12 |
|
This page was generated on 2021-05-06 12:35:45 -0400 (Thu, 06 May 2021).
|
To the developers/maintainers of the MIMOSA package: Please make sure to use the following settings in order to reproduce any error or warning you see on this page. |
| Package 1100/1974 | Hostname | OS / Arch | INSTALL | BUILD | CHECK | BUILD BIN | ||||||||
| MIMOSA 1.28.1 (landing page) Greg Finak
| malbec1 | Linux (Ubuntu 18.04.5 LTS) / x86_64 | OK | OK | WARNINGS | |||||||||
| tokay1 | Windows Server 2012 R2 Standard / x64 | OK | OK | WARNINGS | OK | |||||||||
| merida1 | macOS 10.14.6 Mojave / x86_64 | OK | OK | OK | OK | |||||||||
| Package: MIMOSA |
| Version: 1.28.1 |
| Command: rm -rf MIMOSA.buildbin-libdir && mkdir MIMOSA.buildbin-libdir && /Users/biocbuild/BBS/utils/build-universal.sh MIMOSA_1.28.1.tar.gz /Library/Frameworks/R.framework/Versions/Current/Resources/bin/R MIMOSA.buildbin-libdir |
| StartedAt: 2021-05-06 09:15:03 -0400 (Thu, 06 May 2021) |
| EndedAt: 2021-05-06 09:16:07 -0400 (Thu, 06 May 2021) |
| EllapsedTime: 63.3 seconds |
| RetCode: 0 |
| Status: OK |
| PackageFile: MIMOSA_1.28.1.tgz |
| PackageFileSize: 594.5 KiB |
##############################################################################
##############################################################################
###
### Running command:
###
### rm -rf MIMOSA.buildbin-libdir && mkdir MIMOSA.buildbin-libdir && /Users/biocbuild/BBS/utils/build-universal.sh MIMOSA_1.28.1.tar.gz /Library/Frameworks/R.framework/Versions/Current/Resources/bin/R MIMOSA.buildbin-libdir
###
##############################################################################
##############################################################################
>>>>>>>
>>>>>>> INSTALLATION WITH 'R CMD INSTALL --preclean --no-multiarch --library=MIMOSA.buildbin-libdir MIMOSA_1.28.1.tar.gz'
>>>>>>>
* installing *source* package ‘MIMOSA’ ...
** using staged installation
** libs
clang++ -mmacosx-version-min=10.13 -std=gnu++11 -I"/Library/Frameworks/R.framework/Resources/include" -DNDEBUG -I'/Library/Frameworks/R.framework/Versions/4.0/Resources/library/Rcpp/include' -I'/Library/Frameworks/R.framework/Versions/4.0/Resources/library/RcppArmadillo/include' -I/usr/local/include `/Library/Frameworks/R.framework/Resources/bin/Rscript -e "RcppArmadillo:::CxxFlags()"` -fPIC -Wall -g -O2 -c BetaMix.cpp -o BetaMix.o
In file included from BetaMix.cpp:1:
In file included from /Library/Frameworks/R.framework/Versions/4.0/Resources/library/Rcpp/include/Rcpp.h:57:
/Library/Frameworks/R.framework/Versions/4.0/Resources/library/Rcpp/include/Rcpp/DataFrame.h:136:18: warning: unused variable 'data' [-Wunused-variable]
SEXP data = Parent::get__();
^
1 warning generated.
clang++ -mmacosx-version-min=10.13 -std=gnu++11 -I"/Library/Frameworks/R.framework/Resources/include" -DNDEBUG -I'/Library/Frameworks/R.framework/Versions/4.0/Resources/library/Rcpp/include' -I'/Library/Frameworks/R.framework/Versions/4.0/Resources/library/RcppArmadillo/include' -I/usr/local/include `/Library/Frameworks/R.framework/Resources/bin/Rscript -e "RcppArmadillo:::CxxFlags()"` -fPIC -Wall -g -O2 -c MCMC.cpp -o MCMC.o
In file included from MCMC.cpp:3:
In file included from /Library/Frameworks/R.framework/Versions/4.0/Resources/library/RcppArmadillo/include/RcppArmadillo.h:34:
In file included from /Library/Frameworks/R.framework/Versions/4.0/Resources/library/Rcpp/include/Rcpp.h:57:
/Library/Frameworks/R.framework/Versions/4.0/Resources/library/Rcpp/include/Rcpp/DataFrame.h:136:18: warning: unused variable 'data' [-Wunused-variable]
SEXP data = Parent::get__();
^
1 warning generated.
clang -mmacosx-version-min=10.13 -I"/Library/Frameworks/R.framework/Resources/include" -DNDEBUG -I'/Library/Frameworks/R.framework/Versions/4.0/Resources/library/Rcpp/include' -I'/Library/Frameworks/R.framework/Versions/4.0/Resources/library/RcppArmadillo/include' -I/usr/local/include -fPIC -Wall -g -O2 -c MIMOSA_init.c -o MIMOSA_init.o
clang -mmacosx-version-min=10.13 -I"/Library/Frameworks/R.framework/Resources/include" -DNDEBUG -I'/Library/Frameworks/R.framework/Versions/4.0/Resources/library/Rcpp/include' -I'/Library/Frameworks/R.framework/Versions/4.0/Resources/library/RcppArmadillo/include' -I/usr/local/include -fPIC -Wall -g -O2 -c betaintegral.c -o betaintegral.o
clang++ -mmacosx-version-min=10.13 -std=gnu++11 -I"/Library/Frameworks/R.framework/Resources/include" -DNDEBUG -I'/Library/Frameworks/R.framework/Versions/4.0/Resources/library/Rcpp/include' -I'/Library/Frameworks/R.framework/Versions/4.0/Resources/library/RcppArmadillo/include' -I/usr/local/include `/Library/Frameworks/R.framework/Resources/bin/Rscript -e "RcppArmadillo:::CxxFlags()"` -fPIC -Wall -g -O2 -c betaintegralRcpp.cpp -o betaintegralRcpp.o
In file included from betaintegralRcpp.cpp:1:
In file included from /Library/Frameworks/R.framework/Versions/4.0/Resources/library/RcppArmadillo/include/RcppArmadillo.h:34:
In file included from /Library/Frameworks/R.framework/Versions/4.0/Resources/library/Rcpp/include/Rcpp.h:57:
/Library/Frameworks/R.framework/Versions/4.0/Resources/library/Rcpp/include/Rcpp/DataFrame.h:136:18: warning: unused variable 'data' [-Wunused-variable]
SEXP data = Parent::get__();
^
1 warning generated.
clang++ -mmacosx-version-min=10.13 -std=gnu++11 -dynamiclib -Wl,-headerpad_max_install_names -undefined dynamic_lookup -single_module -multiply_defined suppress -L/Library/Frameworks/R.framework/Resources/lib -L/usr/local/lib -o MIMOSA.so BetaMix.o MCMC.o MIMOSA_init.o betaintegral.o betaintegralRcpp.o -O3 -lm -lstdc++ -I"/Library/Frameworks/R.framework/Versions/4.0/Resources/library/RcppArmadillo/include" -F/Library/Frameworks/R.framework/.. -framework R -Wl,-framework -Wl,CoreFoundation
installing to /Users/biocbuild/bbs-3.12-bioc/meat/MIMOSA.buildbin-libdir/00LOCK-MIMOSA/00new/MIMOSA/libs
** R
** data
*** moving datasets to lazyload DB
** inst
** byte-compile and prepare package for lazy loading
Warning in .recacheSubclasses(def@className, def, env) :
undefined subclass "numericVector" of class "Mnumeric"; definition not updated
** help
*** installing help indices
** building package indices
** installing vignettes
** testing if installed package can be loaded from temporary location
Warning in .recacheSubclasses(def@className, def, env) :
undefined subclass "numericVector" of class "Mnumeric"; definition not updated
** checking absolute paths in shared objects and dynamic libraries
** testing if installed package can be loaded from final location
Warning in .recacheSubclasses(def@className, def, env) :
undefined subclass "numericVector" of class "Mnumeric"; definition not updated
** testing if installed package keeps a record of temporary installation path
* DONE (MIMOSA)
>>>>>>>
>>>>>>> FIXING LINKS FOR MIMOSA.buildbin-libdir/MIMOSA/libs/MIMOSA.so
>>>>>>>
install_name_tool -change "/usr/local/lib/libgcc_s.1.dylib" "/Library/Frameworks/R.framework/Versions/4.0/Resources/lib/libgcc_s.1.dylib" "MIMOSA.buildbin-libdir/MIMOSA/libs/MIMOSA.so"
install_name_tool -change "/usr/local/lib/libgfortran.5.dylib" "/Library/Frameworks/R.framework/Versions/4.0/Resources/lib/libgfortran.5.dylib" "MIMOSA.buildbin-libdir/MIMOSA/libs/MIMOSA.so"
install_name_tool -change "/usr/local/lib/libquadmath.0.dylib" "/Library/Frameworks/R.framework/Versions/4.0/Resources/lib/libquadmath.0.dylib" "MIMOSA.buildbin-libdir/MIMOSA/libs/MIMOSA.so"