| Back to Multiple platform build/check report for BioC 3.12 |
|
This page was generated on 2021-05-06 12:32:15 -0400 (Thu, 06 May 2021).
|
To the developers/maintainers of the MIGSA package: Please make sure to use the following settings in order to reproduce any error or warning you see on this page. |
| Package 1098/1974 | Hostname | OS / Arch | INSTALL | BUILD | CHECK | BUILD BIN | ||||||||
| MIGSA 1.14.1 (landing page) Juan C. Rodriguez
| malbec1 | Linux (Ubuntu 18.04.5 LTS) / x86_64 | OK | OK | OK | |||||||||
| tokay1 | Windows Server 2012 R2 Standard / x64 | OK | OK | OK | OK | |||||||||
| merida1 | macOS 10.14.6 Mojave / x86_64 | OK | OK | OK | OK | |||||||||
| Package: MIGSA |
| Version: 1.14.1 |
| Command: rm -rf MIGSA.buildbin-libdir && mkdir MIGSA.buildbin-libdir && C:\Users\biocbuild\bbs-3.12-bioc\R\bin\R.exe CMD INSTALL --merge-multiarch --build --library=MIGSA.buildbin-libdir MIGSA_1.14.1.tar.gz |
| StartedAt: 2021-05-06 09:31:50 -0400 (Thu, 06 May 2021) |
| EndedAt: 2021-05-06 09:32:37 -0400 (Thu, 06 May 2021) |
| EllapsedTime: 46.5 seconds |
| RetCode: 0 |
| Status: OK |
| PackageFile: MIGSA_1.14.1.zip |
| PackageFileSize: 2.991 MiB |
##############################################################################
##############################################################################
###
### Running command:
###
### rm -rf MIGSA.buildbin-libdir && mkdir MIGSA.buildbin-libdir && C:\Users\biocbuild\bbs-3.12-bioc\R\bin\R.exe CMD INSTALL --merge-multiarch --build --library=MIGSA.buildbin-libdir MIGSA_1.14.1.tar.gz
###
##############################################################################
##############################################################################
install for i386
* installing *source* package 'MIGSA' ...
** using staged installation
** R
** data
** inst
** byte-compile and prepare package for lazy loading
** help
*** installing help indices
converting help for package 'MIGSA'
finding HTML links ... done
ExprData-class html
FitOptions-class html
GSEAparams-class html
Genesets-as.Genesets html
Genesets-enrichr html
Genesets-geneSetsFromFile html
Genesets-loadGo html
IGSAinput-class html
IGSAinput-getDEGenes html
IGSAinput-getterSetters html
MIGSA html
MIGSAPackage html
MIGSAmGSZ html
MIGSAres-GoAnalysis html
MIGSAres-class html
MIGSAres-common html
MIGSAres-genesManipulation html
MIGSAres-getAdditionalInfo html
MIGSAres-plots html
MIGSAres-setEnrCutoff html
SEAparams-class html
bcMigsaRes html
migsaRes html
summaryFunctions html
** building package indices
** installing vignettes
** testing if installed package can be loaded from temporary location
** testing if installed package can be loaded from final location
** testing if installed package keeps a record of temporary installation path
install for x64
* installing *source* package 'MIGSA' ...
** testing if installed package can be loaded
* MD5 sums
packaged installation of 'MIGSA' as MIGSA_1.14.1.zip
* DONE (MIGSA)