| Back to Multiple platform build/check report for BioC 3.12 |
|
This page was generated on 2021-05-06 12:35:36 -0400 (Thu, 06 May 2021).
|
To the developers/maintainers of the MAST package: Please make sure to use the following settings in order to reproduce any error or warning you see on this page. |
| Package 1009/1974 | Hostname | OS / Arch | INSTALL | BUILD | CHECK | BUILD BIN | ||||||||
| MAST 1.16.0 (landing page) Andrew McDavid
| malbec1 | Linux (Ubuntu 18.04.5 LTS) / x86_64 | OK | OK | OK | |||||||||
| tokay1 | Windows Server 2012 R2 Standard / x64 | OK | OK | OK | OK | |||||||||
| merida1 | macOS 10.14.6 Mojave / x86_64 | OK | OK | OK | OK | |||||||||
| Package: MAST |
| Version: 1.16.0 |
| Command: /Library/Frameworks/R.framework/Versions/Current/Resources/bin/R CMD check --install=check:MAST.install-out.txt --library=/Library/Frameworks/R.framework/Versions/Current/Resources/library --no-vignettes --timings MAST_1.16.0.tar.gz |
| StartedAt: 2021-05-06 03:18:39 -0400 (Thu, 06 May 2021) |
| EndedAt: 2021-05-06 03:24:21 -0400 (Thu, 06 May 2021) |
| EllapsedTime: 341.4 seconds |
| RetCode: 0 |
| Status: OK |
| CheckDir: MAST.Rcheck |
| Warnings: 0 |
##############################################################################
##############################################################################
###
### Running command:
###
### /Library/Frameworks/R.framework/Versions/Current/Resources/bin/R CMD check --install=check:MAST.install-out.txt --library=/Library/Frameworks/R.framework/Versions/Current/Resources/library --no-vignettes --timings MAST_1.16.0.tar.gz
###
##############################################################################
##############################################################################
* using log directory ‘/Users/biocbuild/bbs-3.12-bioc/meat/MAST.Rcheck’
* using R version 4.0.5 (2021-03-31)
* using platform: x86_64-apple-darwin17.0 (64-bit)
* using session charset: UTF-8
* using option ‘--no-vignettes’
* checking for file ‘MAST/DESCRIPTION’ ... OK
* checking extension type ... Package
* this is package ‘MAST’ version ‘1.16.0’
* package encoding: UTF-8
* checking package namespace information ... OK
* checking package dependencies ... OK
* checking if this is a source package ... OK
* checking if there is a namespace ... OK
* checking for hidden files and directories ... NOTE
Found the following hidden files and directories:
.travis.yml
These were most likely included in error. See section ‘Package
structure’ in the ‘Writing R Extensions’ manual.
* checking for portable file names ... OK
* checking for sufficient/correct file permissions ... OK
* checking whether package ‘MAST’ can be installed ... OK
* checking installed package size ... NOTE
installed size is 5.0Mb
sub-directories of 1Mb or more:
data 3.7Mb
* checking package directory ... OK
* checking ‘build’ directory ... OK
* checking DESCRIPTION meta-information ... OK
* checking top-level files ... OK
* checking for left-over files ... OK
* checking index information ... OK
* checking package subdirectories ... OK
* checking R files for non-ASCII characters ... OK
* checking R files for syntax errors ... OK
* checking whether the package can be loaded ... OK
* checking whether the package can be loaded with stated dependencies ... OK
* checking whether the package can be unloaded cleanly ... OK
* checking whether the namespace can be loaded with stated dependencies ... OK
* checking whether the namespace can be unloaded cleanly ... OK
* checking dependencies in R code ... OK
* checking S3 generic/method consistency ... OK
* checking replacement functions ... OK
* checking foreign function calls ... OK
* checking R code for possible problems ... OK
* checking Rd files ... OK
* checking Rd metadata ... OK
* checking Rd cross-references ... OK
* checking for missing documentation entries ... OK
* checking for code/documentation mismatches ... OK
* checking Rd \usage sections ... OK
* checking Rd contents ... OK
* checking for unstated dependencies in examples ... OK
* checking contents of ‘data’ directory ... OK
* checking data for non-ASCII characters ... OK
* checking data for ASCII and uncompressed saves ... OK
* checking files in ‘vignettes’ ... OK
* checking examples ... OK
* checking for unstated dependencies in ‘tests’ ... OK
* checking tests ...
Running ‘testthat.R’
OK
* checking for unstated dependencies in vignettes ... OK
* checking package vignettes in ‘inst/doc’ ... OK
* checking running R code from vignettes ... SKIPPED
* checking re-building of vignette outputs ... SKIPPED
* checking PDF version of manual ... OK
* DONE
Status: 2 NOTEs
See
‘/Users/biocbuild/bbs-3.12-bioc/meat/MAST.Rcheck/00check.log’
for details.
MAST.Rcheck/00install.out
############################################################################## ############################################################################## ### ### Running command: ### ### /Library/Frameworks/R.framework/Versions/Current/Resources/bin/R CMD INSTALL MAST ### ############################################################################## ############################################################################## * installing to library ‘/Library/Frameworks/R.framework/Versions/4.0/Resources/library’ * installing *source* package ‘MAST’ ... ** using staged installation ** R ** data *** moving datasets to lazyload DB ** inst ** byte-compile and prepare package for lazy loading ** help *** installing help indices ** building package indices ** installing vignettes ** testing if installed package can be loaded from temporary location ** testing if installed package can be loaded from final location ** testing if installed package keeps a record of temporary installation path * DONE (MAST)
MAST.Rcheck/tests/testthat.Rout
R version 4.0.5 (2021-03-31) -- "Shake and Throw"
Copyright (C) 2021 The R Foundation for Statistical Computing
Platform: x86_64-apple-darwin17.0 (64-bit)
R is free software and comes with ABSOLUTELY NO WARRANTY.
You are welcome to redistribute it under certain conditions.
Type 'license()' or 'licence()' for distribution details.
R is a collaborative project with many contributors.
Type 'contributors()' for more information and
'citation()' on how to cite R or R packages in publications.
Type 'demo()' for some demos, 'help()' for on-line help, or
'help.start()' for an HTML browser interface to help.
Type 'q()' to quit R.
> library(testthat)
> test_check("MAST")
Loading required package: MAST
Loading required package: SingleCellExperiment
Loading required package: SummarizedExperiment
Loading required package: MatrixGenerics
Loading required package: matrixStats
Attaching package: 'MatrixGenerics'
The following objects are masked from 'package:matrixStats':
colAlls, colAnyNAs, colAnys, colAvgsPerRowSet, colCollapse,
colCounts, colCummaxs, colCummins, colCumprods, colCumsums,
colDiffs, colIQRDiffs, colIQRs, colLogSumExps, colMadDiffs,
colMads, colMaxs, colMeans2, colMedians, colMins, colOrderStats,
colProds, colQuantiles, colRanges, colRanks, colSdDiffs, colSds,
colSums2, colTabulates, colVarDiffs, colVars, colWeightedMads,
colWeightedMeans, colWeightedMedians, colWeightedSds,
colWeightedVars, rowAlls, rowAnyNAs, rowAnys, rowAvgsPerColSet,
rowCollapse, rowCounts, rowCummaxs, rowCummins, rowCumprods,
rowCumsums, rowDiffs, rowIQRDiffs, rowIQRs, rowLogSumExps,
rowMadDiffs, rowMads, rowMaxs, rowMeans2, rowMedians, rowMins,
rowOrderStats, rowProds, rowQuantiles, rowRanges, rowRanks,
rowSdDiffs, rowSds, rowSums2, rowTabulates, rowVarDiffs, rowVars,
rowWeightedMads, rowWeightedMeans, rowWeightedMedians,
rowWeightedSds, rowWeightedVars
Loading required package: GenomicRanges
Loading required package: stats4
Loading required package: BiocGenerics
Loading required package: parallel
Attaching package: 'BiocGenerics'
The following objects are masked from 'package:parallel':
clusterApply, clusterApplyLB, clusterCall, clusterEvalQ,
clusterExport, clusterMap, parApply, parCapply, parLapply,
parLapplyLB, parRapply, parSapply, parSapplyLB
The following objects are masked from 'package:stats':
IQR, mad, sd, var, xtabs
The following objects are masked from 'package:base':
Filter, Find, Map, Position, Reduce, anyDuplicated, append,
as.data.frame, basename, cbind, colnames, dirname, do.call,
duplicated, eval, evalq, get, grep, grepl, intersect, is.unsorted,
lapply, mapply, match, mget, order, paste, pmax, pmax.int, pmin,
pmin.int, rank, rbind, rownames, sapply, setdiff, sort, table,
tapply, union, unique, unsplit, which.max, which.min
Loading required package: S4Vectors
Attaching package: 'S4Vectors'
The following object is masked from 'package:base':
expand.grid
Loading required package: IRanges
Loading required package: GenomeInfoDb
Loading required package: Biobase
Welcome to Bioconductor
Vignettes contain introductory material; view with
'browseVignettes()'. To cite Bioconductor, see
'citation("Biobase")', and for packages 'citation("pkgname")'.
Attaching package: 'Biobase'
The following object is masked from 'package:MatrixGenerics':
rowMedians
The following objects are masked from 'package:matrixStats':
anyMissing, rowMedians
Error : number of levels of each grouping factor must be < number of observations (problems: Subject.ID)
(0.0426,0.354] (0.354,0.757] (0.757,1.28] (1.28,1.96] (1.96,2.84]
2.258200 2.258200 2.258200 2.258200 2.258200
(2.84,3.99] (3.99,13.2]
2.258200 3.313588
(0.0602,0.436] (0.436,0.67] (0.67,0.944] (0.944,1.26] (1.26,1.63]
1.967142 1.967142 1.967142 2.003488 2.003488
(1.63,2.06] (2.06,2.56] (2.56,3.83]
2.600202 2.600202 2.600202
(0.03,1.56] (1.56,5.36] (5.36,14.8] (14.8,9.25e+03]
238.2279 238.2279 238.2279 4525.1912
Error : grouping factors must have > 1 sampled level
NULL
NULL
NULL
Error in (function (x, y, weights = rep.int(1, nobs), start = NULL, etastart = NULL, :
NAs in V(mu)
══ Skipped tests ═══════════════════════════════════════════════════════════════
• empty test (4)
[ FAIL 0 | WARN 7 | SKIP 4 | PASS 287 ]
>
> proc.time()
user system elapsed
62.497 1.292 83.099
MAST.Rcheck/MAST-Ex.timings
| name | user | system | elapsed | |
| Drop | 0.000 | 0.000 | 0.001 | |
| FromFlatDF | 1.514 | 0.030 | 1.570 | |
| FromMatrix | 0.304 | 0.013 | 0.318 | |
| Hypothesis | 0.013 | 0.001 | 0.014 | |
| LRT | 0.221 | 0.014 | 0.234 | |
| ZlmFit-class | 1.261 | 0.052 | 1.317 | |
| applyFlat | 0.002 | 0.000 | 0.003 | |
| bootVcov1 | 0.720 | 0.019 | 0.741 | |
| calcZ | 2.063 | 0.036 | 2.106 | |
| collectResiduals | 1.487 | 0.028 | 1.517 | |
| computeEtFromCt | 0.054 | 0.007 | 0.061 | |
| convertMASTClassicToSingleCellAssay | 0.229 | 0.006 | 0.236 | |
| defaultAssay | 0.058 | 0.004 | 0.061 | |
| defaultPrior | 0.001 | 0.000 | 0.000 | |
| expavg | 0.001 | 0.000 | 0.001 | |
| filterLowExpressedGenes | 0.215 | 0.005 | 0.222 | |
| freq | 0.047 | 0.006 | 0.053 | |
| getConcordance | 0.329 | 0.014 | 0.343 | |
| getwellKey | 0.017 | 0.007 | 0.025 | |
| gseaAfterBoot | 1.381 | 0.026 | 1.410 | |
| hushWarning | 0.001 | 0.001 | 0.002 | |
| impute | 1.723 | 0.051 | 1.779 | |
| invlogit | 0.000 | 0.001 | 0.001 | |
| logFC | 0.367 | 0.029 | 0.396 | |
| logmean | 0.001 | 0.000 | 0.001 | |
| lrTest | 0.981 | 0.034 | 1.019 | |
| mast_filter | 1.182 | 0.014 | 1.198 | |
| melt.SingleCellAssay | 0.332 | 0.010 | 0.342 | |
| plot.thresholdSCRNACountMatrix | 0.695 | 0.030 | 0.726 | |
| plotSCAConcordance | 0.809 | 0.046 | 0.856 | |
| predict.ZlmFit | 1.558 | 0.023 | 1.584 | |
| se.coef | 0.958 | 0.030 | 1.108 | |
| split-SingleCellAssay-character-method | 0.627 | 0.014 | 0.642 | |
| stat_ell | 1.492 | 0.010 | 1.506 | |
| subset-SingleCellAssay-method | 0.200 | 0.004 | 0.206 | |
| summary-GSEATests-method | 1.618 | 0.021 | 1.645 | |
| summary-ZlmFit-method | 0.276 | 0.007 | 0.284 | |
| thresholdSCRNACountMatrix | 0.594 | 0.013 | 0.611 | |
| waldTest | 0.761 | 0.025 | 0.788 | |
| zlm | 0.412 | 0.008 | 0.424 | |