| Back to Multiple platform build/check report for BioC 3.12 |
|
This page was generated on 2021-05-06 12:31:59 -0400 (Thu, 06 May 2021).
|
To the developers/maintainers of the Logolas package: Please make sure to use the following settings in order to reproduce any error or warning you see on this page. |
| Package 969/1974 | Hostname | OS / Arch | INSTALL | BUILD | CHECK | BUILD BIN | ||||||||
Kushal Dey
| malbec1 | Linux (Ubuntu 18.04.5 LTS) / x86_64 | OK | OK | ERROR | |||||||||
| tokay1 | Windows Server 2012 R2 Standard / x64 | OK | OK | ERROR | OK | |||||||||
| merida1 | macOS 10.14.6 Mojave / x86_64 | OK | OK | ERROR | OK | |||||||||
| Package: Logolas |
| Version: 1.14.0 |
| Command: rm -rf Logolas.buildbin-libdir && mkdir Logolas.buildbin-libdir && C:\Users\biocbuild\bbs-3.12-bioc\R\bin\R.exe CMD INSTALL --merge-multiarch --build --library=Logolas.buildbin-libdir Logolas_1.14.0.tar.gz |
| StartedAt: 2021-05-06 09:24:33 -0400 (Thu, 06 May 2021) |
| EndedAt: 2021-05-06 09:25:17 -0400 (Thu, 06 May 2021) |
| EllapsedTime: 43.7 seconds |
| RetCode: 0 |
| Status: OK |
| PackageFile: Logolas_1.14.0.zip |
| PackageFileSize: 1.165 MiB |
##############################################################################
##############################################################################
###
### Running command:
###
### rm -rf Logolas.buildbin-libdir && mkdir Logolas.buildbin-libdir && C:\Users\biocbuild\bbs-3.12-bioc\R\bin\R.exe CMD INSTALL --merge-multiarch --build --library=Logolas.buildbin-libdir Logolas_1.14.0.tar.gz
###
##############################################################################
##############################################################################
install for i386
* installing *source* package 'Logolas' ...
** using staged installation
** R
** data
*** moving datasets to lazyload DB
** demo
** inst
** byte-compile and prepare package for lazy loading
** help
*** installing help indices
converting help for package 'Logolas'
finding HTML links ... done
EBF1_disc1 html
GetConsensusSeq html
UMI html
aRxiv html
get_logo_heights html
get_plot html
get_viewport_logo html
himalayan_fauna html
histone_marks html
logo_pssm html
logomaker html
makemylogo html
mutation_sig html
nlogomaker html
plogomaker html
pssm html
seqlogo_example html
** building package indices
** installing vignettes
** testing if installed package can be loaded from temporary location
Warning: Package 'Logolas' is deprecated and will be removed from Bioconductor
version 3.13
** testing if installed package can be loaded from final location
Warning: Package 'Logolas' is deprecated and will be removed from Bioconductor
version 3.13
** testing if installed package keeps a record of temporary installation path
install for x64
* installing *source* package 'Logolas' ...
** testing if installed package can be loaded
Warning: Package 'Logolas' is deprecated and will be removed from Bioconductor
version 3.13
* MD5 sums
packaged installation of 'Logolas' as Logolas_1.14.0.zip
* DONE (Logolas)