| Back to Multiple platform build/check report for BioC 3.12 |
|
This page was generated on 2021-05-06 12:32:01 -0400 (Thu, 06 May 2021).
|
To the developers/maintainers of the LPEadj package: Please make sure to use the following settings in order to reproduce any error or warning you see on this page. |
| Package 974/1974 | Hostname | OS / Arch | INSTALL | BUILD | CHECK | BUILD BIN | ||||||||
| LPEadj 1.50.0 (landing page) Carl Murie
| malbec1 | Linux (Ubuntu 18.04.5 LTS) / x86_64 | OK | OK | OK | |||||||||
| tokay1 | Windows Server 2012 R2 Standard / x64 | OK | OK | OK | OK | |||||||||
| merida1 | macOS 10.14.6 Mojave / x86_64 | OK | OK | OK | OK | |||||||||
| Package: LPEadj |
| Version: 1.50.0 |
| Command: rm -rf LPEadj.buildbin-libdir && mkdir LPEadj.buildbin-libdir && C:\Users\biocbuild\bbs-3.12-bioc\R\bin\R.exe CMD INSTALL --merge-multiarch --build --library=LPEadj.buildbin-libdir LPEadj_1.50.0.tar.gz |
| StartedAt: 2021-05-06 09:24:52 -0400 (Thu, 06 May 2021) |
| EndedAt: 2021-05-06 09:25:35 -0400 (Thu, 06 May 2021) |
| EllapsedTime: 42.5 seconds |
| RetCode: 0 |
| Status: OK |
| PackageFile: LPEadj_1.50.0.zip |
| PackageFileSize: 532.6 KiB |
##############################################################################
##############################################################################
###
### Running command:
###
### rm -rf LPEadj.buildbin-libdir && mkdir LPEadj.buildbin-libdir && C:\Users\biocbuild\bbs-3.12-bioc\R\bin\R.exe CMD INSTALL --merge-multiarch --build --library=LPEadj.buildbin-libdir LPEadj_1.50.0.tar.gz
###
##############################################################################
##############################################################################
install for i386
* installing *source* package 'LPEadj' ...
** using staged installation
** R
** inst
** byte-compile and prepare package for lazy loading
** help
*** installing help indices
converting help for package 'LPEadj'
finding HTML links ... done
adjBaseOlig.error html
adjBaseOlig.error.step1 html
adjBaseOlig.error.step2 html
calculateLpeAdj html
lpeAdj html
** building package indices
** installing vignettes
** testing if installed package can be loaded from temporary location
** testing if installed package can be loaded from final location
** testing if installed package keeps a record of temporary installation path
install for x64
* installing *source* package 'LPEadj' ...
** testing if installed package can be loaded
* MD5 sums
packaged installation of 'LPEadj' as LPEadj_1.50.0.zip
* DONE (LPEadj)