| Back to Multiple platform build/check report for BioC 3.12 |
|
This page was generated on 2021-05-06 12:31:58 -0400 (Thu, 06 May 2021).
|
To the developers/maintainers of the LOBSTAHS package: Please make sure to use the following settings in order to reproduce any error or warning you see on this page. |
| Package 965/1974 | Hostname | OS / Arch | INSTALL | BUILD | CHECK | BUILD BIN | ||||||||
| LOBSTAHS 1.16.0 (landing page) James Collins
| malbec1 | Linux (Ubuntu 18.04.5 LTS) / x86_64 | OK | OK | WARNINGS | |||||||||
| tokay1 | Windows Server 2012 R2 Standard / x64 | OK | OK | WARNINGS | OK | |||||||||
| merida1 | macOS 10.14.6 Mojave / x86_64 | OK | OK | WARNINGS | OK | |||||||||
| Package: LOBSTAHS |
| Version: 1.16.0 |
| Command: rm -rf LOBSTAHS.buildbin-libdir && mkdir LOBSTAHS.buildbin-libdir && C:\Users\biocbuild\bbs-3.12-bioc\R\bin\R.exe CMD INSTALL --merge-multiarch --build --library=LOBSTAHS.buildbin-libdir LOBSTAHS_1.16.0.tar.gz |
| StartedAt: 2021-05-06 09:24:19 -0400 (Thu, 06 May 2021) |
| EndedAt: 2021-05-06 09:25:48 -0400 (Thu, 06 May 2021) |
| EllapsedTime: 89.5 seconds |
| RetCode: 0 |
| Status: OK |
| PackageFile: LOBSTAHS_1.16.0.zip |
| PackageFileSize: 2.472 MiB |
##############################################################################
##############################################################################
###
### Running command:
###
### rm -rf LOBSTAHS.buildbin-libdir && mkdir LOBSTAHS.buildbin-libdir && C:\Users\biocbuild\bbs-3.12-bioc\R\bin\R.exe CMD INSTALL --merge-multiarch --build --library=LOBSTAHS.buildbin-libdir LOBSTAHS_1.16.0.tar.gz
###
##############################################################################
##############################################################################
install for i386
* installing *source* package 'LOBSTAHS' ...
** using staged installation
** R
** data
** inst
** byte-compile and prepare package for lazy loading
Creating a new generic function for 'polarity<-' in package 'LOBSTAHS'
** help
*** installing help indices
converting help for package 'LOBSTAHS'
finding HTML links ... done
LOBSet-class html
finding level-2 HTML links ... done
LOBSet html
LOBdbase-class html
LOBdbase html
LOBdefaults html
doLOBscreen html
Rd warning: C:/Users/biocbuild/bbs-3.12-bioc/tmpdir/RtmpslzEW5/R.INSTALL4210ac2555e/LOBSTAHS/man/doLOBscreen.Rd:20: file link 'findIsotopes' in package 'CAMERA' does not exist and so has been treated as a topic
Rd warning: C:/Users/biocbuild/bbs-3.12-bioc/tmpdir/RtmpslzEW5/R.INSTALL4210ac2555e/LOBSTAHS/man/doLOBscreen.Rd:41: file link 'findIsotopes' in package 'CAMERA' does not exist and so has been treated as a topic
Rd warning: C:/Users/biocbuild/bbs-3.12-bioc/tmpdir/RtmpslzEW5/R.INSTALL4210ac2555e/LOBSTAHS/man/doLOBscreen.Rd:125: file link 'findIsotopes' in package 'CAMERA' does not exist and so has been treated as a topic
exportDBtoCSV html
extractLOBdbasedata html
generateLOBdbase html
getLOBpeaklist html
loadLOBdbase html
** building package indices
** installing vignettes
** testing if installed package can be loaded from temporary location
Warning: multiple methods tables found for 'polarity<-'
** testing if installed package can be loaded from final location
Warning: multiple methods tables found for 'polarity<-'
** testing if installed package keeps a record of temporary installation path
install for x64
* installing *source* package 'LOBSTAHS' ...
** testing if installed package can be loaded
Warning: multiple methods tables found for 'polarity<-'
* MD5 sums
packaged installation of 'LOBSTAHS' as LOBSTAHS_1.16.0.zip
* DONE (LOBSTAHS)