| Back to Multiple platform build/check report for BioC 3.12 |
|
This page was generated on 2021-05-06 12:35:27 -0400 (Thu, 06 May 2021).
|
To the developers/maintainers of the KEGGREST package: Please make sure to use the following settings in order to reproduce any error or warning you see on this page. |
| Package 941/1974 | Hostname | OS / Arch | INSTALL | BUILD | CHECK | BUILD BIN | ||||||||
| KEGGREST 1.30.1 (landing page) Bioconductor Package Maintainer
| malbec1 | Linux (Ubuntu 18.04.5 LTS) / x86_64 | OK | OK | ERROR | |||||||||
| tokay1 | Windows Server 2012 R2 Standard / x64 | OK | OK | ERROR | OK | |||||||||
| merida1 | macOS 10.14.6 Mojave / x86_64 | OK | OK | ERROR | OK | |||||||||
| Package: KEGGREST |
| Version: 1.30.1 |
| Command: /Library/Frameworks/R.framework/Versions/Current/Resources/bin/R CMD check --install=check:KEGGREST.install-out.txt --library=/Library/Frameworks/R.framework/Versions/Current/Resources/library --no-vignettes --timings KEGGREST_1.30.1.tar.gz |
| StartedAt: 2021-05-06 03:05:04 -0400 (Thu, 06 May 2021) |
| EndedAt: 2021-05-06 03:07:58 -0400 (Thu, 06 May 2021) |
| EllapsedTime: 173.9 seconds |
| RetCode: 1 |
| Status: ERROR |
| CheckDir: KEGGREST.Rcheck |
| Warnings: NA |
##############################################################################
##############################################################################
###
### Running command:
###
### /Library/Frameworks/R.framework/Versions/Current/Resources/bin/R CMD check --install=check:KEGGREST.install-out.txt --library=/Library/Frameworks/R.framework/Versions/Current/Resources/library --no-vignettes --timings KEGGREST_1.30.1.tar.gz
###
##############################################################################
##############################################################################
* using log directory ‘/Users/biocbuild/bbs-3.12-bioc/meat/KEGGREST.Rcheck’
* using R version 4.0.5 (2021-03-31)
* using platform: x86_64-apple-darwin17.0 (64-bit)
* using session charset: UTF-8
* using option ‘--no-vignettes’
* checking for file ‘KEGGREST/DESCRIPTION’ ... OK
* this is package ‘KEGGREST’ version ‘1.30.1’
* checking package namespace information ... OK
* checking package dependencies ... OK
* checking if this is a source package ... OK
* checking if there is a namespace ... OK
* checking for hidden files and directories ... OK
* checking for portable file names ... OK
* checking for sufficient/correct file permissions ... OK
* checking whether package ‘KEGGREST’ can be installed ... OK
* checking installed package size ... OK
* checking package directory ... OK
* checking ‘build’ directory ... OK
* checking DESCRIPTION meta-information ... OK
* checking top-level files ... OK
* checking for left-over files ... OK
* checking index information ... OK
* checking package subdirectories ... OK
* checking R files for non-ASCII characters ... OK
* checking R files for syntax errors ... OK
* checking whether the package can be loaded ... OK
* checking whether the package can be loaded with stated dependencies ... OK
* checking whether the package can be unloaded cleanly ... OK
* checking whether the namespace can be loaded with stated dependencies ... OK
* checking whether the namespace can be unloaded cleanly ... OK
* checking dependencies in R code ... OK
* checking S3 generic/method consistency ... OK
* checking replacement functions ... OK
* checking foreign function calls ... OK
* checking R code for possible problems ... OK
* checking Rd files ... OK
* checking Rd metadata ... OK
* checking Rd cross-references ... OK
* checking for missing documentation entries ... OK
* checking for code/documentation mismatches ... OK
* checking Rd \usage sections ... OK
* checking Rd contents ... OK
* checking for unstated dependencies in examples ... OK
* checking files in ‘vignettes’ ... OK
* checking examples ... OK
Examples with CPU (user + system) or elapsed time > 5s
user system elapsed
mark.pathway.by.objects 5.815 0.410 9.306
keggLink 0.555 0.037 5.579
keggList 0.428 0.054 10.290
listDatabases 0.370 0.035 8.105
* checking for unstated dependencies in ‘tests’ ... OK
* checking tests ...
Running ‘KEGGREST_unit_tests.R’
ERROR
Running the tests in ‘tests/KEGGREST_unit_tests.R’ failed.
Last 13 lines of output:
KEGGREST RUnit Tests - 11 test functions, 1 error, 1 failure
FAILURE in test_keggGet_2: Error in checkTrue(class(res) == "character") : Test not TRUE
ERROR in test_listDatabases: Error in .getUrl(url, .textParser) : Bad Request (HTTP 400).
Test files with failing tests
test_KEGGREST.R
test_keggGet_2
test_listDatabases
Error in BiocGenerics:::testPackage("KEGGREST") :
unit tests failed for package KEGGREST
Execution halted
* checking for unstated dependencies in vignettes ... OK
* checking package vignettes in ‘inst/doc’ ... OK
* checking running R code from vignettes ... SKIPPED
* checking re-building of vignette outputs ... SKIPPED
* checking PDF version of manual ... OK
* DONE
Status: 1 ERROR
See
‘/Users/biocbuild/bbs-3.12-bioc/meat/KEGGREST.Rcheck/00check.log’
for details.
KEGGREST.Rcheck/00install.out
############################################################################## ############################################################################## ### ### Running command: ### ### /Library/Frameworks/R.framework/Versions/Current/Resources/bin/R CMD INSTALL KEGGREST ### ############################################################################## ############################################################################## * installing to library ‘/Library/Frameworks/R.framework/Versions/4.0/Resources/library’ * installing *source* package ‘KEGGREST’ ... ** using staged installation ** R ** inst ** byte-compile and prepare package for lazy loading ** help *** installing help indices ** building package indices ** installing vignettes ** testing if installed package can be loaded from temporary location ** testing if installed package can be loaded from final location ** testing if installed package keeps a record of temporary installation path * DONE (KEGGREST)
KEGGREST.Rcheck/tests/KEGGREST_unit_tests.Rout.fail
R version 4.0.5 (2021-03-31) -- "Shake and Throw"
Copyright (C) 2021 The R Foundation for Statistical Computing
Platform: x86_64-apple-darwin17.0 (64-bit)
R is free software and comes with ABSOLUTELY NO WARRANTY.
You are welcome to redistribute it under certain conditions.
Type 'license()' or 'licence()' for distribution details.
R is a collaborative project with many contributors.
Type 'contributors()' for more information and
'citation()' on how to cite R or R packages in publications.
Type 'demo()' for some demos, 'help()' for on-line help, or
'help.start()' for an HTML browser interface to help.
Type 'q()' to quit R.
> BiocGenerics:::testPackage("KEGGREST")
Timing stopped at: 0.114 0.001 1.521
Error in checkTrue(class(res) == "character") : Test not TRUE
Timing stopped at: 0.111 0.003 6.392
Error in .getUrl(url, .textParser) : Bad Request (HTTP 400).
No encoding supplied: defaulting to UTF-8.
RUNIT TEST PROTOCOL -- Thu May 6 03:07:48 2021
***********************************************
Number of test functions: 11
Number of errors: 1
Number of failures: 1
1 Test Suite :
KEGGREST RUnit Tests - 11 test functions, 1 error, 1 failure
FAILURE in test_keggGet_2: Error in checkTrue(class(res) == "character") : Test not TRUE
ERROR in test_listDatabases: Error in .getUrl(url, .textParser) : Bad Request (HTTP 400).
Test files with failing tests
test_KEGGREST.R
test_keggGet_2
test_listDatabases
Error in BiocGenerics:::testPackage("KEGGREST") :
unit tests failed for package KEGGREST
Execution halted
KEGGREST.Rcheck/KEGGREST-Ex.timings
| name | user | system | elapsed | |
| keggConv | 0.194 | 0.015 | 2.213 | |
| keggFind | 0.054 | 0.003 | 2.139 | |
| keggGet | 2.040 | 0.136 | 3.591 | |
| keggInfo | 0.021 | 0.001 | 1.162 | |
| keggLink | 0.555 | 0.037 | 5.579 | |
| keggList | 0.428 | 0.054 | 10.290 | |
| listDatabases | 0.370 | 0.035 | 8.105 | |
| mark.pathway.by.objects | 5.815 | 0.410 | 9.306 | |