| Back to Multiple platform build/check report for BioC 3.12 |
|
This page was generated on 2021-05-06 12:35:25 -0400 (Thu, 06 May 2021).
|
To the developers/maintainers of the IsoformSwitchAnalyzeR package: Please make sure to use the following settings in order to reproduce any error or warning you see on this page. |
| Package 920/1974 | Hostname | OS / Arch | INSTALL | BUILD | CHECK | BUILD BIN | ||||||||
| IsoformSwitchAnalyzeR 1.12.0 (landing page) Kristoffer Vitting-Seerup
| malbec1 | Linux (Ubuntu 18.04.5 LTS) / x86_64 | OK | OK | OK | |||||||||
| tokay1 | Windows Server 2012 R2 Standard / x64 | OK | OK | OK | OK | |||||||||
| merida1 | macOS 10.14.6 Mojave / x86_64 | OK | OK | OK | OK | |||||||||
| Package: IsoformSwitchAnalyzeR |
| Version: 1.12.0 |
| Command: /Library/Frameworks/R.framework/Versions/Current/Resources/bin/R CMD check --install=check:IsoformSwitchAnalyzeR.install-out.txt --library=/Library/Frameworks/R.framework/Versions/Current/Resources/library --no-vignettes --timings IsoformSwitchAnalyzeR_1.12.0.tar.gz |
| StartedAt: 2021-05-06 02:59:37 -0400 (Thu, 06 May 2021) |
| EndedAt: 2021-05-06 03:12:54 -0400 (Thu, 06 May 2021) |
| EllapsedTime: 797.3 seconds |
| RetCode: 0 |
| Status: OK |
| CheckDir: IsoformSwitchAnalyzeR.Rcheck |
| Warnings: 0 |
##############################################################################
##############################################################################
###
### Running command:
###
### /Library/Frameworks/R.framework/Versions/Current/Resources/bin/R CMD check --install=check:IsoformSwitchAnalyzeR.install-out.txt --library=/Library/Frameworks/R.framework/Versions/Current/Resources/library --no-vignettes --timings IsoformSwitchAnalyzeR_1.12.0.tar.gz
###
##############################################################################
##############################################################################
* using log directory ‘/Users/biocbuild/bbs-3.12-bioc/meat/IsoformSwitchAnalyzeR.Rcheck’
* using R version 4.0.5 (2021-03-31)
* using platform: x86_64-apple-darwin17.0 (64-bit)
* using session charset: UTF-8
* using option ‘--no-vignettes’
* checking for file ‘IsoformSwitchAnalyzeR/DESCRIPTION’ ... OK
* checking extension type ... Package
* this is package ‘IsoformSwitchAnalyzeR’ version ‘1.12.0’
* checking package namespace information ... OK
* checking package dependencies ... OK
* checking if this is a source package ... OK
* checking if there is a namespace ... OK
* checking for hidden files and directories ... OK
* checking for portable file names ... OK
* checking for sufficient/correct file permissions ... OK
* checking whether package ‘IsoformSwitchAnalyzeR’ can be installed ... OK
* checking installed package size ... NOTE
installed size is 6.3Mb
sub-directories of 1Mb or more:
R 1.0Mb
extdata 4.2Mb
* checking package directory ... OK
* checking ‘build’ directory ... OK
* checking DESCRIPTION meta-information ... NOTE
Malformed Title field: should not end in a period.
* checking top-level files ... OK
* checking for left-over files ... OK
* checking index information ... OK
* checking package subdirectories ... OK
* checking R files for non-ASCII characters ... OK
* checking R files for syntax errors ... OK
* checking whether the package can be loaded ... OK
* checking whether the package can be loaded with stated dependencies ... OK
* checking whether the package can be unloaded cleanly ... OK
* checking whether the namespace can be loaded with stated dependencies ... OK
* checking whether the namespace can be unloaded cleanly ... OK
* checking dependencies in R code ... OK
* checking S3 generic/method consistency ... OK
* checking replacement functions ... OK
* checking foreign function calls ... OK
* checking R code for possible problems ... NOTE
analyzeIUPred2A: no visible global function definition for 'queryHits'
analyzeIUPred2A: no visible global function definition for
'subjectHits'
compareAnnotationOfTwoIsoforms: no visible global function definition
for 'queryHits'
compareAnnotationOfTwoIsoforms: no visible global function definition
for 'subjectHits'
createSwitchAnalyzeRlist: no visible global function definition for
'package.version'
expressionAnalysisPlot: no visible binding for global variable
'Condition'
expressionAnalysisPlot: no visible binding for global variable
'gene_expression'
expressionAnalysisPlot: no visible binding for global variable 'CI_up'
expressionAnalysisPlot: no visible binding for global variable
'CI_down'
expressionAnalysisPlot: no visible binding for global variable
'sigLevelPos'
expressionAnalysisPlot: no visible binding for global variable
'sigLevel'
expressionAnalysisPlot: no visible binding for global variable 'CI_hi'
expressionAnalysisPlot: no visible binding for global variable 'CI_low'
expressionAnalysisPlot: no visible binding for global variable 'ymax'
expressionAnalysisPlot: no visible binding for global variable
'sigEval'
expressionAnalysisPlot: no visible binding for global variable 'idNr'
expressionAnalysisPlot: no visible binding for global variable 'IF'
extractConsequenceEnrichment: no visible binding for global variable
'feature2'
extractConsequenceEnrichment: no visible binding for global variable
'propOfRelevantEvents'
extractConsequenceEnrichment: no visible binding for global variable
'Significant'
extractConsequenceEnrichment: no visible binding for global variable
'propCiLo'
extractConsequenceEnrichment: no visible binding for global variable
'propCiHi'
extractConsequenceEnrichment: no visible binding for global variable
'nTot'
extractConsequenceEnrichmentComparison: no visible binding for global
variable 'Comparison'
extractConsequenceEnrichmentComparison: no visible binding for global
variable 'propOfRelevantEvents'
extractConsequenceEnrichmentComparison: no visible binding for global
variable 'Significant'
extractConsequenceEnrichmentComparison: no visible binding for global
variable 'nTot'
extractConsequenceEnrichmentComparison: no visible binding for global
variable 'propCiHi'
extractConsequenceEnrichmentComparison: no visible binding for global
variable 'propCiLo'
extractConsequenceGenomeWide: no visible binding for global variable
'isoform_feature'
extractConsequenceGenomeWide: no visible binding for global variable
'value'
extractConsequenceGenomeWide: no visible binding for global variable
'variable'
extractConsequenceGenomeWide: no visible binding for global variable
'ymax'
extractConsequenceGenomeWide: no visible binding for global variable
'significance'
extractConsequenceGenomeWide: no visible binding for global variable
'idNr'
extractConsequenceSummary: no visible binding for global variable
'switchConsequence'
extractConsequenceSummary: no visible binding for global variable
'geneFraction'
extractConsequenceSummary: no visible binding for global variable
'nrGenesWithConsequences'
extractConsequenceSummary: no visible binding for global variable
'isoFraction'
extractConsequenceSummary: no visible binding for global variable
'nrIsoWithConsequences'
extractSplicingEnrichment: no visible binding for global variable
'AStype'
extractSplicingEnrichment: no visible binding for global variable
'propUp'
extractSplicingEnrichment: no visible binding for global variable
'Significant'
extractSplicingEnrichment: no visible binding for global variable
'nTot'
extractSplicingEnrichment: no visible binding for global variable
'propUpCiHi'
extractSplicingEnrichment: no visible binding for global variable
'propUpCiLo'
extractSplicingEnrichmentComparison: no visible binding for global
variable 'Comparison'
extractSplicingEnrichmentComparison: no visible binding for global
variable 'propUp'
extractSplicingEnrichmentComparison: no visible binding for global
variable 'Significant'
extractSplicingEnrichmentComparison: no visible binding for global
variable 'nTot'
extractSplicingEnrichmentComparison: no visible binding for global
variable 'propUpCiHi'
extractSplicingEnrichmentComparison: no visible binding for global
variable 'propUpCiLo'
extractSplicingGenomeWide: no visible binding for global variable
'isoform_feature'
extractSplicingGenomeWide: no visible binding for global variable
'value'
extractSplicingGenomeWide: no visible binding for global variable
'variable'
extractSplicingGenomeWide: no visible binding for global variable
'ymax'
extractSplicingGenomeWide: no visible binding for global variable
'significance'
extractSplicingGenomeWide: no visible binding for global variable
'idNr'
extractSplicingSummary: no visible binding for global variable
'splicingResult'
extractSplicingSummary: no visible binding for global variable
'geneFraction'
extractSplicingSummary: no visible binding for global variable
'nrGenesWithConsequences'
extractSplicingSummary: no visible binding for global variable
'isoFraction'
extractSplicingSummary: no visible binding for global variable
'nrIsoWithConsequences'
grangesFracOverlap: no visible global function definition for
'queryHits'
grangesFracOverlap: no visible global function definition for
'subjectHits'
importGTF: no visible binding for global variable 'gene_id'
importGTF: no visible binding for global variable 'gene_name'
importRdata: no visible binding for global variable 'isoform_id'
importRdata: no visible binding for global variable 'gene_id'
importRdata: no visible binding for global variable 'gene_name'
importRdata: no visible binding for global variable 'n_gene_names'
importRdata: no visible binding for global variable 'n_iso_na'
importRdata: no visible global function definition for 'queryHits'
importRdata: no visible global function definition for 'subjectHits'
importRdata: no visible binding for global variable 'novel_iso'
importRdata: no visible binding for global variable 'known_gene_name'
importRdata: no visible binding for global variable 'nt_overlap'
importRdata: no visible binding for global variable 'frac_overlap'
importRdata: no visible binding for global variable
'log2_overlap_ratio'
importRdata: no visible binding for global variable 'has_gene_name'
importRdata: no visible binding for global variable 'has_novel_iso'
importSalmonData: no visible global function definition for 'metadata'
importSalmonData: no visible global function definition for 'assay'
isoformToGeneExp: no visible binding for global variable 'gene_id'
isoformToGeneExp: no visible binding for global variable 'gene_name'
isoformToGeneExp: no visible binding for global variable 'isoform_id'
preFilter: no visible global function definition for 'setdff'
switchPlotTranscript: no visible global function definition for
'queryHits'
switchPlotTranscript: no visible binding for global variable 'y'
switchPlotTranscript: no visible binding for global variable 'yend'
switchPlotTranscript: no visible binding for global variable 'x'
switchPlotTranscript: no visible binding for global variable 'ymin'
switchPlotTranscript: no visible binding for global variable 'xmin'
switchPlotTranscript: no visible binding for global variable 'ymax'
switchPlotTranscript: no visible binding for global variable 'xmax'
switchPlotTranscript: no visible binding for global variable 'Domain'
Undefined global functions or variables:
AStype CI_down CI_hi CI_low CI_up Comparison Condition Domain IF
Significant assay feature2 frac_overlap geneFraction gene_expression
gene_id gene_name has_gene_name has_novel_iso idNr isoFraction
isoform_feature isoform_id known_gene_name log2_overlap_ratio
metadata nTot n_gene_names n_iso_na novel_iso nrGenesWithConsequences
nrIsoWithConsequences nt_overlap package.version propCiHi propCiLo
propOfRelevantEvents propUp propUpCiHi propUpCiLo queryHits setdff
sigEval sigLevel sigLevelPos significance splicingResult subjectHits
switchConsequence value variable x xmax xmin y yend ymax ymin
* checking Rd files ... OK
* checking Rd metadata ... OK
* checking Rd cross-references ... OK
* checking for missing documentation entries ... OK
* checking for code/documentation mismatches ... OK
* checking Rd \usage sections ... OK
* checking Rd contents ... OK
* checking for unstated dependencies in examples ... OK
* checking contents of ‘data’ directory ... OK
* checking data for non-ASCII characters ... OK
* checking data for ASCII and uncompressed saves ... OK
* checking line endings in C/C++/Fortran sources/headers ... OK
* checking compiled code ... NOTE
Note: information on .o files is not available
* checking files in ‘vignettes’ ... OK
* checking examples ... OK
Examples with CPU (user + system) or elapsed time > 5s
user system elapsed
IsoformSwitchTestDEXSeq 48.859 0.512 49.451
importSalmonData 43.893 1.641 62.412
importCufflinksGalaxyData 36.561 0.296 36.994
IsoformSwitchTestDRIMSeq 26.750 0.125 27.214
prepareSalmonFilesDataFrame 18.611 0.316 24.172
isoformSwitchAnalysisCombined 18.580 0.312 18.917
extractSequence 16.726 0.131 16.882
analyzeORF 14.124 0.069 14.206
isoformSwitchAnalysisPart1 13.571 0.076 13.662
extractTopSwitches 13.252 0.089 13.356
extractSwitchSummary 12.249 0.056 12.318
analyzeAlternativSplicing 11.131 0.035 11.179
isoformSwitchAnalysisPart2 8.808 0.098 8.916
* checking for unstated dependencies in vignettes ... OK
* checking package vignettes in ‘inst/doc’ ... OK
* checking running R code from vignettes ... SKIPPED
* checking re-building of vignette outputs ... SKIPPED
* checking PDF version of manual ... OK
* DONE
Status: 4 NOTEs
See
‘/Users/biocbuild/bbs-3.12-bioc/meat/IsoformSwitchAnalyzeR.Rcheck/00check.log’
for details.
IsoformSwitchAnalyzeR.Rcheck/00install.out
############################################################################## ############################################################################## ### ### Running command: ### ### /Library/Frameworks/R.framework/Versions/Current/Resources/bin/R CMD INSTALL IsoformSwitchAnalyzeR ### ############################################################################## ############################################################################## * installing to library ‘/Library/Frameworks/R.framework/Versions/4.0/Resources/library’ * installing *source* package ‘IsoformSwitchAnalyzeR’ ... ** using staged installation ** libs clang -mmacosx-version-min=10.13 -I"/Library/Frameworks/R.framework/Resources/include" -DNDEBUG -I/usr/local/include -fPIC -Wall -g -O2 -c utils.c -o utils.o clang -mmacosx-version-min=10.13 -dynamiclib -Wl,-headerpad_max_install_names -undefined dynamic_lookup -single_module -multiply_defined suppress -L/Library/Frameworks/R.framework/Resources/lib -L/usr/local/lib -o IsoformSwitchAnalyzeR.so utils.o -F/Library/Frameworks/R.framework/.. -framework R -Wl,-framework -Wl,CoreFoundation installing to /Library/Frameworks/R.framework/Versions/4.0/Resources/library/00LOCK-IsoformSwitchAnalyzeR/00new/IsoformSwitchAnalyzeR/libs ** R ** data ** inst ** byte-compile and prepare package for lazy loading ** help *** installing help indices ** building package indices ** installing vignettes ** testing if installed package can be loaded from temporary location ** checking absolute paths in shared objects and dynamic libraries ** testing if installed package can be loaded from final location ** testing if installed package keeps a record of temporary installation path * DONE (IsoformSwitchAnalyzeR)
IsoformSwitchAnalyzeR.Rcheck/IsoformSwitchAnalyzeR-Ex.timings
| name | user | system | elapsed | |
| IsoformSwitchTestDEXSeq | 48.859 | 0.512 | 49.451 | |
| IsoformSwitchTestDRIMSeq | 26.750 | 0.125 | 27.214 | |
| analyzeAlternativSplicing | 11.131 | 0.035 | 11.179 | |
| analyzeCPAT | 0.080 | 0.006 | 0.087 | |
| analyzeCPC2 | 0.059 | 0.003 | 0.061 | |
| analyzeIUPred2A | 3.280 | 0.043 | 3.328 | |
| analyzeORF | 14.124 | 0.069 | 14.206 | |
| analyzePFAM | 0.773 | 0.007 | 0.782 | |
| analyzeSignalP | 0.154 | 0.005 | 0.160 | |
| analyzeSwitchConsequences | 1.356 | 0.016 | 1.373 | |
| expressionAnalysisPlots | 1.246 | 0.008 | 1.258 | |
| extractConsequenceEnrichment | 0.669 | 0.010 | 0.680 | |
| extractConsequenceEnrichmentComparison | 1.056 | 0.008 | 1.066 | |
| extractConsequenceSummary | 1.034 | 0.006 | 1.042 | |
| extractGeneExpression | 0.062 | 0.003 | 0.064 | |
| extractGenomeWideAnalysis | 3.412 | 0.071 | 3.486 | |
| extractGenomeWideSplicingAnalysis | 3.215 | 0.049 | 3.268 | |
| extractSequence | 16.726 | 0.131 | 16.882 | |
| extractSplicingEnrichment | 1.930 | 0.030 | 1.964 | |
| extractSplicingEnrichmentComparison | 2.161 | 0.028 | 2.194 | |
| extractSplicingSummary | 1.439 | 0.008 | 1.448 | |
| extractSwitchOverlap | 0.628 | 0.011 | 0.640 | |
| extractSwitchSummary | 12.249 | 0.056 | 12.318 | |
| extractTopSwitches | 13.252 | 0.089 | 13.356 | |
| getCDS | 0.001 | 0.001 | 0.001 | |
| importCufflinksGalaxyData | 36.561 | 0.296 | 36.994 | |
| importGTF | 1.189 | 0.005 | 1.195 | |
| importIsoformExpression | 0.780 | 0.024 | 0.805 | |
| importRdata | 2.234 | 0.043 | 2.281 | |
| importSalmonData | 43.893 | 1.641 | 62.412 | |
| isoformSwitchAnalysisCombined | 18.580 | 0.312 | 18.917 | |
| isoformSwitchAnalysisPart1 | 13.571 | 0.076 | 13.662 | |
| isoformSwitchAnalysisPart2 | 8.808 | 0.098 | 8.916 | |
| isoformToGeneExp | 2.602 | 0.103 | 2.708 | |
| isoformToIsoformFraction | 0.289 | 0.012 | 0.301 | |
| preFilter | 0.031 | 0.004 | 0.036 | |
| prepareSalmonFilesDataFrame | 18.611 | 0.316 | 24.172 | |
| subsetSwitchAnalyzeRlist | 0.032 | 0.003 | 0.034 | |
| switchAnalyzeRlist | 2.190 | 0.025 | 2.219 | |
| switchPlot | 4.174 | 0.019 | 4.201 | |
| switchPlotTranscript | 2.638 | 0.010 | 2.652 | |
| testData | 0.023 | 0.004 | 0.027 | |