| Back to Multiple platform build/check report for BioC 3.12 |
|
This page was generated on 2021-05-06 12:31:51 -0400 (Thu, 06 May 2021).
|
To the developers/maintainers of the IntramiRExploreR package: Please make sure to use the following settings in order to reproduce any error or warning you see on this page. |
| Package 906/1974 | Hostname | OS / Arch | INSTALL | BUILD | CHECK | BUILD BIN | ||||||||
| IntramiRExploreR 1.12.0 (landing page) Surajit Bhattacharya
| malbec1 | Linux (Ubuntu 18.04.5 LTS) / x86_64 | OK | OK | WARNINGS | |||||||||
| tokay1 | Windows Server 2012 R2 Standard / x64 | OK | OK | WARNINGS | OK | |||||||||
| merida1 | macOS 10.14.6 Mojave / x86_64 | OK | OK | WARNINGS | OK | |||||||||
| Package: IntramiRExploreR |
| Version: 1.12.0 |
| Command: C:\cygwin\bin\curl.exe -O http://172.29.0.3/BBS/3.12/bioc/src/contrib/IntramiRExploreR_1.12.0.tar.gz && rm -rf IntramiRExploreR.buildbin-libdir && mkdir IntramiRExploreR.buildbin-libdir && C:\Users\biocbuild\bbs-3.12-bioc\R\bin\R.exe CMD INSTALL --merge-multiarch --build --library=IntramiRExploreR.buildbin-libdir IntramiRExploreR_1.12.0.tar.gz && C:\Users\biocbuild\bbs-3.12-bioc\R\bin\R.exe CMD INSTALL IntramiRExploreR_1.12.0.zip && rm IntramiRExploreR_1.12.0.tar.gz IntramiRExploreR_1.12.0.zip |
| StartedAt: 2021-05-05 17:34:23 -0400 (Wed, 05 May 2021) |
| EndedAt: 2021-05-05 17:35:20 -0400 (Wed, 05 May 2021) |
| EllapsedTime: 56.6 seconds |
| RetCode: 0 |
| Status: OK |
##############################################################################
##############################################################################
###
### Running command:
###
### C:\cygwin\bin\curl.exe -O http://172.29.0.3/BBS/3.12/bioc/src/contrib/IntramiRExploreR_1.12.0.tar.gz && rm -rf IntramiRExploreR.buildbin-libdir && mkdir IntramiRExploreR.buildbin-libdir && C:\Users\biocbuild\bbs-3.12-bioc\R\bin\R.exe CMD INSTALL --merge-multiarch --build --library=IntramiRExploreR.buildbin-libdir IntramiRExploreR_1.12.0.tar.gz && C:\Users\biocbuild\bbs-3.12-bioc\R\bin\R.exe CMD INSTALL IntramiRExploreR_1.12.0.zip && rm IntramiRExploreR_1.12.0.tar.gz IntramiRExploreR_1.12.0.zip
###
##############################################################################
##############################################################################
% Total % Received % Xferd Average Speed Time Time Time Current
Dload Upload Total Spent Left Speed
0 0 0 0 0 0 0 0 --:--:-- --:--:-- --:--:-- 0
2 8987k 2 253k 0 0 1269k 0 0:00:07 --:--:-- 0:00:07 1267k
100 8987k 100 8987k 0 0 26.0M 0 --:--:-- --:--:-- --:--:-- 26.0M
install for i386
* installing *source* package 'IntramiRExploreR' ...
** using staged installation
** R
** data
*** moving datasets to lazyload DB
** byte-compile and prepare package for lazy loading
Note: possible error in 'FGNet_report(feaResults_topGO, ': unused argument (plotKeggPw = FALSE)
** help
*** installing help indices
converting help for package 'IntramiRExploreR'
finding HTML links ... done
Affy1_Distance_Final html
Affy1_Pearson_Final html
Affy2_Distance_Final html
Affy2_Pearson_Final html
Gene_Visualisation html
GetGOS_ALL html
IntramiRExploreR html
Visualisation html
extract_HostGene html
extract_intragenic_miR html
genes_Stat html
miRNA_ID_to_Function html
miRNA_summary_DB html
miRTargets_Stat html
** building package indices
** installing vignettes
** testing if installed package can be loaded from temporary location
** testing if installed package can be loaded from final location
** testing if installed package keeps a record of temporary installation path
install for x64
* installing *source* package 'IntramiRExploreR' ...
** testing if installed package can be loaded
* MD5 sums
packaged installation of 'IntramiRExploreR' as IntramiRExploreR_1.12.0.zip
* DONE (IntramiRExploreR)
* installing to library 'C:/Users/biocbuild/bbs-3.12-bioc/R/library'
package 'IntramiRExploreR' successfully unpacked and MD5 sums checked