| Back to Multiple platform build/check report for BioC 3.12 |
|
This page was generated on 2021-05-06 12:31:50 -0400 (Thu, 06 May 2021).
|
To the developers/maintainers of the Informeasure package: Please make sure to use the following settings in order to reproduce any error or warning you see on this page. |
| Package 895/1974 | Hostname | OS / Arch | INSTALL | BUILD | CHECK | BUILD BIN | ||||||||
| Informeasure 1.0.0 (landing page) Chu Pan
| malbec1 | Linux (Ubuntu 18.04.5 LTS) / x86_64 | OK | OK | OK | |||||||||
| tokay1 | Windows Server 2012 R2 Standard / x64 | OK | OK | OK | OK | |||||||||
| merida1 | macOS 10.14.6 Mojave / x86_64 | OK | OK | OK | OK | |||||||||
| Package: Informeasure |
| Version: 1.0.0 |
| Command: rm -rf Informeasure.buildbin-libdir && mkdir Informeasure.buildbin-libdir && C:\Users\biocbuild\bbs-3.12-bioc\R\bin\R.exe CMD INSTALL --merge-multiarch --build --library=Informeasure.buildbin-libdir Informeasure_1.0.0.tar.gz |
| StartedAt: 2021-05-06 09:20:13 -0400 (Thu, 06 May 2021) |
| EndedAt: 2021-05-06 09:21:01 -0400 (Thu, 06 May 2021) |
| EllapsedTime: 48.3 seconds |
| RetCode: 0 |
| Status: OK |
| PackageFile: Informeasure_1.0.0.zip |
| PackageFileSize: 359.3 KiB |
##############################################################################
##############################################################################
###
### Running command:
###
### rm -rf Informeasure.buildbin-libdir && mkdir Informeasure.buildbin-libdir && C:\Users\biocbuild\bbs-3.12-bioc\R\bin\R.exe CMD INSTALL --merge-multiarch --build --library=Informeasure.buildbin-libdir Informeasure_1.0.0.tar.gz
###
##############################################################################
##############################################################################
install for i386
* installing *source* package 'Informeasure' ...
** using staged installation
** R
** inst
** byte-compile and prepare package for lazy loading
** help
*** installing help indices
converting help for package 'Informeasure'
finding HTML links ... done
CMI.measure html
CMI.plugin html
II.measure html
II.plugin html
MI.measure html
MI.plugin html
PID.measure html
PID.plugin html
PMI.measure html
PMI.plugin html
discretize1D html
discretize1d.uniform_frequency html
discretize1d.uniform_width html
discretize2D html
discretize2d.uniform_frequency html
discretize2d.uniform_width html
discretize3D html
discretize3d.uniform_frequency html
discretize3d.uniform_width html
** building package indices
** installing vignettes
** testing if installed package can be loaded from temporary location
** testing if installed package can be loaded from final location
** testing if installed package keeps a record of temporary installation path
install for x64
* installing *source* package 'Informeasure' ...
** testing if installed package can be loaded
* MD5 sums
packaged installation of 'Informeasure' as Informeasure_1.0.0.zip
* DONE (Informeasure)