| Back to Multiple platform build/check report for BioC 3.12 |
|
This page was generated on 2021-05-06 12:31:49 -0400 (Thu, 06 May 2021).
|
To the developers/maintainers of the Imetagene package: Please make sure to use the following settings in order to reproduce any error or warning you see on this page. |
| Package 884/1974 | Hostname | OS / Arch | INSTALL | BUILD | CHECK | BUILD BIN | ||||||||
| Imetagene 1.20.0 (landing page) Audrey Lemacon
| malbec1 | Linux (Ubuntu 18.04.5 LTS) / x86_64 | ERROR | ERROR | skipped | |||||||||
| tokay1 | Windows Server 2012 R2 Standard / x64 | ERROR | ERROR | skipped | skipped | |||||||||
| merida1 | macOS 10.14.6 Mojave / x86_64 | ERROR | ERROR | skipped | skipped | |||||||||
| Package: Imetagene |
| Version: 1.20.0 |
| Command: chmod a+r Imetagene -R && C:\Users\biocbuild\bbs-3.12-bioc\R\bin\R.exe CMD build --keep-empty-dirs --no-resave-data Imetagene |
| StartedAt: 2021-05-05 21:36:51 -0400 (Wed, 05 May 2021) |
| EndedAt: 2021-05-05 21:36:55 -0400 (Wed, 05 May 2021) |
| EllapsedTime: 3.9 seconds |
| RetCode: 1 |
| Status: ERROR |
| PackageFile: Imetagene_1.20.0.tar.gz |
| PackageFileSize: 1.117 MiB |
##############################################################################
##############################################################################
###
### Running command:
###
### chmod a+r Imetagene -R && C:\Users\biocbuild\bbs-3.12-bioc\R\bin\R.exe CMD build --keep-empty-dirs --no-resave-data Imetagene
###
##############################################################################
##############################################################################
* checking for file 'Imetagene/DESCRIPTION' ... OK
* preparing 'Imetagene':
* checking DESCRIPTION meta-information ... OK
* installing the package to build vignettes
-----------------------------------
ERROR: dependency 'd3heatmap' is not available for package 'Imetagene'
* removing 'C:/Users/biocbuild/bbs-3.12-bioc/tmpdir/RtmpiOEErp/Rinst2fb052ff67a7/Imetagene'
-----------------------------------
ERROR: package installation failed