| Back to Multiple platform build/check report for BioC 3.12 |
|
This page was generated on 2021-05-06 12:31:52 -0400 (Thu, 06 May 2021).
|
To the developers/maintainers of the ISAnalytics package: Please make sure to use the following settings in order to reproduce any error or warning you see on this page. |
| Package 913/1974 | Hostname | OS / Arch | INSTALL | BUILD | CHECK | BUILD BIN | ||||||||
| ISAnalytics 1.0.11 (landing page) Andrea Calabria
| malbec1 | Linux (Ubuntu 18.04.5 LTS) / x86_64 | OK | OK | OK | |||||||||
| tokay1 | Windows Server 2012 R2 Standard / x64 | OK | OK | OK | OK | |||||||||
| merida1 | macOS 10.14.6 Mojave / x86_64 | OK | OK | OK | OK | |||||||||
| Package: ISAnalytics |
| Version: 1.0.11 |
| Command: C:\Users\biocbuild\bbs-3.12-bioc\R\bin\R.exe CMD check --force-multiarch --install=check:ISAnalytics.install-out.txt --library=C:\Users\biocbuild\bbs-3.12-bioc\R\library --no-vignettes --timings ISAnalytics_1.0.11.tar.gz |
| StartedAt: 2021-05-06 03:54:30 -0400 (Thu, 06 May 2021) |
| EndedAt: 2021-05-06 04:12:53 -0400 (Thu, 06 May 2021) |
| EllapsedTime: 1102.9 seconds |
| RetCode: 0 |
| Status: OK |
| CheckDir: ISAnalytics.Rcheck |
| Warnings: 0 |
##############################################################################
##############################################################################
###
### Running command:
###
### C:\Users\biocbuild\bbs-3.12-bioc\R\bin\R.exe CMD check --force-multiarch --install=check:ISAnalytics.install-out.txt --library=C:\Users\biocbuild\bbs-3.12-bioc\R\library --no-vignettes --timings ISAnalytics_1.0.11.tar.gz
###
##############################################################################
##############################################################################
* using log directory 'C:/Users/biocbuild/bbs-3.12-bioc/meat/ISAnalytics.Rcheck'
* using R version 4.0.5 (2021-03-31)
* using platform: x86_64-w64-mingw32 (64-bit)
* using session charset: ISO8859-1
* using option '--no-vignettes'
* checking for file 'ISAnalytics/DESCRIPTION' ... OK
* this is package 'ISAnalytics' version '1.0.11'
* package encoding: UTF-8
* checking package namespace information ... OK
* checking package dependencies ... OK
* checking if this is a source package ... OK
* checking if there is a namespace ... OK
* checking for hidden files and directories ... OK
* checking for portable file names ... OK
* checking whether package 'ISAnalytics' can be installed ... OK
* checking installed package size ... OK
* checking package directory ... OK
* checking 'build' directory ... OK
* checking DESCRIPTION meta-information ... OK
* checking top-level files ... OK
* checking for left-over files ... OK
* checking index information ... OK
* checking package subdirectories ... OK
* checking R files for non-ASCII characters ... OK
* checking R files for syntax errors ... OK
* loading checks for arch 'i386'
** checking whether the package can be loaded ... OK
** checking whether the package can be loaded with stated dependencies ... OK
** checking whether the package can be unloaded cleanly ... OK
** checking whether the namespace can be loaded with stated dependencies ... OK
** checking whether the namespace can be unloaded cleanly ... OK
* loading checks for arch 'x64'
** checking whether the package can be loaded ... OK
** checking whether the package can be loaded with stated dependencies ... OK
** checking whether the package can be unloaded cleanly ... OK
** checking whether the namespace can be loaded with stated dependencies ... OK
** checking whether the namespace can be unloaded cleanly ... OK
* checking dependencies in R code ... OK
* checking S3 generic/method consistency ... OK
* checking replacement functions ... OK
* checking foreign function calls ... OK
* checking R code for possible problems ... OK
* checking Rd files ... OK
* checking Rd metadata ... OK
* checking Rd cross-references ... OK
* checking for missing documentation entries ... OK
* checking for code/documentation mismatches ... OK
* checking Rd \usage sections ... OK
* checking Rd contents ... OK
* checking for unstated dependencies in examples ... OK
* checking files in 'vignettes' ... OK
* checking examples ...
** running examples for arch 'i386' ... OK
Examples with CPU (user + system) or elapsed time > 5s
user system elapsed
CIS_volcano_plot 4.53 0.03 14.67
CIS_grubbs 4.16 0.11 16.48
realign_after_collisions 2.17 0.06 23.91
remove_collisions 2.13 0.10 24.20
compute_near_integrations 1.00 0.11 15.02
sample_statistics 1.03 0.06 10.47
import_parallel_Vispa2Matrices_auto 0.98 0.03 9.71
comparison_matrix 0.91 0.05 11.28
separate_quant_matrices 0.87 0.02 8.28
aggregate_values_by_key 0.67 0.05 12.31
cumulative_count_union 0.70 0.01 10.83
import_single_Vispa2Matrix 0.66 0.03 8.46
compute_abundance 0.56 0.02 7.25
as_sparse_matrix 0.53 0.04 7.82
** running examples for arch 'x64' ... OK
Examples with CPU (user + system) or elapsed time > 5s
user system elapsed
CIS_volcano_plot 4.33 0.02 13.76
CIS_grubbs 3.92 0.09 15.72
realign_after_collisions 2.02 0.00 24.12
remove_collisions 1.84 0.07 24.49
import_parallel_Vispa2Matrices_auto 0.94 0.03 8.47
compute_near_integrations 0.91 0.04 14.28
sample_statistics 0.94 0.00 8.14
comparison_matrix 0.83 0.01 11.01
separate_quant_matrices 0.80 0.03 10.25
cumulative_count_union 0.73 0.03 8.62
import_single_Vispa2Matrix 0.63 0.07 7.03
compute_abundance 0.56 0.10 7.02
aggregate_values_by_key 0.61 0.03 9.33
as_sparse_matrix 0.43 0.07 7.47
* checking for unstated dependencies in 'tests' ... OK
* checking tests ...
** running tests for arch 'i386' ...
Running 'testthat.R'
OK
** running tests for arch 'x64' ...
Running 'testthat.R'
OK
* checking for unstated dependencies in vignettes ... OK
* checking package vignettes in 'inst/doc' ... OK
* checking running R code from vignettes ... SKIPPED
* checking re-building of vignette outputs ... SKIPPED
* checking PDF version of manual ... OK
* DONE
Status: OK
ISAnalytics.Rcheck/00install.out
##############################################################################
##############################################################################
###
### Running command:
###
### C:\cygwin\bin\curl.exe -O http://172.29.0.3/BBS/3.12/bioc/src/contrib/ISAnalytics_1.0.11.tar.gz && rm -rf ISAnalytics.buildbin-libdir && mkdir ISAnalytics.buildbin-libdir && C:\Users\biocbuild\bbs-3.12-bioc\R\bin\R.exe CMD INSTALL --merge-multiarch --build --library=ISAnalytics.buildbin-libdir ISAnalytics_1.0.11.tar.gz && C:\Users\biocbuild\bbs-3.12-bioc\R\bin\R.exe CMD INSTALL ISAnalytics_1.0.11.zip && rm ISAnalytics_1.0.11.tar.gz ISAnalytics_1.0.11.zip
###
##############################################################################
##############################################################################
% Total % Received % Xferd Average Speed Time Time Time Current
Dload Upload Total Spent Left Speed
0 0 0 0 0 0 0 0 --:--:-- --:--:-- --:--:-- 0
100 1712k 100 1712k 0 0 40.6M 0 --:--:-- --:--:-- --:--:-- 41.8M
install for i386
* installing *source* package 'ISAnalytics' ...
** using staged installation
** R
** inst
** byte-compile and prepare package for lazy loading
** help
*** installing help indices
converting help for package 'ISAnalytics'
finding HTML links ... done
CIS_grubbs html
CIS_volcano_plot html
ISAnalytics html
aggregate_metadata html
aggregate_values_by_key html
annotation_IS_vars html
as_sparse_matrix html
association_file_columns html
clinical_relevant_suspicious_genes html
comparison_matrix html
compute_abundance html
compute_near_integrations html
cumulative_count_union html
date_columns_coll html
date_formats html
default_stats html
generate_Vispa2_launch_AF html
generate_blank_association_file html
import_association_file html
import_parallel_Vispa2Matrices_auto html
import_parallel_Vispa2Matrices_interactive
html
import_single_Vispa2Matrix html
known_clinical_oncogenes html
mandatory_IS_vars html
matching_options html
quantification_types html
realign_after_collisions html
reduced_AF_columns html
remove_collisions html
sample_statistics html
separate_quant_matrices html
threshold_filter html
top_integrations html
unzip_file_system html
*** copying figures
** building package indices
** installing vignettes
** testing if installed package can be loaded from temporary location
** testing if installed package can be loaded from final location
** testing if installed package keeps a record of temporary installation path
install for x64
* installing *source* package 'ISAnalytics' ...
** testing if installed package can be loaded
* MD5 sums
packaged installation of 'ISAnalytics' as ISAnalytics_1.0.11.zip
* DONE (ISAnalytics)
* installing to library 'C:/Users/biocbuild/bbs-3.12-bioc/R/library'
package 'ISAnalytics' successfully unpacked and MD5 sums checked
|
ISAnalytics.Rcheck/tests_i386/testthat.Rout
R version 4.0.5 (2021-03-31) -- "Shake and Throw"
Copyright (C) 2021 The R Foundation for Statistical Computing
Platform: i386-w64-mingw32/i386 (32-bit)
R is free software and comes with ABSOLUTELY NO WARRANTY.
You are welcome to redistribute it under certain conditions.
Type 'license()' or 'licence()' for distribution details.
R is a collaborative project with many contributors.
Type 'contributors()' for more information and
'citation()' on how to cite R or R packages in publications.
Type 'demo()' for some demos, 'help()' for on-line help, or
'help.start()' for an HTML browser interface to help.
Type 'q()' to quit R.
> library(testthat)
> library(ISAnalytics)
Loading required package: magrittr
Attaching package: 'magrittr'
The following objects are masked from 'package:testthat':
equals, is_less_than, not
>
> test_check("ISAnalytics")
Duplicates found for some files: in automatic mode duplicates are not preserved - use interactive mode for more accurate file selection
Duplicates found for some files: in automatic mode duplicates are not preserved - use interactive mode for more accurate file selection
|
| | 0%
|
|================== | 25%
|
|=================================== | 50%
|
|==================================================== | 75%
|
|======================================================================| 100%
|
| | 0%
|
|================== | 25%
|
|=================================== | 50%
|
|==================================================== | 75%
|
|======================================================================| 100%
Identifying collisions...
Processing collisions...
Finished! You provided a single sequence count as matrix, to re-align other related matrices see ?realign_after_collisions
Duplicates found for some files
Some files are missing and will be ignored
Some files are missing and will be ignored
Some files are missing and will be ignored
Some files are missing and will be ignored
Some files are missing and will be ignored
Some files are missing and will be ignored
Some files are missing and will be ignored
Duplicates found for some files: in automatic mode duplicates are not preserved - use interactive mode for more accurate file selection
Duplicates found for some files: in automatic mode duplicates are not preserved - use interactive mode for more accurate file selection
Some files are missing and will be ignored
Duplicates found for some files: in automatic mode duplicates are not preserved - use interactive mode for more accurate file selection
Some files are missing and will be ignored
Some files are missing and will be ignored
Duplicates found for some files: in automatic mode duplicates are not preserved - use interactive mode for more accurate file selection
Duplicates found for some files: in automatic mode duplicates are not preserved - use interactive mode for more accurate file selection
Some files are missing and will be ignored
Some files are missing and will be ignored
adding: Users/biocbuild/bbs-3.12-bioc/tmpdir/Rtmps1m5c6/file83045138b3.tsv (deflated 43%)
[ FAIL 0 | WARN 0 | SKIP 0 | PASS 742 ]
>
> proc.time()
user system elapsed
55.25 3.31 315.32
|
ISAnalytics.Rcheck/tests_x64/testthat.Rout
R version 4.0.5 (2021-03-31) -- "Shake and Throw"
Copyright (C) 2021 The R Foundation for Statistical Computing
Platform: x86_64-w64-mingw32/x64 (64-bit)
R is free software and comes with ABSOLUTELY NO WARRANTY.
You are welcome to redistribute it under certain conditions.
Type 'license()' or 'licence()' for distribution details.
R is a collaborative project with many contributors.
Type 'contributors()' for more information and
'citation()' on how to cite R or R packages in publications.
Type 'demo()' for some demos, 'help()' for on-line help, or
'help.start()' for an HTML browser interface to help.
Type 'q()' to quit R.
> library(testthat)
> library(ISAnalytics)
Loading required package: magrittr
Attaching package: 'magrittr'
The following objects are masked from 'package:testthat':
equals, is_less_than, not
>
> test_check("ISAnalytics")
Duplicates found for some files: in automatic mode duplicates are not preserved - use interactive mode for more accurate file selection
Duplicates found for some files: in automatic mode duplicates are not preserved - use interactive mode for more accurate file selection
|
| | 0%
|
|================== | 25%
|
|=================================== | 50%
|
|==================================================== | 75%
|
|======================================================================| 100%
|
| | 0%
|
|================== | 25%
|
|=================================== | 50%
|
|==================================================== | 75%
|
|======================================================================| 100%
Identifying collisions...
Processing collisions...
Finished! You provided a single sequence count as matrix, to re-align other related matrices see ?realign_after_collisions
Duplicates found for some files
Some files are missing and will be ignored
Some files are missing and will be ignored
Some files are missing and will be ignored
Some files are missing and will be ignored
Some files are missing and will be ignored
Some files are missing and will be ignored
Some files are missing and will be ignored
Duplicates found for some files: in automatic mode duplicates are not preserved - use interactive mode for more accurate file selection
Duplicates found for some files: in automatic mode duplicates are not preserved - use interactive mode for more accurate file selection
Some files are missing and will be ignored
Duplicates found for some files: in automatic mode duplicates are not preserved - use interactive mode for more accurate file selection
Some files are missing and will be ignored
Some files are missing and will be ignored
Duplicates found for some files: in automatic mode duplicates are not preserved - use interactive mode for more accurate file selection
Duplicates found for some files: in automatic mode duplicates are not preserved - use interactive mode for more accurate file selection
Some files are missing and will be ignored
Some files are missing and will be ignored
adding: Users/biocbuild/bbs-3.12-bioc/tmpdir/RtmpKMbWFy/file1d4c243d6e7d.tsv (deflated 43%)
[ FAIL 0 | WARN 0 | SKIP 0 | PASS 742 ]
>
> proc.time()
user system elapsed
65.90 3.15 331.86
|
|
ISAnalytics.Rcheck/examples_i386/ISAnalytics-Ex.timings
|
ISAnalytics.Rcheck/examples_x64/ISAnalytics-Ex.timings
|