| Back to Multiple platform build/check report for BioC 3.12 |
|
This page was generated on 2021-05-06 12:28:00 -0400 (Thu, 06 May 2021).
|
To the developers/maintainers of the INSPEcT package: Please make sure to use the following settings in order to reproduce any error or warning you see on this page. |
| Package 898/1974 | Hostname | OS / Arch | INSTALL | BUILD | CHECK | BUILD BIN | ||||||||
| INSPEcT 1.20.0 (landing page) Stefano de Pretis
| malbec1 | Linux (Ubuntu 18.04.5 LTS) / x86_64 | OK | OK | OK | |||||||||
| tokay1 | Windows Server 2012 R2 Standard / x64 | OK | OK | OK | OK | |||||||||
| merida1 | macOS 10.14.6 Mojave / x86_64 | OK | OK | OK | OK | |||||||||
| Package: INSPEcT |
| Version: 1.20.0 |
| Command: /home/biocbuild/bbs-3.12-bioc/R/bin/R CMD check --install=check:INSPEcT.install-out.txt --library=/home/biocbuild/bbs-3.12-bioc/R/library --no-vignettes --timings INSPEcT_1.20.0.tar.gz |
| StartedAt: 2021-05-06 02:39:44 -0400 (Thu, 06 May 2021) |
| EndedAt: 2021-05-06 03:00:55 -0400 (Thu, 06 May 2021) |
| EllapsedTime: 1271.9 seconds |
| RetCode: 0 |
| Status: OK |
| CheckDir: INSPEcT.Rcheck |
| Warnings: 0 |
##############################################################################
##############################################################################
###
### Running command:
###
### /home/biocbuild/bbs-3.12-bioc/R/bin/R CMD check --install=check:INSPEcT.install-out.txt --library=/home/biocbuild/bbs-3.12-bioc/R/library --no-vignettes --timings INSPEcT_1.20.0.tar.gz
###
##############################################################################
##############################################################################
* using log directory ‘/home/biocbuild/bbs-3.12-bioc/meat/INSPEcT.Rcheck’
* using R version 4.0.5 (2021-03-31)
* using platform: x86_64-pc-linux-gnu (64-bit)
* using session charset: UTF-8
* using option ‘--no-vignettes’
* checking for file ‘INSPEcT/DESCRIPTION’ ... OK
* checking extension type ... Package
* this is package ‘INSPEcT’ version ‘1.20.0’
* checking package namespace information ... OK
* checking package dependencies ... OK
* checking if this is a source package ... OK
* checking if there is a namespace ... OK
* checking for hidden files and directories ... OK
* checking for portable file names ... OK
* checking for sufficient/correct file permissions ... OK
* checking whether package ‘INSPEcT’ can be installed ... OK
* checking installed package size ... NOTE
installed size is 7.1Mb
sub-directories of 1Mb or more:
R 1.8Mb
data 2.8Mb
* checking package directory ... OK
* checking ‘build’ directory ... OK
* checking DESCRIPTION meta-information ... OK
* checking top-level files ... OK
* checking for left-over files ... OK
* checking index information ... OK
* checking package subdirectories ... OK
* checking R files for non-ASCII characters ... OK
* checking R files for syntax errors ... OK
* checking whether the package can be loaded ... OK
* checking whether the package can be loaded with stated dependencies ... OK
* checking whether the package can be unloaded cleanly ... OK
* checking whether the namespace can be loaded with stated dependencies ... OK
* checking whether the namespace can be unloaded cleanly ... OK
* checking dependencies in R code ... OK
* checking S3 generic/method consistency ... OK
* checking replacement functions ... OK
* checking foreign function calls ... OK
* checking R code for possible problems ... NOTE
output_pars: no visible global function definition for ‘plot.new’
plotSingleRNADynamic: no visible global function definition for ‘lines’
Undefined global functions or variables:
lines plot.new
Consider adding
importFrom("graphics", "lines", "plot.new")
to your NAMESPACE file.
* checking Rd files ... OK
* checking Rd metadata ... OK
* checking Rd cross-references ... OK
* checking for missing documentation entries ... OK
* checking for code/documentation mismatches ... OK
* checking Rd \usage sections ... OK
* checking Rd contents ... OK
* checking for unstated dependencies in examples ... OK
* checking contents of ‘data’ directory ... OK
* checking data for non-ASCII characters ... OK
* checking data for ASCII and uncompressed saves ... OK
* checking files in ‘vignettes’ ... OK
* checking examples ... OK
Examples with CPU (user + system) or elapsed time > 5s
user system elapsed
makeSimDataset 174.940 0.068 175.342
compareSteady 93.896 0.180 94.251
INSPEcT_diffsteady-class 92.112 0.792 93.096
plotMA 87.924 0.112 88.199
newINSPEcT 51.512 0.120 51.733
quantifyExpressionsFromBAMs 47.940 0.428 49.215
rocCurve 43.808 0.016 43.909
rocThresholds 42.624 0.008 42.732
makeSimModel 38.096 0.004 38.279
processingDelay 33.340 0.044 33.439
modelRates 26.740 0.080 26.863
quantifyExpressionsFromTrCounts 24.608 0.000 24.666
compareSteadyNoNascent 9.660 0.000 9.679
makeOscillatorySimModel 8.876 0.044 8.968
inspectFromPCR 6.872 0.020 6.955
* checking for unstated dependencies in vignettes ... OK
* checking package vignettes in ‘inst/doc’ ... OK
* checking running R code from vignettes ... SKIPPED
* checking re-building of vignette outputs ... SKIPPED
* checking PDF version of manual ... OK
* DONE
Status: 2 NOTEs
See
‘/home/biocbuild/bbs-3.12-bioc/meat/INSPEcT.Rcheck/00check.log’
for details.
INSPEcT.Rcheck/00install.out
############################################################################## ############################################################################## ### ### Running command: ### ### /home/biocbuild/bbs-3.12-bioc/R/bin/R CMD INSTALL INSPEcT ### ############################################################################## ############################################################################## * installing to library ‘/home/biocbuild/bbs-3.12-bioc/R/library’ * installing *source* package ‘INSPEcT’ ... ** using staged installation ** R ** data ** inst ** byte-compile and prepare package for lazy loading ** help *** installing help indices ** building package indices ** installing vignettes ** testing if installed package can be loaded from temporary location ** testing if installed package can be loaded from final location ** testing if installed package keeps a record of temporary installation path * DONE (INSPEcT)
INSPEcT.Rcheck/INSPEcT-Ex.timings
| name | user | system | elapsed | |
| AIC-INSPEcT-method | 0.360 | 0.008 | 0.591 | |
| Extract | 0.600 | 0.008 | 0.608 | |
| INSPEcT_diffsteady-class | 92.112 | 0.792 | 93.096 | |
| calculateRatePvals | 0.284 | 0.000 | 0.283 | |
| chisqmodel | 0.188 | 0.004 | 0.193 | |
| chisqtest | 0.204 | 0.000 | 0.201 | |
| combine | 0.612 | 0.008 | 0.620 | |
| compareSteady | 93.896 | 0.180 | 94.251 | |
| compareSteadyNoNascent | 9.660 | 0.000 | 9.679 | |
| convergence | 0.188 | 0.004 | 0.192 | |
| geneClass | 0.228 | 0.004 | 0.234 | |
| inHeatmap | 0.232 | 0.004 | 0.235 | |
| inspectFromPCR | 6.872 | 0.020 | 6.955 | |
| labeledSF | 0.188 | 0.008 | 0.197 | |
| logLik | 0.200 | 0.000 | 0.197 | |
| makeModelRates | 0.416 | 0.000 | 0.418 | |
| makeOscillatorySimModel | 8.876 | 0.044 | 8.968 | |
| makeSimDataset | 174.940 | 0.068 | 175.342 | |
| makeSimModel | 38.096 | 0.004 | 38.279 | |
| modelRates | 26.740 | 0.080 | 26.863 | |
| modelRatesNF | 1.780 | 0.044 | 1.825 | |
| modelSelection | 0.324 | 0.000 | 0.327 | |
| modelingParams | 0.276 | 0.000 | 0.278 | |
| nGenes | 0.328 | 0.000 | 0.330 | |
| nTpts | 0.320 | 0.004 | 0.326 | |
| newINSPEcT | 51.512 | 0.120 | 51.733 | |
| plotGene | 0.236 | 0.000 | 0.236 | |
| plotMA | 87.924 | 0.112 | 88.199 | |
| processingDelay | 33.340 | 0.044 | 33.439 | |
| quantifyExpressionsFromBAMs | 47.940 | 0.428 | 49.215 | |
| quantifyExpressionsFromTrCounts | 24.608 | 0.000 | 24.666 | |
| ratePvals | 0.336 | 0.000 | 0.342 | |
| ratesFirstGuess | 0.352 | 0.000 | 0.354 | |
| ratesFirstGuessVar | 0.364 | 0.000 | 0.362 | |
| removeModel | 0.524 | 0.000 | 0.525 | |
| rocCurve | 43.808 | 0.016 | 43.909 | |
| rocThresholds | 42.624 | 0.008 | 42.732 | |
| split | 0.504 | 0.000 | 0.505 | |
| tpts | 0.356 | 0.000 | 0.353 | |
| viewConfidenceIntervals | 0.352 | 0.000 | 0.352 | |
| viewModelRates | 0.348 | 0.000 | 0.349 | |