| Back to Multiple platform build/check report for BioC 3.12 |
|
This page was generated on 2021-05-06 12:31:50 -0400 (Thu, 06 May 2021).
|
To the developers/maintainers of the INDEED package: Please make sure to use the following settings in order to reproduce any error or warning you see on this page. |
| Package 892/1974 | Hostname | OS / Arch | INSTALL | BUILD | CHECK | BUILD BIN | ||||||||
| INDEED 2.4.0 (landing page) Ressom group
| malbec1 | Linux (Ubuntu 18.04.5 LTS) / x86_64 | OK | OK | OK | |||||||||
| tokay1 | Windows Server 2012 R2 Standard / x64 | OK | OK | OK | OK | |||||||||
| merida1 | macOS 10.14.6 Mojave / x86_64 | OK | OK | OK | OK | |||||||||
| Package: INDEED |
| Version: 2.4.0 |
| Command: rm -rf INDEED.buildbin-libdir && mkdir INDEED.buildbin-libdir && C:\Users\biocbuild\bbs-3.12-bioc\R\bin\R.exe CMD INSTALL --merge-multiarch --build --library=INDEED.buildbin-libdir INDEED_2.4.0.tar.gz |
| StartedAt: 2021-05-06 09:20:03 -0400 (Thu, 06 May 2021) |
| EndedAt: 2021-05-06 09:20:51 -0400 (Thu, 06 May 2021) |
| EllapsedTime: 48.3 seconds |
| RetCode: 0 |
| Status: OK |
| PackageFile: INDEED_2.4.0.zip |
| PackageFileSize: 800.7 KiB |
##############################################################################
##############################################################################
###
### Running command:
###
### rm -rf INDEED.buildbin-libdir && mkdir INDEED.buildbin-libdir && C:\Users\biocbuild\bbs-3.12-bioc\R\bin\R.exe CMD INSTALL --merge-multiarch --build --library=INDEED.buildbin-libdir INDEED_2.4.0.tar.gz
###
##############################################################################
##############################################################################
install for i386
* installing *source* package 'INDEED' ...
** using staged installation
** R
** data
*** moving datasets to lazyload DB
** inst
** byte-compile and prepare package for lazy loading
** help
*** installing help indices
converting help for package 'INDEED'
finding HTML links ... done
INDEED html
Met_GU html
Met_Group_GU html
Met_name_GU html
choose_rho html
compute_cor html
compute_dns html
compute_par html
loglik_ave html
network_display html
non_partial_cor html
partial_cor html
permutation_cor html
permutation_pc html
permutation_thres html
pvalue_M_GU html
pvalue_logit html
scale_range html
select_rho_partial html
** building package indices
** installing vignettes
** testing if installed package can be loaded from temporary location
** testing if installed package can be loaded from final location
** testing if installed package keeps a record of temporary installation path
install for x64
* installing *source* package 'INDEED' ...
** testing if installed package can be loaded
* MD5 sums
packaged installation of 'INDEED' as INDEED_2.4.0.zip
* DONE (INDEED)