| Back to Multiple platform build/check report for BioC 3.12 |
|
This page was generated on 2021-05-06 12:27:59 -0400 (Thu, 06 May 2021).
|
To the developers/maintainers of the IMPCdata package: Please make sure to use the following settings in order to reproduce any error or warning you see on this page. |
| Package 888/1974 | Hostname | OS / Arch | INSTALL | BUILD | CHECK | BUILD BIN | ||||||||
| IMPCdata 1.26.0 (landing page) Jeremy Mason
| malbec1 | Linux (Ubuntu 18.04.5 LTS) / x86_64 | OK | OK | OK | |||||||||
| tokay1 | Windows Server 2012 R2 Standard / x64 | OK | OK | OK | OK | |||||||||
| merida1 | macOS 10.14.6 Mojave / x86_64 | OK | OK | OK | OK | |||||||||
| Package: IMPCdata |
| Version: 1.26.0 |
| Command: /home/biocbuild/bbs-3.12-bioc/R/bin/R CMD check --install=check:IMPCdata.install-out.txt --library=/home/biocbuild/bbs-3.12-bioc/R/library --no-vignettes --timings IMPCdata_1.26.0.tar.gz |
| StartedAt: 2021-05-06 02:37:49 -0400 (Thu, 06 May 2021) |
| EndedAt: 2021-05-06 02:39:24 -0400 (Thu, 06 May 2021) |
| EllapsedTime: 95.2 seconds |
| RetCode: 0 |
| Status: OK |
| CheckDir: IMPCdata.Rcheck |
| Warnings: 0 |
##############################################################################
##############################################################################
###
### Running command:
###
### /home/biocbuild/bbs-3.12-bioc/R/bin/R CMD check --install=check:IMPCdata.install-out.txt --library=/home/biocbuild/bbs-3.12-bioc/R/library --no-vignettes --timings IMPCdata_1.26.0.tar.gz
###
##############################################################################
##############################################################################
* using log directory ‘/home/biocbuild/bbs-3.12-bioc/meat/IMPCdata.Rcheck’
* using R version 4.0.5 (2021-03-31)
* using platform: x86_64-pc-linux-gnu (64-bit)
* using session charset: UTF-8
* using option ‘--no-vignettes’
* checking for file ‘IMPCdata/DESCRIPTION’ ... OK
* checking extension type ... Package
* this is package ‘IMPCdata’ version ‘1.26.0’
* checking package namespace information ... OK
* checking package dependencies ... OK
* checking if this is a source package ... OK
* checking if there is a namespace ... OK
* checking for hidden files and directories ... OK
* checking for portable file names ... OK
* checking for sufficient/correct file permissions ... OK
* checking whether package ‘IMPCdata’ can be installed ... OK
* checking installed package size ... OK
* checking package directory ... OK
* checking ‘build’ directory ... OK
* checking DESCRIPTION meta-information ... OK
* checking top-level files ... OK
* checking for left-over files ... OK
* checking index information ... OK
* checking package subdirectories ... OK
* checking R files for non-ASCII characters ... OK
* checking R files for syntax errors ... OK
* checking whether the package can be loaded ... OK
* checking whether the package can be loaded with stated dependencies ... OK
* checking whether the package can be unloaded cleanly ... OK
* checking whether the namespace can be loaded with stated dependencies ... OK
* checking whether the namespace can be unloaded cleanly ... OK
* checking dependencies in R code ... OK
* checking S3 generic/method consistency ... OK
* checking replacement functions ... OK
* checking foreign function calls ... OK
* checking R code for possible problems ... OK
* checking Rd files ... OK
* checking Rd metadata ... OK
* checking Rd cross-references ... OK
* checking for missing documentation entries ... OK
* checking for code/documentation mismatches ... OK
* checking Rd \usage sections ... OK
* checking Rd contents ... OK
* checking for unstated dependencies in examples ... OK
* checking files in ‘vignettes’ ... OK
* checking examples ... OK
Examples with CPU (user + system) or elapsed time > 5s
user system elapsed
getPhenCenters 1.088 0.048 15.629
printPipelines 0.452 0.052 5.330
getProcedures 0.472 0.020 5.853
getStrains 0.348 0.028 6.708
* checking for unstated dependencies in vignettes ... OK
* checking package vignettes in ‘inst/doc’ ... OK
* checking running R code from vignettes ... SKIPPED
* checking re-building of vignette outputs ... SKIPPED
* checking PDF version of manual ... OK
* DONE
Status: OK
IMPCdata.Rcheck/00install.out
############################################################################## ############################################################################## ### ### Running command: ### ### /home/biocbuild/bbs-3.12-bioc/R/bin/R CMD INSTALL IMPCdata ### ############################################################################## ############################################################################## * installing to library ‘/home/biocbuild/bbs-3.12-bioc/R/library’ * installing *source* package ‘IMPCdata’ ... ** using staged installation ** R ** inst ** byte-compile and prepare package for lazy loading ** help *** installing help indices ** building package indices ** installing vignettes ** testing if installed package can be loaded from temporary location ** testing if installed package can be loaded from final location ** testing if installed package keeps a record of temporary installation path * DONE (IMPCdata)
IMPCdata.Rcheck/IMPCdata-Ex.timings
| name | user | system | elapsed | |
| getAlleles | 0.456 | 0.024 | 4.222 | |
| getGenes | 0.460 | 0.028 | 3.655 | |
| getIMPCDataset | 0.080 | 0.000 | 1.135 | |
| getIMPCTable | 0.320 | 0.008 | 3.362 | |
| getName | 0.072 | 0.004 | 0.808 | |
| getParameters | 0.460 | 0.024 | 4.136 | |
| getPhenCenters | 1.088 | 0.048 | 15.629 | |
| getPipelines | 0.456 | 0.032 | 4.819 | |
| getProcedures | 0.472 | 0.020 | 5.853 | |
| getStrains | 0.348 | 0.028 | 6.708 | |
| getZygosities | 0.076 | 0.008 | 0.608 | |
| printAlleles | 0.496 | 0.008 | 3.816 | |
| printGenes | 0.464 | 0.020 | 3.608 | |
| printParameters | 0.420 | 0.032 | 3.995 | |
| printPhenCenters | 0.156 | 0.008 | 4.226 | |
| printPipelines | 0.452 | 0.052 | 5.330 | |
| printProcedures | 0.412 | 0.032 | 4.359 | |
| printStrains | 0.400 | 0.016 | 4.151 | |