| Back to Multiple platform build/check report for BioC 3.12 |
|
This page was generated on 2021-05-06 12:31:47 -0400 (Thu, 06 May 2021).
|
To the developers/maintainers of the HybridMTest package: Please make sure to use the following settings in order to reproduce any error or warning you see on this page. |
| Package 854/1974 | Hostname | OS / Arch | INSTALL | BUILD | CHECK | BUILD BIN | ||||||||
| HybridMTest 1.34.0 (landing page) Demba Fofana
| malbec1 | Linux (Ubuntu 18.04.5 LTS) / x86_64 | OK | OK | OK | |||||||||
| tokay1 | Windows Server 2012 R2 Standard / x64 | OK | OK | WARNINGS | OK | |||||||||
| merida1 | macOS 10.14.6 Mojave / x86_64 | OK | OK | OK | OK | |||||||||
| Package: HybridMTest |
| Version: 1.34.0 |
| Command: rm -rf HybridMTest.buildbin-libdir && mkdir HybridMTest.buildbin-libdir && C:\Users\biocbuild\bbs-3.12-bioc\R\bin\R.exe CMD INSTALL --merge-multiarch --build --library=HybridMTest.buildbin-libdir HybridMTest_1.34.0.tar.gz |
| StartedAt: 2021-05-06 09:18:00 -0400 (Thu, 06 May 2021) |
| EndedAt: 2021-05-06 09:18:47 -0400 (Thu, 06 May 2021) |
| EllapsedTime: 46.8 seconds |
| RetCode: 0 |
| Status: OK |
| PackageFile: HybridMTest_1.34.0.zip |
| PackageFileSize: 285.1 KiB |
##############################################################################
##############################################################################
###
### Running command:
###
### rm -rf HybridMTest.buildbin-libdir && mkdir HybridMTest.buildbin-libdir && C:\Users\biocbuild\bbs-3.12-bioc\R\bin\R.exe CMD INSTALL --merge-multiarch --build --library=HybridMTest.buildbin-libdir HybridMTest_1.34.0.tar.gz
###
##############################################################################
##############################################################################
install for i386
* installing *source* package 'HybridMTest' ...
** using staged installation
** R
** data
** inst
** byte-compile and prepare package for lazy loading
** help
*** installing help indices
converting help for package 'HybridMTest'
finding HTML links ... done
GroupComp.data html
Rd warning: C:/Users/biocbuild/bbs-3.12-bioc/tmpdir/RtmpQzBprI/R.INSTALL3fbc2e7a30ac/HybridMTest/man/GroupComp.data.Rd:30: file link 'ExpressionSet' in package 'Biobase' does not exist and so has been treated as a topic
HybridMTest-package html
correlation.data html
Rd warning: C:/Users/biocbuild/bbs-3.12-bioc/tmpdir/RtmpQzBprI/R.INSTALL3fbc2e7a30ac/HybridMTest/man/correlation.data.Rd:28: file link 'ExpressionSet' in package 'Biobase' does not exist and so has been treated as a topic
grenander.ebp html
hybrid.test html
row.kgrp.shapiro html
row.kruskal.wallis html
row.oneway.anova html
row.pearson html
row.slr.shapiro html
row.spearman html
** building package indices
** installing vignettes
** testing if installed package can be loaded from temporary location
** testing if installed package can be loaded from final location
** testing if installed package keeps a record of temporary installation path
install for x64
* installing *source* package 'HybridMTest' ...
** testing if installed package can be loaded
* MD5 sums
packaged installation of 'HybridMTest' as HybridMTest_1.34.0.zip
* DONE (HybridMTest)