| Back to Multiple platform build/check report for BioC 3.12 |
|
This page was generated on 2021-05-06 12:31:44 -0400 (Thu, 06 May 2021).
|
To the developers/maintainers of the Heatplus package: Please make sure to use the following settings in order to reproduce any error or warning you see on this page. |
| Package 822/1974 | Hostname | OS / Arch | INSTALL | BUILD | CHECK | BUILD BIN | ||||||||
| Heatplus 2.36.0 (landing page) Alexander Ploner
| malbec1 | Linux (Ubuntu 18.04.5 LTS) / x86_64 | OK | OK | OK | |||||||||
| tokay1 | Windows Server 2012 R2 Standard / x64 | OK | OK | OK | OK | |||||||||
| merida1 | macOS 10.14.6 Mojave / x86_64 | OK | OK | OK | OK | |||||||||
| Package: Heatplus |
| Version: 2.36.0 |
| Command: rm -rf Heatplus.buildbin-libdir && mkdir Heatplus.buildbin-libdir && C:\Users\biocbuild\bbs-3.12-bioc\R\bin\R.exe CMD INSTALL --merge-multiarch --build --library=Heatplus.buildbin-libdir Heatplus_2.36.0.tar.gz |
| StartedAt: 2021-05-06 09:16:14 -0400 (Thu, 06 May 2021) |
| EndedAt: 2021-05-06 09:16:23 -0400 (Thu, 06 May 2021) |
| EllapsedTime: 8.8 seconds |
| RetCode: 0 |
| Status: OK |
| PackageFile: Heatplus_2.36.0.zip |
| PackageFileSize: 1001 KiB |
##############################################################################
##############################################################################
###
### Running command:
###
### rm -rf Heatplus.buildbin-libdir && mkdir Heatplus.buildbin-libdir && C:\Users\biocbuild\bbs-3.12-bioc\R\bin\R.exe CMD INSTALL --merge-multiarch --build --library=Heatplus.buildbin-libdir Heatplus_2.36.0.tar.gz
###
##############################################################################
##############################################################################
install for i386
* installing *source* package 'Heatplus' ...
** using staged installation
** R
** inst
** byte-compile and prepare package for lazy loading
** help
*** installing help indices
converting help for package 'Heatplus'
finding HTML links ... done
BrewerClusterCol html
finding level-2 HTML links ... done
RGBColVec html
Undocumented html
annHeatmap html
annHeatmap2 html
breakColors html
convAnnData html
doLegend html
g2r.colors html
heatmapLayout html
heatmap_2 html
heatmap_plus html
modifyExistingList html
niceBreaks html
oldCutplot.dendrogram html
oldPicketplot html
picketPlot html
plot.annHeatmap html
print.annHeatmap html
regHeatmap html
** building package indices
** installing vignettes
** testing if installed package can be loaded from temporary location
** testing if installed package can be loaded from final location
** testing if installed package keeps a record of temporary installation path
install for x64
* installing *source* package 'Heatplus' ...
** testing if installed package can be loaded
* MD5 sums
packaged installation of 'Heatplus' as Heatplus_2.36.0.zip
* DONE (Heatplus)