| Back to Multiple platform build/check report for BioC 3.12 |
|
This page was generated on 2021-05-06 12:35:19 -0400 (Thu, 06 May 2021).
|
To the developers/maintainers of the HPAanalyze package: Please make sure to use the following settings in order to reproduce any error or warning you see on this page. |
| Package 846/1974 | Hostname | OS / Arch | INSTALL | BUILD | CHECK | BUILD BIN | ||||||||
| HPAanalyze 1.8.1 (landing page) Anh Nhat Tran
| malbec1 | Linux (Ubuntu 18.04.5 LTS) / x86_64 | OK | OK | OK | |||||||||
| tokay1 | Windows Server 2012 R2 Standard / x64 | OK | OK | ERROR | OK | |||||||||
| merida1 | macOS 10.14.6 Mojave / x86_64 | OK | OK | OK | OK | |||||||||
| Package: HPAanalyze |
| Version: 1.8.1 |
| Command: /Library/Frameworks/R.framework/Versions/Current/Resources/bin/R CMD build --keep-empty-dirs --no-resave-data HPAanalyze |
| StartedAt: 2021-05-05 20:02:33 -0400 (Wed, 05 May 2021) |
| EndedAt: 2021-05-05 20:05:13 -0400 (Wed, 05 May 2021) |
| EllapsedTime: 159.8 seconds |
| RetCode: 0 |
| Status: OK |
| PackageFile: HPAanalyze_1.8.1.tar.gz |
| PackageFileSize: 10.43 MiB |
############################################################################## ############################################################################## ### ### Running command: ### ### /Library/Frameworks/R.framework/Versions/Current/Resources/bin/R CMD build --keep-empty-dirs --no-resave-data HPAanalyze ### ############################################################################## ############################################################################## * checking for file ‘HPAanalyze/DESCRIPTION’ ... OK * preparing ‘HPAanalyze’: * checking DESCRIPTION meta-information ... OK * installing the package to build vignettes * creating vignettes ... OK * checking for LF line-endings in source and make files and shell scripts * checking for empty or unneeded directories * building ‘HPAanalyze_1.8.1.tar.gz’ Warning in utils::tar(filepath, pkgname, compression = compression, compression_level = 9L, : storing paths of more than 100 bytes is not portable: ‘HPAanalyze/docs/articles/a_HPAanalyze_quick_start_files/elevate-section-attrs-2.0/elevate-section-attrs.js’ Warning in utils::tar(filepath, pkgname, compression = compression, compression_level = 9L, : storing paths of more than 100 bytes is not portable: ‘HPAanalyze/docs/articles/b_HPAanalyze_indepth_files/elevate-section-attrs-2.0/elevate-section-attrs.js’ Warning in utils::tar(filepath, pkgname, compression = compression, compression_level = 9L, : storing paths of more than 100 bytes is not portable: ‘HPAanalyze/docs/articles/c_HPAanalyze_case_query_files/elevate-section-attrs-2.0/elevate-section-attrs.js’ Warning in utils::tar(filepath, pkgname, compression = compression, compression_level = 9L, : storing paths of more than 100 bytes is not portable: ‘HPAanalyze/docs/articles/d_HPAanalyze_case_offline_xml_files/elevate-section-attrs-2.0/elevate-section-attrs.js’ Warning in utils::tar(filepath, pkgname, compression = compression, compression_level = 9L, : storing paths of more than 100 bytes is not portable: ‘HPAanalyze/docs/articles/e_HPAanalyze_case_json_files/elevate-section-attrs-2.0/elevate-section-attrs.js’ Warning in utils::tar(filepath, pkgname, compression = compression, compression_level = 9L, : storing paths of more than 100 bytes is not portable: ‘HPAanalyze/docs/articles/f_HPAanalyze_case_images_files/elevate-section-attrs-2.0/elevate-section-attrs.js’ Warning in utils::tar(filepath, pkgname, compression = compression, compression_level = 9L, : storing paths of more than 100 bytes is not portable: ‘HPAanalyze/docs/articles/z_HPAanalyze_paper_figures_files/elevate-section-attrs-2.0/elevate-section-attrs.js’