| Back to Multiple platform build/check report for BioC 3.12 |
|
This page was generated on 2021-05-06 12:31:46 -0400 (Thu, 06 May 2021).
|
To the developers/maintainers of the HMMcopy package: Please make sure to use the following settings in order to reproduce any error or warning you see on this page. |
| Package 844/1974 | Hostname | OS / Arch | INSTALL | BUILD | CHECK | BUILD BIN | ||||||||
| HMMcopy 1.32.0 (landing page) Daniel Lai
| malbec1 | Linux (Ubuntu 18.04.5 LTS) / x86_64 | OK | OK | WARNINGS | |||||||||
| tokay1 | Windows Server 2012 R2 Standard / x64 | OK | OK | WARNINGS | OK | |||||||||
| merida1 | macOS 10.14.6 Mojave / x86_64 | OK | OK | WARNINGS | OK | |||||||||
| Package: HMMcopy |
| Version: 1.32.0 |
| Command: rm -rf HMMcopy.buildbin-libdir && mkdir HMMcopy.buildbin-libdir && C:\Users\biocbuild\bbs-3.12-bioc\R\bin\R.exe CMD INSTALL --merge-multiarch --build --library=HMMcopy.buildbin-libdir HMMcopy_1.32.0.tar.gz |
| StartedAt: 2021-05-06 09:17:29 -0400 (Thu, 06 May 2021) |
| EndedAt: 2021-05-06 09:18:06 -0400 (Thu, 06 May 2021) |
| EllapsedTime: 37.4 seconds |
| RetCode: 0 |
| Status: OK |
| PackageFile: HMMcopy_1.32.0.zip |
| PackageFileSize: 1.345 MiB |
##############################################################################
##############################################################################
###
### Running command:
###
### rm -rf HMMcopy.buildbin-libdir && mkdir HMMcopy.buildbin-libdir && C:\Users\biocbuild\bbs-3.12-bioc\R\bin\R.exe CMD INSTALL --merge-multiarch --build --library=HMMcopy.buildbin-libdir HMMcopy_1.32.0.tar.gz
###
##############################################################################
##############################################################################
install for i386
* installing *source* package 'HMMcopy' ...
** using staged installation
** libs
"C:/rtools40/mingw32/bin/"gcc -I"C:/Users/BIOCBU~1/BBS-3~1.12-/R/include" -DNDEBUG -I"C:/extsoft/include" -O2 -Wall -std=gnu99 -mfpmath=sse -msse2 -mstackrealign -c forward_backward.c -o forward_backward.o
forward_backward.c: In function 'forward_backward':
forward_backward.c:28:13: warning: unused variable 'tmp' [-Wunused-variable]
int K, T, tmp;
^~~
"C:/rtools40/mingw32/bin/"gcc -I"C:/Users/BIOCBU~1/BBS-3~1.12-/R/include" -DNDEBUG -I"C:/extsoft/include" -O2 -Wall -std=gnu99 -mfpmath=sse -msse2 -mstackrealign -c register.c -o register.o
"C:/rtools40/mingw32/bin/"gcc -I"C:/Users/BIOCBU~1/BBS-3~1.12-/R/include" -DNDEBUG -I"C:/extsoft/include" -O2 -Wall -std=gnu99 -mfpmath=sse -msse2 -mstackrealign -c viterbi.c -o viterbi.o
viterbi.c: In function 'viterbi':
viterbi.c:21:13: warning: unused variable 'tmp' [-Wunused-variable]
int K, T, tmp;
^~~
C:/rtools40/mingw32/bin/gcc -shared -s -static-libgcc -o HMMcopy.dll tmp.def forward_backward.o register.o viterbi.o -LC:/extsoft/lib/i386 -LC:/extsoft/lib -LC:/Users/BIOCBU~1/BBS-3~1.12-/R/bin/i386 -lR
installing to C:/Users/biocbuild/bbs-3.12-bioc/meat/HMMcopy.buildbin-libdir/00LOCK-HMMcopy/00new/HMMcopy/libs/i386
** R
** data
** inst
** byte-compile and prepare package for lazy loading
** help
*** installing help indices
converting help for package 'HMMcopy'
finding HTML links ... done
HMMcopy-dataset html
Rd warning: C:/Users/biocbuild/bbs-3.12-bioc/tmpdir/RtmpAbQZeN/R.INSTALL104817f87014/HMMcopy/man/HMMcopy-dataset.Rd:41: missing file link 'RangedData-class'
HMMcopy-input html
Rd warning: C:/Users/biocbuild/bbs-3.12-bioc/tmpdir/RtmpAbQZeN/R.INSTALL104817f87014/HMMcopy/man/HMMcopy-input.Rd:32: missing file link 'RangedData-class'
HMMcopy-internal html
HMMcopy-output html
Rd warning: C:/Users/biocbuild/bbs-3.12-bioc/tmpdir/RtmpAbQZeN/R.INSTALL104817f87014/HMMcopy/man/HMMcopy-output.Rd:18: missing file link 'RangedData-class'
HMMcopy-package html
HMMcopy-visualize html
HMMsegment html
correctReadcount html
Rd warning: C:/Users/biocbuild/bbs-3.12-bioc/tmpdir/RtmpAbQZeN/R.INSTALL104817f87014/HMMcopy/man/correctReadcount.Rd:15: missing file link 'RangedData-class'
Rd warning: C:/Users/biocbuild/bbs-3.12-bioc/tmpdir/RtmpAbQZeN/R.INSTALL104817f87014/HMMcopy/man/correctReadcount.Rd:59: missing file link 'RangedData-class'
wigsToRangedData html
Rd warning: C:/Users/biocbuild/bbs-3.12-bioc/tmpdir/RtmpAbQZeN/R.INSTALL104817f87014/HMMcopy/man/wigsToRangedData.Rd:41: missing file link 'RangedData-class'
** building package indices
** installing vignettes
** testing if installed package can be loaded from temporary location
** testing if installed package can be loaded from final location
** testing if installed package keeps a record of temporary installation path
install for x64
* installing *source* package 'HMMcopy' ...
** libs
"C:/rtools40/mingw64/bin/"gcc -I"C:/Users/BIOCBU~1/BBS-3~1.12-/R/include" -DNDEBUG -I"C:/extsoft/include" -O2 -Wall -std=gnu99 -mfpmath=sse -msse2 -mstackrealign -c forward_backward.c -o forward_backward.o
forward_backward.c: In function 'forward_backward':
forward_backward.c:28:13: warning: unused variable 'tmp' [-Wunused-variable]
int K, T, tmp;
^~~
"C:/rtools40/mingw64/bin/"gcc -I"C:/Users/BIOCBU~1/BBS-3~1.12-/R/include" -DNDEBUG -I"C:/extsoft/include" -O2 -Wall -std=gnu99 -mfpmath=sse -msse2 -mstackrealign -c register.c -o register.o
"C:/rtools40/mingw64/bin/"gcc -I"C:/Users/BIOCBU~1/BBS-3~1.12-/R/include" -DNDEBUG -I"C:/extsoft/include" -O2 -Wall -std=gnu99 -mfpmath=sse -msse2 -mstackrealign -c viterbi.c -o viterbi.o
viterbi.c: In function 'viterbi':
viterbi.c:21:13: warning: unused variable 'tmp' [-Wunused-variable]
int K, T, tmp;
^~~
C:/rtools40/mingw64/bin/gcc -shared -s -static-libgcc -o HMMcopy.dll tmp.def forward_backward.o register.o viterbi.o -LC:/extsoft/lib/x64 -LC:/extsoft/lib -LC:/Users/BIOCBU~1/BBS-3~1.12-/R/bin/x64 -lR
installing to C:/Users/biocbuild/bbs-3.12-bioc/meat/HMMcopy.buildbin-libdir/HMMcopy/libs/x64
** testing if installed package can be loaded
* MD5 sums
packaged installation of 'HMMcopy' as HMMcopy_1.32.0.zip
* DONE (HMMcopy)