| Back to Multiple platform build/check report for BioC 3.12 | 
  | 
This page was generated on 2021-05-06 12:31:44 -0400 (Thu, 06 May 2021).
| 
To the developers/maintainers of the HELP package: Please make sure to use the following settings in order to reproduce any error or warning you see on this page.  | 
| Package 824/1974 | Hostname | OS / Arch | INSTALL | BUILD | CHECK | BUILD BIN | ||||||||
| HELP 1.48.0  (landing page) Reid F. Thompson 
  | malbec1 | Linux (Ubuntu 18.04.5 LTS) / x86_64 | OK | OK | OK | |||||||||
| tokay1 | Windows Server 2012 R2 Standard / x64 | OK | OK | OK | OK | |||||||||
| merida1 | macOS 10.14.6 Mojave / x86_64 | OK | OK | OK | OK | |||||||||
| Package: HELP | 
| Version: 1.48.0 | 
| Command: rm -rf HELP.buildbin-libdir && mkdir HELP.buildbin-libdir && C:\Users\biocbuild\bbs-3.12-bioc\R\bin\R.exe CMD INSTALL --merge-multiarch --build --library=HELP.buildbin-libdir HELP_1.48.0.tar.gz | 
| StartedAt: 2021-05-06 09:16:27 -0400 (Thu, 06 May 2021) | 
| EndedAt: 2021-05-06 09:16:57 -0400 (Thu, 06 May 2021) | 
| EllapsedTime: 30.6 seconds | 
| RetCode: 0 | 
| Status: OK | 
| PackageFile: HELP_1.48.0.zip | 
| PackageFileSize: 1.056 MiB | 
##############################################################################
##############################################################################
###
### Running command:
###
###   rm -rf HELP.buildbin-libdir && mkdir HELP.buildbin-libdir && C:\Users\biocbuild\bbs-3.12-bioc\R\bin\R.exe CMD INSTALL --merge-multiarch --build --library=HELP.buildbin-libdir HELP_1.48.0.tar.gz
###
##############################################################################
##############################################################################
install for i386
* installing *source* package 'HELP' ...
** using staged installation
** R
** data
** demo
** inst
** byte-compile and prepare package for lazy loading
** help
*** installing help indices
  converting help for package 'HELP'
    finding HTML links ... done
    base.stacking.thermodynamics            html  
    calcGC-methods                          html  
    calcGC                                  html  
    calcPrototype-methods                   html  
    calcPrototype                           html  
    calcTm-methods                          html  
    calcTm                                  html  
    combineData-methods                     html  
    combineData                             html  
    createWiggle-methods                    html  
    createWiggle                            html  
    exprs2-methods                          html  
    exprs2                                  html  
    fuzzyMatches-methods                    html  
    fuzzyMatches                            html  
    getFeatures-methods                     html  
    getFeatures                             html  
    getSamples-methods                      html  
    getSamples                              html  
    plotBins-methods                        html  
    plotBins                                html  
    plotChip-methods                        html  
    plotChip                                html  
    plotFeature-methods                     html  
    plotFeature                             html  
    plotPairs-methods                       html  
    plotPairs                               html  
    quantileNormalize-methods               html  
    quantileNormalize                       html  
    readDesign-methods                      html  
    readDesign                              html  
    readPairs-methods                       html  
    readPairs                               html  
    readSampleKey                           html  
** building package indices
** installing vignettes
** testing if installed package can be loaded from temporary location
** testing if installed package can be loaded from final location
** testing if installed package keeps a record of temporary installation path
install for x64
* installing *source* package 'HELP' ...
** testing if installed package can be loaded
* MD5 sums
packaged installation of 'HELP' as HELP_1.48.0.zip
* DONE (HELP)