| Back to Multiple platform build/check report for BioC 3.12 |
|
This page was generated on 2021-05-06 12:31:44 -0400 (Thu, 06 May 2021).
|
To the developers/maintainers of the HCABrowser package: Please make sure to use the following settings in order to reproduce any error or warning you see on this page. |
| Package 816/1974 | Hostname | OS / Arch | INSTALL | BUILD | CHECK | BUILD BIN | ||||||||
| HCABrowser 1.6.0 (landing page) Bioconductor Package Maintainer
| malbec1 | Linux (Ubuntu 18.04.5 LTS) / x86_64 | OK | ERROR | skipped | |||||||||
| tokay1 | Windows Server 2012 R2 Standard / x64 | OK | ERROR | skipped | skipped | |||||||||
| merida1 | macOS 10.14.6 Mojave / x86_64 | OK | ERROR | skipped | skipped | |||||||||
| Package: HCABrowser |
| Version: 1.6.0 |
| Command: C:\cygwin\bin\curl.exe -O http://172.29.0.3/BBS/3.12/bioc/src/contrib/HCABrowser_1.6.0.tar.gz && rm -rf HCABrowser.buildbin-libdir && mkdir HCABrowser.buildbin-libdir && C:\Users\biocbuild\bbs-3.12-bioc\R\bin\R.exe CMD INSTALL --merge-multiarch --build --library=HCABrowser.buildbin-libdir HCABrowser_1.6.0.tar.gz && C:\Users\biocbuild\bbs-3.12-bioc\R\bin\R.exe CMD INSTALL HCABrowser_1.6.0.zip && rm HCABrowser_1.6.0.tar.gz HCABrowser_1.6.0.zip |
| StartedAt: 2021-05-05 18:47:43 -0400 (Wed, 05 May 2021) |
| EndedAt: 2021-05-05 18:48:32 -0400 (Wed, 05 May 2021) |
| EllapsedTime: 48.3 seconds |
| RetCode: 0 |
| Status: OK |
##############################################################################
##############################################################################
###
### Running command:
###
### C:\cygwin\bin\curl.exe -O http://172.29.0.3/BBS/3.12/bioc/src/contrib/HCABrowser_1.6.0.tar.gz && rm -rf HCABrowser.buildbin-libdir && mkdir HCABrowser.buildbin-libdir && C:\Users\biocbuild\bbs-3.12-bioc\R\bin\R.exe CMD INSTALL --merge-multiarch --build --library=HCABrowser.buildbin-libdir HCABrowser_1.6.0.tar.gz && C:\Users\biocbuild\bbs-3.12-bioc\R\bin\R.exe CMD INSTALL HCABrowser_1.6.0.zip && rm HCABrowser_1.6.0.tar.gz HCABrowser_1.6.0.zip
###
##############################################################################
##############################################################################
% Total % Received % Xferd Average Speed Time Time Time Current
Dload Upload Total Spent Left Speed
0 0 0 0 0 0 0 0 --:--:-- --:--:-- --:--:-- 0
100 292k 100 292k 0 0 12.6M 0 --:--:-- --:--:-- --:--:-- 12.9M
install for i386
* installing *source* package 'HCABrowser' ...
** using staged installation
** R
** inst
** byte-compile and prepare package for lazy loading
Note: possible error in 'gar_auto_auth(required_scopes, ': unused arguments (new_user = FALSE, no_auto = FALSE)
** help
*** installing help indices
converting help for package 'HCABrowser'
finding HTML links ... done
HCABrowser-class html
HCABrowser html
SearchResult html
filter.HCABrowser html
getEsQuery-HCABrowser-method html
hca-api-methods html
parseToSearchResults html
per_page html
resetEsQuery html
results html
select.HCABrowser html
show-HCABrowser-method html
show-SearchResult-method html
undoEsQuery html
** building package indices
** installing vignettes
** testing if installed package can be loaded from temporary location
** testing if installed package can be loaded from final location
** testing if installed package keeps a record of temporary installation path
install for x64
* installing *source* package 'HCABrowser' ...
** testing if installed package can be loaded
* MD5 sums
packaged installation of 'HCABrowser' as HCABrowser_1.6.0.zip
* DONE (HCABrowser)
* installing to library 'C:/Users/biocbuild/bbs-3.12-bioc/R/library'
package 'HCABrowser' successfully unpacked and MD5 sums checked