| Back to Multiple platform build/check report for BioC 3.12 |
|
This page was generated on 2021-05-06 12:31:28 -0400 (Thu, 06 May 2021).
|
To the developers/maintainers of the GenomicDataCommons package: Please make sure to use the following settings in order to reproduce any error or warning you see on this page. |
| Package 715/1974 | Hostname | OS / Arch | INSTALL | BUILD | CHECK | BUILD BIN | ||||||||
| GenomicDataCommons 1.14.0 (landing page) Sean Davis
| malbec1 | Linux (Ubuntu 18.04.5 LTS) / x86_64 | OK | OK | WARNINGS | |||||||||
| tokay1 | Windows Server 2012 R2 Standard / x64 | OK | OK | WARNINGS | OK | |||||||||
| merida1 | macOS 10.14.6 Mojave / x86_64 | OK | OK | WARNINGS | OK | |||||||||
| Package: GenomicDataCommons |
| Version: 1.14.0 |
| Command: rm -rf GenomicDataCommons.buildbin-libdir && mkdir GenomicDataCommons.buildbin-libdir && C:\Users\biocbuild\bbs-3.12-bioc\R\bin\R.exe CMD INSTALL --merge-multiarch --build --library=GenomicDataCommons.buildbin-libdir GenomicDataCommons_1.14.0.tar.gz |
| StartedAt: 2021-05-06 09:10:26 -0400 (Thu, 06 May 2021) |
| EndedAt: 2021-05-06 09:11:02 -0400 (Thu, 06 May 2021) |
| EllapsedTime: 35.3 seconds |
| RetCode: 0 |
| Status: OK |
| PackageFile: GenomicDataCommons_1.14.0.zip |
| PackageFileSize: 1.066 MiB |
##############################################################################
##############################################################################
###
### Running command:
###
### rm -rf GenomicDataCommons.buildbin-libdir && mkdir GenomicDataCommons.buildbin-libdir && C:\Users\biocbuild\bbs-3.12-bioc\R\bin\R.exe CMD INSTALL --merge-multiarch --build --library=GenomicDataCommons.buildbin-libdir GenomicDataCommons_1.14.0.tar.gz
###
##############################################################################
##############################################################################
install for i386
* installing *source* package 'GenomicDataCommons' ...
** using staged installation
** R
** inst
** byte-compile and prepare package for lazy loading
** help
*** installing help indices
converting help for package 'GenomicDataCommons'
finding HTML links ... done
GenomicDataCommons html
aggregations html
available_expand html
available_fields html
available_values html
constants html
count html
default_fields html
dot-htseq_importer html
entity_name html
expand html
faceting html
field_description html
filtering html
gdc_cache html
gdc_client html
gdc_clinical html
gdc_rnaseq html
Rd warning: C:/Users/biocbuild/bbs-3.12-bioc/tmpdir/RtmpeYInm8/R.INSTALL3d00672560fb/GenomicDataCommons/man/gdc_rnaseq.Rd:28: file link 'SummarizedExperiment' in package 'SummarizedExperiment' does not exist and so has been treated as a topic
gdc_token html
gdcdata html
grep_fields html
finding level-2 HTML links ... done
Rd warning: C:/Users/biocbuild/bbs-3.12-bioc/tmpdir/RtmpeYInm8/R.INSTALL3d00672560fb/GenomicDataCommons/man/grep_fields.Rd:10: missing link '.gdc_entities'
id_field html
ids html
make_filter html
manifest html
mapping html
query html
Rd warning: C:/Users/biocbuild/bbs-3.12-bioc/tmpdir/RtmpeYInm8/R.INSTALL3d00672560fb/GenomicDataCommons/man/query.Rd:46: missing link 'facets'
Rd warning: C:/Users/biocbuild/bbs-3.12-bioc/tmpdir/RtmpeYInm8/R.INSTALL3d00672560fb/GenomicDataCommons/man/query.Rd:53: missing link 'available_expands'
readDNAcopy html
Rd warning: C:/Users/biocbuild/bbs-3.12-bioc/tmpdir/RtmpeYInm8/R.INSTALL3d00672560fb/GenomicDataCommons/man/readDNAcopy.Rd:12: file link 'read_tsv' in package 'readr' does not exist and so has been treated as a topic
Rd warning: C:/Users/biocbuild/bbs-3.12-bioc/tmpdir/RtmpeYInm8/R.INSTALL3d00672560fb/GenomicDataCommons/man/readDNAcopy.Rd:15: file link 'GRanges' in package 'GenomicRanges' does not exist and so has been treated as a topic
readHTSeqFile html
Rd warning: C:/Users/biocbuild/bbs-3.12-bioc/tmpdir/RtmpeYInm8/R.INSTALL3d00672560fb/GenomicDataCommons/man/readHTSeqFile.Rd:16: file link 'read_tsv' in package 'readr' does not exist and so has been treated as a topic
response html
results html
results_all html
select html
slicing html
status html
transfer html
write_manifest html
** building package indices
** installing vignettes
** testing if installed package can be loaded from temporary location
** testing if installed package can be loaded from final location
** testing if installed package keeps a record of temporary installation path
install for x64
* installing *source* package 'GenomicDataCommons' ...
** testing if installed package can be loaded
* MD5 sums
packaged installation of 'GenomicDataCommons' as GenomicDataCommons_1.14.0.zip
* DONE (GenomicDataCommons)