| Back to Multiple platform build/check report for BioC 3.12 |
|
This page was generated on 2021-05-06 12:31:27 -0400 (Thu, 06 May 2021).
|
To the developers/maintainers of the GenoGAM package: Please make sure to use the following settings in order to reproduce any error or warning you see on this page. |
| Package 709/1974 | Hostname | OS / Arch | INSTALL | BUILD | CHECK | BUILD BIN | ||||||||
| GenoGAM 2.8.0 (landing page) Georg Stricker
| malbec1 | Linux (Ubuntu 18.04.5 LTS) / x86_64 | OK | OK | WARNINGS | |||||||||
| tokay1 | Windows Server 2012 R2 Standard / x64 | OK | OK | WARNINGS | OK | |||||||||
| merida1 | macOS 10.14.6 Mojave / x86_64 | OK | OK | WARNINGS | OK | |||||||||
| Package: GenoGAM |
| Version: 2.8.0 |
| Command: rm -rf GenoGAM.buildbin-libdir && mkdir GenoGAM.buildbin-libdir && C:\Users\biocbuild\bbs-3.12-bioc\R\bin\R.exe CMD INSTALL --merge-multiarch --build --library=GenoGAM.buildbin-libdir GenoGAM_2.8.0.tar.gz |
| StartedAt: 2021-05-06 09:10:06 -0400 (Thu, 06 May 2021) |
| EndedAt: 2021-05-06 09:11:56 -0400 (Thu, 06 May 2021) |
| EllapsedTime: 110.1 seconds |
| RetCode: 0 |
| Status: OK |
| PackageFile: GenoGAM_2.8.0.zip |
| PackageFileSize: 5.566 MiB |
##############################################################################
##############################################################################
###
### Running command:
###
### rm -rf GenoGAM.buildbin-libdir && mkdir GenoGAM.buildbin-libdir && C:\Users\biocbuild\bbs-3.12-bioc\R\bin\R.exe CMD INSTALL --merge-multiarch --build --library=GenoGAM.buildbin-libdir GenoGAM_2.8.0.tar.gz
###
##############################################################################
##############################################################################
install for i386
* installing *source* package 'GenoGAM' ...
** using staged installation
** libs
"C:/rtools40/mingw32/bin/"g++ -std=gnu++11 -I"C:/Users/BIOCBU~1/BBS-3~1.12-/R/include" -DNDEBUG -I../inst/include -DARMA_64BIT_WORD=1 -I'C:/Users/biocbuild/bbs-3.12-bioc/R/library/Rcpp/include' -I'C:/Users/biocbuild/bbs-3.12-bioc/R/library/RcppArmadillo/include' -I"C:/extsoft/include" -fopenmp -O2 -Wall -mfpmath=sse -msse2 -mstackrealign -c RcppExports.cpp -o RcppExports.o
"C:/rtools40/mingw32/bin/"g++ -std=gnu++11 -I"C:/Users/BIOCBU~1/BBS-3~1.12-/R/include" -DNDEBUG -I../inst/include -DARMA_64BIT_WORD=1 -I'C:/Users/biocbuild/bbs-3.12-bioc/R/library/Rcpp/include' -I'C:/Users/biocbuild/bbs-3.12-bioc/R/library/RcppArmadillo/include' -I"C:/extsoft/include" -fopenmp -O2 -Wall -mfpmath=sse -msse2 -mstackrealign -c matrixMult.cpp -o matrixMult.o
C:/rtools40/mingw32/bin/g++ -shared -s -static-libgcc -o GenoGAM.dll tmp.def RcppExports.o matrixMult.o -fopenmp -LC:/Users/BIOCBU~1/BBS-3~1.12-/R/bin/i386 -lRlapack -LC:/Users/BIOCBU~1/BBS-3~1.12-/R/bin/i386 -lRblas -lgfortran -lm -lquadmath -LC:/extsoft/lib/i386 -LC:/extsoft/lib -LC:/Users/BIOCBU~1/BBS-3~1.12-/R/bin/i386 -lR
installing to C:/Users/biocbuild/bbs-3.12-bioc/meat/GenoGAM.buildbin-libdir/00LOCK-GenoGAM/00new/GenoGAM/libs/i386
** R
** inst
** byte-compile and prepare package for lazy loading
Warning: replacing previous import 'S4Vectors::na.omit' by 'stats::na.omit' when loading 'GenoGAM'
** help
*** installing help indices
converting help for package 'GenoGAM'
finding HTML links ... done
Coordinates-class html
GenoGAM-class html
GenoGAM html
GenoGAMDataSet-class html
Rd warning: C:/Users/biocbuild/bbs-3.12-bioc/tmpdir/Rtmp6VGrw4/R.INSTALL32b41e1b3897/GenoGAM/man/GenoGAMDataSet-class.Rd:139: file link 'GenoGAMSettings' in package 'GenoGAM' does not exist and so has been treated as a topic
GenoGAMDataSet-metrics html
GenoGAMDataSet-subsetting html
GenoGAMDataSetList-class html
GenoGAMDataSetList-metrics html
GenoGAMDataSetList-subsetting html
GenoGAMFamily-class html
GenoGAMList-class html
GenoGAMList-subsetting html
GenoGAMSettings-class html
asCoordinates html
callPeaks html
computeRegionSignificance html
computeSignificance html
computeSizeFactors html
fitGenoGAM html
makeTestGenoGAM html
makeTestGenoGAMDataSet html
makeTestGenoGAMDataSetList html
makeTestGenoGAMList html
plotGenoGAM html
readData html
writeToBEDFile html
** building package indices
** installing vignettes
** testing if installed package can be loaded from temporary location
Warning: replacing previous import 'S4Vectors::na.omit' by 'stats::na.omit' when loading 'GenoGAM'
** testing if installed package can be loaded from final location
Warning: replacing previous import 'S4Vectors::na.omit' by 'stats::na.omit' when loading 'GenoGAM'
** testing if installed package keeps a record of temporary installation path
install for x64
* installing *source* package 'GenoGAM' ...
** libs
"C:/rtools40/mingw64/bin/"g++ -std=gnu++11 -I"C:/Users/BIOCBU~1/BBS-3~1.12-/R/include" -DNDEBUG -I../inst/include -DARMA_64BIT_WORD=1 -I'C:/Users/biocbuild/bbs-3.12-bioc/R/library/Rcpp/include' -I'C:/Users/biocbuild/bbs-3.12-bioc/R/library/RcppArmadillo/include' -I"C:/extsoft/include" -fopenmp -O2 -Wall -mfpmath=sse -msse2 -mstackrealign -c RcppExports.cpp -o RcppExports.o
"C:/rtools40/mingw64/bin/"g++ -std=gnu++11 -I"C:/Users/BIOCBU~1/BBS-3~1.12-/R/include" -DNDEBUG -I../inst/include -DARMA_64BIT_WORD=1 -I'C:/Users/biocbuild/bbs-3.12-bioc/R/library/Rcpp/include' -I'C:/Users/biocbuild/bbs-3.12-bioc/R/library/RcppArmadillo/include' -I"C:/extsoft/include" -fopenmp -O2 -Wall -mfpmath=sse -msse2 -mstackrealign -c matrixMult.cpp -o matrixMult.o
C:/rtools40/mingw64/bin/g++ -shared -s -static-libgcc -o GenoGAM.dll tmp.def RcppExports.o matrixMult.o -fopenmp -LC:/Users/BIOCBU~1/BBS-3~1.12-/R/bin/x64 -lRlapack -LC:/Users/BIOCBU~1/BBS-3~1.12-/R/bin/x64 -lRblas -lgfortran -lm -lquadmath -LC:/extsoft/lib/x64 -LC:/extsoft/lib -LC:/Users/BIOCBU~1/BBS-3~1.12-/R/bin/x64 -lR
installing to C:/Users/biocbuild/bbs-3.12-bioc/meat/GenoGAM.buildbin-libdir/GenoGAM/libs/x64
** testing if installed package can be loaded
Warning: replacing previous import 'S4Vectors::na.omit' by 'stats::na.omit' when loading 'GenoGAM'
* MD5 sums
packaged installation of 'GenoGAM' as GenoGAM_2.8.0.zip
* DONE (GenoGAM)