| Back to Multiple platform build/check report for BioC 3.12 |
|
This page was generated on 2021-05-06 12:31:26 -0400 (Thu, 06 May 2021).
|
To the developers/maintainers of the GeneRegionScan package: Please make sure to use the following settings in order to reproduce any error or warning you see on this page. |
| Package 697/1974 | Hostname | OS / Arch | INSTALL | BUILD | CHECK | BUILD BIN | ||||||||
| GeneRegionScan 1.46.0 (landing page) Lasse Folkersen
| malbec1 | Linux (Ubuntu 18.04.5 LTS) / x86_64 | OK | OK | OK | |||||||||
| tokay1 | Windows Server 2012 R2 Standard / x64 | OK | OK | WARNINGS | OK | |||||||||
| merida1 | macOS 10.14.6 Mojave / x86_64 | OK | OK | OK | OK | |||||||||
| Package: GeneRegionScan |
| Version: 1.46.0 |
| Command: rm -rf GeneRegionScan.buildbin-libdir && mkdir GeneRegionScan.buildbin-libdir && C:\Users\biocbuild\bbs-3.12-bioc\R\bin\R.exe CMD INSTALL --merge-multiarch --build --library=GeneRegionScan.buildbin-libdir GeneRegionScan_1.46.0.tar.gz |
| StartedAt: 2021-05-06 09:09:23 -0400 (Thu, 06 May 2021) |
| EndedAt: 2021-05-06 09:09:59 -0400 (Thu, 06 May 2021) |
| EllapsedTime: 36.1 seconds |
| RetCode: 0 |
| Status: OK |
| PackageFile: GeneRegionScan_1.46.0.zip |
| PackageFileSize: 7.657 MiB |
##############################################################################
##############################################################################
###
### Running command:
###
### rm -rf GeneRegionScan.buildbin-libdir && mkdir GeneRegionScan.buildbin-libdir && C:\Users\biocbuild\bbs-3.12-bioc\R\bin\R.exe CMD INSTALL --merge-multiarch --build --library=GeneRegionScan.buildbin-libdir GeneRegionScan_1.46.0.tar.gz
###
##############################################################################
##############################################################################
install for i386
* installing *source* package 'GeneRegionScan' ...
** using staged installation
** R
** data
** exec
** inst
** byte-compile and prepare package for lazy loading
** help
*** installing help indices
converting help for package 'GeneRegionScan'
finding HTML links ... done
Nondocumented-objects html
ProbeLevelSet-class html
addSnpPdata html
checkForFileInPath html
doProbeLinear html
doProbeTTest html
exampleProbeLevelSet html
excludeDoubleMatchingProbes html
exonStructure html
Rd warning: C:/Users/biocbuild/bbs-3.12-bioc/tmpdir/Rtmp61asKT/R.INSTALL2320786e2ccb/GeneRegionScan/man/exonStructure.rd:21: file link 'DNAString' in package 'Biostrings' does not exist and so has been treated as a topic
findProbePositions html
findSequenceInGenome html
geneRegionScan html
genomic html
Rd warning: C:/Users/biocbuild/bbs-3.12-bioc/tmpdir/Rtmp61asKT/R.INSTALL2320786e2ccb/GeneRegionScan/man/genomic.Rd:13: file link 'readDNAStringSet' in package 'Biostrings' does not exist and so has been treated as a topic
getLocalMetaprobeIntensities html
getLocalProbeIntensities html
getMetaprobesetsFromRegionOfInterest html
getProbeLevelAnnotationForExonArrays html
getProbesetsFromMetaprobeset html
getProbesetsFromRegionOfInterest html
getSequence html
getServerProbeIntensities html
mrna html
Rd warning: C:/Users/biocbuild/bbs-3.12-bioc/tmpdir/Rtmp61asKT/R.INSTALL2320786e2ccb/GeneRegionScan/man/mrna.Rd:12: file link 'readDNAStringSet' in package 'Biostrings' does not exist and so has been treated as a topic
plotCoexpression html
plotOnGene html
plotStatistics html
readGeneInput html
translateSampleNames html
** building package indices
** installing vignettes
** testing if installed package can be loaded from temporary location
** testing if installed package can be loaded from final location
** testing if installed package keeps a record of temporary installation path
install for x64
* installing *source* package 'GeneRegionScan' ...
** testing if installed package can be loaded
* MD5 sums
packaged installation of 'GeneRegionScan' as GeneRegionScan_1.46.0.zip
* DONE (GeneRegionScan)