| Back to Multiple platform build/check report for BioC 3.12 |
|
This page was generated on 2021-05-06 12:27:41 -0400 (Thu, 06 May 2021).
|
To the developers/maintainers of the GeneGeneInteR package: Please make sure to use the following settings in order to reproduce any error or warning you see on this page. |
| Package 690/1974 | Hostname | OS / Arch | INSTALL | BUILD | CHECK | BUILD BIN | ||||||||
| GeneGeneInteR 1.16.0 (landing page) Mathieu Emily
| malbec1 | Linux (Ubuntu 18.04.5 LTS) / x86_64 | OK | OK | OK | |||||||||
| tokay1 | Windows Server 2012 R2 Standard / x64 | OK | OK | OK | OK | |||||||||
| merida1 | macOS 10.14.6 Mojave / x86_64 | OK | OK | OK | OK | |||||||||
| Package: GeneGeneInteR |
| Version: 1.16.0 |
| Command: /home/biocbuild/bbs-3.12-bioc/R/bin/R CMD INSTALL GeneGeneInteR |
| StartedAt: 2021-05-05 17:24:39 -0400 (Wed, 05 May 2021) |
| EndedAt: 2021-05-05 17:25:46 -0400 (Wed, 05 May 2021) |
| EllapsedTime: 66.5 seconds |
| RetCode: 0 |
| Status: OK |
##############################################################################
##############################################################################
###
### Running command:
###
### /home/biocbuild/bbs-3.12-bioc/R/bin/R CMD INSTALL GeneGeneInteR
###
##############################################################################
##############################################################################
* installing to library ‘/home/biocbuild/bbs-3.12-bioc/R/library’
* installing *source* package ‘GeneGeneInteR’ ...
** using staged installation
** libs
g++ -std=gnu++11 -I"/home/biocbuild/bbs-3.12-bioc/R/include" -DNDEBUG -I/usr/local/include -fpic -g -O2 -Wall -c chclust.cpp -o chclust.o
chclust.cpp: In function ‘bool Conslink(long int, double**, double**)’:
chclust.cpp:82:29: warning: assuming signed overflow does not occur when assuming that (X + c) < X is always false [-Wstrict-overflow]
#define dc(a,b) (((a) > (b)) ? (DPtr[(a)-1][(b)-1]) : (DPtr[(b)-1][(a)-1]))
^
chclust.cpp:306:18: note: in expansion of macro ‘dc’
diag[i] = dc(i,i+1);
^~
g++ -std=gnu++11 -shared -L/home/biocbuild/bbs-3.12-bioc/R/lib -L/usr/local/lib -o GeneGeneInteR.so chclust.o -L/home/biocbuild/bbs-3.12-bioc/R/lib -lR
installing to /home/biocbuild/bbs-3.12-bioc/R/library/00LOCK-GeneGeneInteR/00new/GeneGeneInteR/libs
** R
** data
*** moving datasets to lazyload DB
** inst
** byte-compile and prepare package for lazy loading
** help
*** installing help indices
** building package indices
** installing vignettes
** testing if installed package can be loaded from temporary location
** checking absolute paths in shared objects and dynamic libraries
** testing if installed package can be loaded from final location
** testing if installed package keeps a record of temporary installation path
* DONE (GeneGeneInteR)