| Back to Multiple platform build/check report for BioC 3.12 |
|
This page was generated on 2021-05-06 12:31:29 -0400 (Thu, 06 May 2021).
|
To the developers/maintainers of the GenVisR package: Please make sure to use the following settings in order to reproduce any error or warning you see on this page. |
| Package 727/1974 | Hostname | OS / Arch | INSTALL | BUILD | CHECK | BUILD BIN | ||||||||
| GenVisR 1.22.1 (landing page) Zachary Skidmore
| malbec1 | Linux (Ubuntu 18.04.5 LTS) / x86_64 | OK | OK | OK | |||||||||
| tokay1 | Windows Server 2012 R2 Standard / x64 | OK | OK | OK | OK | |||||||||
| merida1 | macOS 10.14.6 Mojave / x86_64 | OK | OK | ERROR | OK | |||||||||
| Package: GenVisR |
| Version: 1.22.1 |
| Command: rm -rf GenVisR.buildbin-libdir && mkdir GenVisR.buildbin-libdir && C:\Users\biocbuild\bbs-3.12-bioc\R\bin\R.exe CMD INSTALL --merge-multiarch --build --library=GenVisR.buildbin-libdir GenVisR_1.22.1.tar.gz |
| StartedAt: 2021-05-06 09:10:58 -0400 (Thu, 06 May 2021) |
| EndedAt: 2021-05-06 09:12:14 -0400 (Thu, 06 May 2021) |
| EllapsedTime: 75.7 seconds |
| RetCode: 0 |
| Status: OK |
| PackageFile: GenVisR_1.22.1.zip |
| PackageFileSize: 2.19 MiB |
##############################################################################
##############################################################################
###
### Running command:
###
### rm -rf GenVisR.buildbin-libdir && mkdir GenVisR.buildbin-libdir && C:\Users\biocbuild\bbs-3.12-bioc\R\bin\R.exe CMD INSTALL --merge-multiarch --build --library=GenVisR.buildbin-libdir GenVisR_1.22.1.tar.gz
###
##############################################################################
##############################################################################
install for i386
* installing *source* package 'GenVisR' ...
** using staged installation
** R
** data
*** moving datasets to lazyload DB
** inst
** byte-compile and prepare package for lazy loading
** help
*** installing help indices
converting help for package 'GenVisR'
finding HTML links ... done
Clinical-class html
GMS-class html
GMS_Virtual-class html
GMS_v4-class html
GenVisR html
HCC1395_Germline html
HCC1395_N html
HCC1395_T html
Lolliplot-class html
LucCNseg html
MutSpectra-class html
MutationAnnotationFormat-class html
MutationAnnotationFormat_Virtual-class
html
MutationAnnotationFormat_v1.0-class html
MutationAnnotationFormat_v2.0-class html
MutationAnnotationFormat_v2.1-class html
MutationAnnotationFormat_v2.2-class html
MutationAnnotationFormat_v2.3-class html
MutationAnnotationFormat_v2.4-class html
PIK3CA html
Rainfall-class html
SNPloci html
TvTi html
VEP-class html
VEP_Virtual-class html
VEP_v88-class html
Waterfall-class html
brcaMAF html
cnFreq html
cnSpec html
cnView html
compIdent html
covBars html
cytoGeno html
drawPlot-methods html
genCov html
geneViz html
getData-methods html
getDescription-methods html
getGrob-methods html
getHeader-methods html
getMeta-methods html
getMutation-methods html
getPath-methods html
getPosition-methods html
getSample-methods html
getVersion-methods html
hg19chr html
ideoView html
lohSpec html
lohView html
lolliplot html
lolliplot_AA2sidechain html
lolliplot_buildMain html
waterfall html
writeData-methods html
** building package indices
** installing vignettes
** testing if installed package can be loaded from temporary location
** testing if installed package can be loaded from final location
** testing if installed package keeps a record of temporary installation path
install for x64
* installing *source* package 'GenVisR' ...
** testing if installed package can be loaded
* MD5 sums
packaged installation of 'GenVisR' as GenVisR_1.22.1.zip
* DONE (GenVisR)