| Back to Multiple platform build/check report for BioC 3.12 |
|
This page was generated on 2021-05-06 12:31:23 -0400 (Thu, 06 May 2021).
|
To the developers/maintainers of the GateFinder package: Please make sure to use the following settings in order to reproduce any error or warning you see on this page. |
| Package 666/1974 | Hostname | OS / Arch | INSTALL | BUILD | CHECK | BUILD BIN | ||||||||
| GateFinder 1.10.0 (landing page) Nima Aghaeepour
| malbec1 | Linux (Ubuntu 18.04.5 LTS) / x86_64 | OK | OK | OK | |||||||||
| tokay1 | Windows Server 2012 R2 Standard / x64 | OK | OK | OK | OK | |||||||||
| merida1 | macOS 10.14.6 Mojave / x86_64 | OK | OK | OK | OK | |||||||||
| Package: GateFinder |
| Version: 1.10.0 |
| Command: C:\Users\biocbuild\bbs-3.12-bioc\R\bin\R.exe --arch x64 CMD INSTALL --no-multiarch GateFinder |
| StartedAt: 2021-05-05 19:12:53 -0400 (Wed, 05 May 2021) |
| EndedAt: 2021-05-05 19:14:15 -0400 (Wed, 05 May 2021) |
| EllapsedTime: 82.0 seconds |
| RetCode: 0 |
| Status: OK |
##############################################################################
##############################################################################
###
### Running command:
###
### C:\Users\biocbuild\bbs-3.12-bioc\R\bin\R.exe --arch x64 CMD INSTALL --no-multiarch GateFinder
###
##############################################################################
##############################################################################
* installing to library 'C:/Users/biocbuild/bbs-3.12-bioc/R/library'
* installing *source* package 'GateFinder' ...
** using staged installation
** R
** data
** inst
** byte-compile and prepare package for lazy loading
** help
*** installing help indices
converting help for package 'GateFinder'
finding HTML links ... done
GateFinder-package html
GateFinder html
GatingProjection-class html
LPSData html
plot.GateFinder html
** building package indices
** installing vignettes
** testing if installed package can be loaded from temporary location
** testing if installed package can be loaded from final location
** testing if installed package keeps a record of temporary installation path
* DONE (GateFinder)
Making 'packages.html' ... done