| Back to Multiple platform build/check report for BioC 3.12 |
|
This page was generated on 2021-05-06 12:27:51 -0400 (Thu, 06 May 2021).
|
To the developers/maintainers of the GWENA package: Please make sure to use the following settings in order to reproduce any error or warning you see on this page. |
| Package 811/1974 | Hostname | OS / Arch | INSTALL | BUILD | CHECK | BUILD BIN | ||||||||
| GWENA 1.0.1 (landing page) Gwenaëlle Lemoine
| malbec1 | Linux (Ubuntu 18.04.5 LTS) / x86_64 | OK | OK | OK | |||||||||
| tokay1 | Windows Server 2012 R2 Standard / x64 | OK | OK | OK | OK | |||||||||
| merida1 | macOS 10.14.6 Mojave / x86_64 | OK | OK | OK | OK | |||||||||
| Package: GWENA |
| Version: 1.0.1 |
| Command: /home/biocbuild/bbs-3.12-bioc/R/bin/R CMD build --keep-empty-dirs --no-resave-data GWENA |
| StartedAt: 2021-05-05 19:31:32 -0400 (Wed, 05 May 2021) |
| EndedAt: 2021-05-05 19:33:44 -0400 (Wed, 05 May 2021) |
| EllapsedTime: 132.1 seconds |
| RetCode: 0 |
| Status: OK |
| PackageFile: GWENA_1.0.1.tar.gz |
| PackageFileSize: 4.11 MiB |
############################################################################## ############################################################################## ### ### Running command: ### ### /home/biocbuild/bbs-3.12-bioc/R/bin/R CMD build --keep-empty-dirs --no-resave-data GWENA ### ############################################################################## ############################################################################## * checking for file ‘GWENA/DESCRIPTION’ ... OK * preparing ‘GWENA’: * checking DESCRIPTION meta-information ... OK * installing the package to build vignettes * creating vignettes ... OK * checking for LF line-endings in source and make files and shell scripts * checking for empty or unneeded directories * building ‘GWENA_1.0.1.tar.gz’