| Back to Multiple platform build/check report for BioC 3.12 |
|
This page was generated on 2021-05-06 12:31:42 -0400 (Thu, 06 May 2021).
|
To the developers/maintainers of the GSEABase package: Please make sure to use the following settings in order to reproduce any error or warning you see on this page. |
| Package 794/1974 | Hostname | OS / Arch | INSTALL | BUILD | CHECK | BUILD BIN | ||||||||
| GSEABase 1.52.1 (landing page) Bioconductor Package Maintainer
| malbec1 | Linux (Ubuntu 18.04.5 LTS) / x86_64 | OK | OK | OK | |||||||||
| tokay1 | Windows Server 2012 R2 Standard / x64 | OK | OK | OK | OK | |||||||||
| merida1 | macOS 10.14.6 Mojave / x86_64 | OK | OK | OK | OK | |||||||||
| Package: GSEABase |
| Version: 1.52.1 |
| Command: rm -rf GSEABase.buildbin-libdir && mkdir GSEABase.buildbin-libdir && C:\Users\biocbuild\bbs-3.12-bioc\R\bin\R.exe CMD INSTALL --merge-multiarch --build --library=GSEABase.buildbin-libdir GSEABase_1.52.1.tar.gz |
| StartedAt: 2021-05-06 09:14:51 -0400 (Thu, 06 May 2021) |
| EndedAt: 2021-05-06 09:15:29 -0400 (Thu, 06 May 2021) |
| EllapsedTime: 37.9 seconds |
| RetCode: 0 |
| Status: OK |
| PackageFile: GSEABase_1.52.1.zip |
| PackageFileSize: 908.5 KiB |
##############################################################################
##############################################################################
###
### Running command:
###
### rm -rf GSEABase.buildbin-libdir && mkdir GSEABase.buildbin-libdir && C:\Users\biocbuild\bbs-3.12-bioc\R\bin\R.exe CMD INSTALL --merge-multiarch --build --library=GSEABase.buildbin-libdir GSEABase_1.52.1.tar.gz
###
##############################################################################
##############################################################################
install for i386
* installing *source* package 'GSEABase' ...
** using staged installation
** R
** inst
** byte-compile and prepare package for lazy loading
** help
*** installing help indices
converting help for package 'GSEABase'
finding HTML links ... done
CollectionType-class html
CollectionType-constructors html
GSEABase-package html
GeneColorSet-class html
GeneColorSet-methods html
GeneIdentifierType-class html
GeneIdentifierType-constructors html
GeneSet-class html
GeneSet-methods html
GeneSetCollection-class html
GeneSetCollection-methods html
OBOCollection-class html
details-methods html
getOBOCollection html
getObjects html
goSlim-methods html
incidence-methods html
mapIdentifiers-methods html
** building package indices
** installing vignettes
** testing if installed package can be loaded from temporary location
** testing if installed package can be loaded from final location
** testing if installed package keeps a record of temporary installation path
install for x64
* installing *source* package 'GSEABase' ...
** testing if installed package can be loaded
* MD5 sums
packaged installation of 'GSEABase' as GSEABase_1.52.1.zip
* DONE (GSEABase)