| Back to Multiple platform build/check report for BioC 3.12 |
|
This page was generated on 2021-05-06 12:31:42 -0400 (Thu, 06 May 2021).
|
To the developers/maintainers of the GSCA package: Please make sure to use the following settings in order to reproduce any error or warning you see on this page. |
| Package 792/1974 | Hostname | OS / Arch | INSTALL | BUILD | CHECK | BUILD BIN | ||||||||
| GSCA 2.20.0 (landing page) Zhicheng Ji
| malbec1 | Linux (Ubuntu 18.04.5 LTS) / x86_64 | OK | OK | OK | |||||||||
| tokay1 | Windows Server 2012 R2 Standard / x64 | OK | OK | OK | OK | |||||||||
| merida1 | macOS 10.14.6 Mojave / x86_64 | OK | OK | OK | OK | |||||||||
| Package: GSCA |
| Version: 2.20.0 |
| Command: rm -rf GSCA.buildbin-libdir && mkdir GSCA.buildbin-libdir && C:\Users\biocbuild\bbs-3.12-bioc\R\bin\R.exe CMD INSTALL --merge-multiarch --build --library=GSCA.buildbin-libdir GSCA_2.20.0.tar.gz |
| StartedAt: 2021-05-06 09:14:44 -0400 (Thu, 06 May 2021) |
| EndedAt: 2021-05-06 09:15:22 -0400 (Thu, 06 May 2021) |
| EllapsedTime: 38.4 seconds |
| RetCode: 0 |
| Status: OK |
| PackageFile: GSCA_2.20.0.zip |
| PackageFileSize: 2.32 MiB |
##############################################################################
##############################################################################
###
### Running command:
###
### rm -rf GSCA.buildbin-libdir && mkdir GSCA.buildbin-libdir && C:\Users\biocbuild\bbs-3.12-bioc\R\bin\R.exe CMD INSTALL --merge-multiarch --build --library=GSCA.buildbin-libdir GSCA_2.20.0.tar.gz
###
##############################################################################
##############################################################################
install for i386
* installing *source* package 'GSCA' ...
** using staged installation
** R
** data
** inst
** byte-compile and prepare package for lazy loading
** help
*** installing help indices
converting help for package 'GSCA'
finding HTML links ... done
ConstructTG html
GSCA-package html
GSCA html
GSCAeda html
GSCAplot html
GSCAui html
Oct4ESC_TG html
STAT1_TG html
annotatePeaks html
geneIDdata html
tabSearch html
** building package indices
** installing vignettes
** testing if installed package can be loaded from temporary location
** testing if installed package can be loaded from final location
** testing if installed package keeps a record of temporary installation path
install for x64
* installing *source* package 'GSCA' ...
** testing if installed package can be loaded
* MD5 sums
packaged installation of 'GSCA' as GSCA_2.20.0.zip
* DONE (GSCA)