| Back to Multiple platform build/check report for BioC 3.12 |
|
This page was generated on 2021-05-06 12:31:41 -0400 (Thu, 06 May 2021).
|
To the developers/maintainers of the GSAR package: Please make sure to use the following settings in order to reproduce any error or warning you see on this page. |
| Package 791/1974 | Hostname | OS / Arch | INSTALL | BUILD | CHECK | BUILD BIN | ||||||||
| GSAR 1.24.0 (landing page) Yasir Rahmatallah
| malbec1 | Linux (Ubuntu 18.04.5 LTS) / x86_64 | OK | OK | OK | |||||||||
| tokay1 | Windows Server 2012 R2 Standard / x64 | OK | OK | OK | OK | |||||||||
| merida1 | macOS 10.14.6 Mojave / x86_64 | OK | OK | OK | OK | |||||||||
| Package: GSAR |
| Version: 1.24.0 |
| Command: rm -rf GSAR.buildbin-libdir && mkdir GSAR.buildbin-libdir && C:\Users\biocbuild\bbs-3.12-bioc\R\bin\R.exe CMD INSTALL --merge-multiarch --build --library=GSAR.buildbin-libdir GSAR_1.24.0.tar.gz |
| StartedAt: 2021-05-06 09:14:40 -0400 (Thu, 06 May 2021) |
| EndedAt: 2021-05-06 09:15:19 -0400 (Thu, 06 May 2021) |
| EllapsedTime: 38.4 seconds |
| RetCode: 0 |
| Status: OK |
| PackageFile: GSAR_1.24.0.zip |
| PackageFileSize: 3.579 MiB |
##############################################################################
##############################################################################
###
### Running command:
###
### rm -rf GSAR.buildbin-libdir && mkdir GSAR.buildbin-libdir && C:\Users\biocbuild\bbs-3.12-bioc\R\bin\R.exe CMD INSTALL --merge-multiarch --build --library=GSAR.buildbin-libdir GSAR_1.24.0.tar.gz
###
##############################################################################
##############################################################################
install for i386
* installing *source* package 'GSAR' ...
** using staged installation
** R
** data
*** moving datasets to lazyload DB
** inst
** byte-compile and prepare package for lazy loading
** help
*** installing help indices
converting help for package 'GSAR'
finding HTML links ... done
AggrFtest html
GSAR-package html
finding level-2 HTML links ... done
GSNCAtest html
HDP.ranking html
KStest html
MDtest html
RKStest html
RMDtest html
TestGeneSets html
WWtest html
findMST2.PPI html
findMST2 html
p53DataSet html
plotMST2.pathway html
radial.ranking html
** building package indices
** installing vignettes
** testing if installed package can be loaded from temporary location
** testing if installed package can be loaded from final location
** testing if installed package keeps a record of temporary installation path
install for x64
* installing *source* package 'GSAR' ...
** testing if installed package can be loaded
* MD5 sums
packaged installation of 'GSAR' as GSAR_1.24.0.zip
* DONE (GSAR)