| Back to Multiple platform build/check report for BioC 3.12 |
|
This page was generated on 2021-05-06 12:31:41 -0400 (Thu, 06 May 2021).
|
To the developers/maintainers of the GSALightning package: Please make sure to use the following settings in order to reproduce any error or warning you see on this page. |
| Package 790/1974 | Hostname | OS / Arch | INSTALL | BUILD | CHECK | BUILD BIN | ||||||||
| GSALightning 1.18.0 (landing page) Billy Heung Wing Chang
| malbec1 | Linux (Ubuntu 18.04.5 LTS) / x86_64 | OK | OK | OK | |||||||||
| tokay1 | Windows Server 2012 R2 Standard / x64 | OK | OK | OK | OK | |||||||||
| merida1 | macOS 10.14.6 Mojave / x86_64 | OK | OK | OK | OK | |||||||||
| Package: GSALightning |
| Version: 1.18.0 |
| Command: rm -rf GSALightning.buildbin-libdir && mkdir GSALightning.buildbin-libdir && C:\Users\biocbuild\bbs-3.12-bioc\R\bin\R.exe CMD INSTALL --merge-multiarch --build --library=GSALightning.buildbin-libdir GSALightning_1.18.0.tar.gz |
| StartedAt: 2021-05-06 09:14:37 -0400 (Thu, 06 May 2021) |
| EndedAt: 2021-05-06 09:15:12 -0400 (Thu, 06 May 2021) |
| EllapsedTime: 34.9 seconds |
| RetCode: 0 |
| Status: OK |
| PackageFile: GSALightning_1.18.0.zip |
| PackageFileSize: 4.27 MiB |
##############################################################################
##############################################################################
###
### Running command:
###
### rm -rf GSALightning.buildbin-libdir && mkdir GSALightning.buildbin-libdir && C:\Users\biocbuild\bbs-3.12-bioc\R\bin\R.exe CMD INSTALL --merge-multiarch --build --library=GSALightning.buildbin-libdir GSALightning_1.18.0.tar.gz
###
##############################################################################
##############################################################################
install for i386
* installing *source* package 'GSALightning' ...
** using staged installation
** R
** data
** inst
** byte-compile and prepare package for lazy loading
** help
*** installing help indices
converting help for package 'GSALightning'
finding HTML links ... done
GSALight html
GSALightning-package html
expression html
permTestLight html
sampleInfo html
targetGenes html
wilcoxTest html
** building package indices
** installing vignettes
** testing if installed package can be loaded from temporary location
** testing if installed package can be loaded from final location
** testing if installed package keeps a record of temporary installation path
install for x64
* installing *source* package 'GSALightning' ...
** testing if installed package can be loaded
* MD5 sums
packaged installation of 'GSALightning' as GSALightning_1.18.0.zip
* DONE (GSALightning)