| Back to Multiple platform build/check report for BioC 3.12 |
|
This page was generated on 2021-05-06 12:31:32 -0400 (Thu, 06 May 2021).
|
To the developers/maintainers of the GOFunction package: Please make sure to use the following settings in order to reproduce any error or warning you see on this page. |
| Package 760/1974 | Hostname | OS / Arch | INSTALL | BUILD | CHECK | BUILD BIN | ||||||||
Jing Wang
| malbec1 | Linux (Ubuntu 18.04.5 LTS) / x86_64 | OK | ERROR | skipped | |||||||||
| tokay1 | Windows Server 2012 R2 Standard / x64 | OK | ERROR | skipped | skipped | |||||||||
| merida1 | macOS 10.14.6 Mojave / x86_64 | OK | ERROR | skipped | skipped | |||||||||
| Package: GOFunction |
| Version: 1.38.0 |
| Command: C:\cygwin\bin\curl.exe -O http://172.29.0.3/BBS/3.12/bioc/src/contrib/GOFunction_1.38.0.tar.gz && rm -rf GOFunction.buildbin-libdir && mkdir GOFunction.buildbin-libdir && C:\Users\biocbuild\bbs-3.12-bioc\R\bin\R.exe CMD INSTALL --merge-multiarch --build --library=GOFunction.buildbin-libdir GOFunction_1.38.0.tar.gz && C:\Users\biocbuild\bbs-3.12-bioc\R\bin\R.exe CMD INSTALL GOFunction_1.38.0.zip && rm GOFunction_1.38.0.tar.gz GOFunction_1.38.0.zip |
| StartedAt: 2021-05-05 17:16:52 -0400 (Wed, 05 May 2021) |
| EndedAt: 2021-05-05 17:17:28 -0400 (Wed, 05 May 2021) |
| EllapsedTime: 36.9 seconds |
| RetCode: 0 |
| Status: OK |
##############################################################################
##############################################################################
###
### Running command:
###
### C:\cygwin\bin\curl.exe -O http://172.29.0.3/BBS/3.12/bioc/src/contrib/GOFunction_1.38.0.tar.gz && rm -rf GOFunction.buildbin-libdir && mkdir GOFunction.buildbin-libdir && C:\Users\biocbuild\bbs-3.12-bioc\R\bin\R.exe CMD INSTALL --merge-multiarch --build --library=GOFunction.buildbin-libdir GOFunction_1.38.0.tar.gz && C:\Users\biocbuild\bbs-3.12-bioc\R\bin\R.exe CMD INSTALL GOFunction_1.38.0.zip && rm GOFunction_1.38.0.tar.gz GOFunction_1.38.0.zip
###
##############################################################################
##############################################################################
% Total % Received % Xferd Average Speed Time Time Time Current
Dload Upload Total Spent Left Speed
0 0 0 0 0 0 0 0 --:--:-- --:--:-- --:--:-- 0
100 583k 100 583k 0 0 23.3M 0 --:--:-- --:--:-- --:--:-- 24.7M
install for i386
* installing *source* package 'GOFunction' ...
** using staged installation
** R
** data
** byte-compile and prepare package for lazy loading
** help
*** installing help indices
converting help for package 'GOFunction'
finding HTML links ... done
GOFunction-package html
GOFunction html
createGODAG html
enrichmentFunction html
globalRedundancy html
interestGenes html
localRedundancy html
refGenes html
showSigNodes html
** building package indices
** installing vignettes
** testing if installed package can be loaded from temporary location
Warning: Package 'GOFunction' is deprecated and will be removed from
Bioconductor version 3.13
** testing if installed package can be loaded from final location
Warning: Package 'GOFunction' is deprecated and will be removed from
Bioconductor version 3.13
** testing if installed package keeps a record of temporary installation path
install for x64
* installing *source* package 'GOFunction' ...
** testing if installed package can be loaded
Warning: Package 'GOFunction' is deprecated and will be removed from
Bioconductor version 3.13
* MD5 sums
packaged installation of 'GOFunction' as GOFunction_1.38.0.zip
* DONE (GOFunction)
* installing to library 'C:/Users/biocbuild/bbs-3.12-bioc/R/library'
package 'GOFunction' successfully unpacked and MD5 sums checked