| Back to Multiple platform build/check report for BioC 3.12 |
|
This page was generated on 2021-05-06 12:31:31 -0400 (Thu, 06 May 2021).
|
To the developers/maintainers of the GMRP package: Please make sure to use the following settings in order to reproduce any error or warning you see on this page. |
| Package 756/1974 | Hostname | OS / Arch | INSTALL | BUILD | CHECK | BUILD BIN | ||||||||
| GMRP 1.18.0 (landing page) Yuan-De Tan
| malbec1 | Linux (Ubuntu 18.04.5 LTS) / x86_64 | OK | OK | WARNINGS | |||||||||
| tokay1 | Windows Server 2012 R2 Standard / x64 | OK | OK | WARNINGS | OK | |||||||||
| merida1 | macOS 10.14.6 Mojave / x86_64 | OK | OK | WARNINGS | OK | |||||||||
| Package: GMRP |
| Version: 1.18.0 |
| Command: chmod a+r GMRP -R && C:\Users\biocbuild\bbs-3.12-bioc\R\bin\R.exe CMD build --keep-empty-dirs --no-resave-data GMRP |
| StartedAt: 2021-05-05 21:17:21 -0400 (Wed, 05 May 2021) |
| EndedAt: 2021-05-05 21:17:51 -0400 (Wed, 05 May 2021) |
| EllapsedTime: 29.3 seconds |
| RetCode: 0 |
| Status: OK |
| PackageFile: GMRP_1.18.0.tar.gz |
| PackageFileSize: 893.6 KiB |
##############################################################################
##############################################################################
###
### Running command:
###
### chmod a+r GMRP -R && C:\Users\biocbuild\bbs-3.12-bioc\R\bin\R.exe CMD build --keep-empty-dirs --no-resave-data GMRP
###
##############################################################################
##############################################################################
* checking for file 'GMRP/DESCRIPTION' ... OK
* preparing 'GMRP':
* checking DESCRIPTION meta-information ... OK
* installing the package to build vignettes
* creating vignettes ... OK
Warning: 'inst/doc' file
'GMRP.R'
ignored as vignettes have been rebuilt.
Run R CMD build with --no-build-vignettes to prevent rebuilding.
* checking for LF line-endings in source and make files and shell scripts
* checking for empty or unneeded directories
* looking to see if a 'data/datalist' file should be added
* building 'GMRP_1.18.0.tar.gz'