| Back to Multiple platform build/check report for BioC 3.12 |
|
This page was generated on 2021-05-06 12:31:30 -0400 (Thu, 06 May 2021).
|
To the developers/maintainers of the GISPA package: Please make sure to use the following settings in order to reproduce any error or warning you see on this page. |
| Package 744/1974 | Hostname | OS / Arch | INSTALL | BUILD | CHECK | BUILD BIN | ||||||||
| GISPA 1.14.0 (landing page) Bhakti Dwivedi
| malbec1 | Linux (Ubuntu 18.04.5 LTS) / x86_64 | OK | OK | OK | |||||||||
| tokay1 | Windows Server 2012 R2 Standard / x64 | OK | OK | OK | OK | |||||||||
| merida1 | macOS 10.14.6 Mojave / x86_64 | OK | OK | OK | OK | |||||||||
| Package: GISPA |
| Version: 1.14.0 |
| Command: rm -rf GISPA.buildbin-libdir && mkdir GISPA.buildbin-libdir && C:\Users\biocbuild\bbs-3.12-bioc\R\bin\R.exe CMD INSTALL --merge-multiarch --build --library=GISPA.buildbin-libdir GISPA_1.14.0.tar.gz |
| StartedAt: 2021-05-06 09:12:06 -0400 (Thu, 06 May 2021) |
| EndedAt: 2021-05-06 09:12:44 -0400 (Thu, 06 May 2021) |
| EllapsedTime: 37.4 seconds |
| RetCode: 0 |
| Status: OK |
| PackageFile: GISPA_1.14.0.zip |
| PackageFileSize: 204.1 KiB |
##############################################################################
##############################################################################
###
### Running command:
###
### rm -rf GISPA.buildbin-libdir && mkdir GISPA.buildbin-libdir && C:\Users\biocbuild\bbs-3.12-bioc\R\bin\R.exe CMD INSTALL --merge-multiarch --build --library=GISPA.buildbin-libdir GISPA_1.14.0.tar.gz
###
##############################################################################
##############################################################################
install for i386
* installing *source* package 'GISPA' ...
** using staged installation
** R
** data
*** moving datasets to lazyload DB
** inst
** byte-compile and prepare package for lazy loading
** help
*** installing help indices
converting help for package 'GISPA'
finding HTML links ... done
GISPA html
cnvset html
computePS html
cptModel html
cptPlot html
cptSlopeplot html
exprset html
propBarplot html
stackedBarplot html
varset html
** building package indices
** installing vignettes
** testing if installed package can be loaded from temporary location
** testing if installed package can be loaded from final location
** testing if installed package keeps a record of temporary installation path
install for x64
* installing *source* package 'GISPA' ...
** testing if installed package can be loaded
* MD5 sums
packaged installation of 'GISPA' as GISPA_1.14.0.zip
* DONE (GISPA)