| Back to Multiple platform build/check report for BioC 3.12 |
|
This page was generated on 2021-05-06 12:31:29 -0400 (Thu, 06 May 2021).
|
To the developers/maintainers of the GEOquery package: Please make sure to use the following settings in order to reproduce any error or warning you see on this page. |
| Package 729/1974 | Hostname | OS / Arch | INSTALL | BUILD | CHECK | BUILD BIN | ||||||||
| GEOquery 2.58.0 (landing page) Sean Davis
| malbec1 | Linux (Ubuntu 18.04.5 LTS) / x86_64 | OK | OK | OK | |||||||||
| tokay1 | Windows Server 2012 R2 Standard / x64 | OK | OK | OK | OK | |||||||||
| merida1 | macOS 10.14.6 Mojave / x86_64 | OK | OK | OK | OK | |||||||||
| Package: GEOquery |
| Version: 2.58.0 |
| Command: rm -rf GEOquery.buildbin-libdir && mkdir GEOquery.buildbin-libdir && C:\Users\biocbuild\bbs-3.12-bioc\R\bin\R.exe CMD INSTALL --merge-multiarch --build --library=GEOquery.buildbin-libdir GEOquery_2.58.0.tar.gz |
| StartedAt: 2021-05-06 09:11:05 -0400 (Thu, 06 May 2021) |
| EndedAt: 2021-05-06 09:11:18 -0400 (Thu, 06 May 2021) |
| EllapsedTime: 12.8 seconds |
| RetCode: 0 |
| Status: OK |
| PackageFile: GEOquery_2.58.0.zip |
| PackageFileSize: 13.28 MiB |
##############################################################################
##############################################################################
###
### Running command:
###
### rm -rf GEOquery.buildbin-libdir && mkdir GEOquery.buildbin-libdir && C:\Users\biocbuild\bbs-3.12-bioc\R\bin\R.exe CMD INSTALL --merge-multiarch --build --library=GEOquery.buildbin-libdir GEOquery_2.58.0.tar.gz
###
##############################################################################
##############################################################################
install for i386
* installing *source* package 'GEOquery' ...
** using staged installation
** R
** inst
** byte-compile and prepare package for lazy loading
** help
*** installing help indices
converting help for package 'GEOquery'
finding HTML links ... done
GDS-class html
GEOData-accessors html
GEOData-class html
GEODataTable-class html
GPL-class html
GSE-class html
GSM-class html
coercion html
getDirListing html
getGEO html
getGEOSuppFiles html
getGEOfile html
getGSEDataTables html
gunzip html
parseGEO html
parseGSEMatrix html
** building package indices
** installing vignettes
** testing if installed package can be loaded from temporary location
** testing if installed package can be loaded from final location
** testing if installed package keeps a record of temporary installation path
install for x64
* installing *source* package 'GEOquery' ...
** testing if installed package can be loaded
* MD5 sums
packaged installation of 'GEOquery' as GEOquery_2.58.0.zip
* DONE (GEOquery)