| Back to Multiple platform build/check report for BioC 3.12 |
|
This page was generated on 2021-05-06 12:31:24 -0400 (Thu, 06 May 2021).
|
To the developers/maintainers of the GEM package: Please make sure to use the following settings in order to reproduce any error or warning you see on this page. |
| Package 677/1974 | Hostname | OS / Arch | INSTALL | BUILD | CHECK | BUILD BIN | ||||||||
| GEM 1.16.0 (landing page) Hong Pan
| malbec1 | Linux (Ubuntu 18.04.5 LTS) / x86_64 | OK | OK | OK | |||||||||
| tokay1 | Windows Server 2012 R2 Standard / x64 | OK | OK | WARNINGS | OK | |||||||||
| merida1 | macOS 10.14.6 Mojave / x86_64 | OK | OK | OK | OK | |||||||||
| Package: GEM |
| Version: 1.16.0 |
| Command: rm -rf GEM.buildbin-libdir && mkdir GEM.buildbin-libdir && C:\Users\biocbuild\bbs-3.12-bioc\R\bin\R.exe CMD INSTALL --merge-multiarch --build --library=GEM.buildbin-libdir GEM_1.16.0.tar.gz |
| StartedAt: 2021-05-06 09:08:17 -0400 (Thu, 06 May 2021) |
| EndedAt: 2021-05-06 09:08:51 -0400 (Thu, 06 May 2021) |
| EllapsedTime: 34.6 seconds |
| RetCode: 0 |
| Status: OK |
| PackageFile: GEM_1.16.0.zip |
| PackageFileSize: 572.9 KiB |
##############################################################################
##############################################################################
###
### Running command:
###
### rm -rf GEM.buildbin-libdir && mkdir GEM.buildbin-libdir && C:\Users\biocbuild\bbs-3.12-bioc\R\bin\R.exe CMD INSTALL --merge-multiarch --build --library=GEM.buildbin-libdir GEM_1.16.0.tar.gz
###
##############################################################################
##############################################################################
install for i386
* installing *source* package 'GEM' ...
** using staged installation
** R
** inst
** byte-compile and prepare package for lazy loading
** help
*** installing help indices
converting help for package 'GEM'
finding HTML links ... done
GEM-package html
GEM_Emodel html
GEM_GUI html
GEM_GWASmodel html
GEM_Gmodel html
GEM_GxEmodel html
SlicedData-class html
Rd warning: C:/Users/biocbuild/bbs-3.12-bioc/tmpdir/RtmpELGjYd/R.INSTALL150c59a941b8/GEM/man/SlicedData-class.Rd:89: file link 'rowMeans' in package 'base' does not exist and so has been treated as a topic
Rd warning: C:/Users/biocbuild/bbs-3.12-bioc/tmpdir/RtmpELGjYd/R.INSTALL150c59a941b8/GEM/man/SlicedData-class.Rd:90: file link 'rowSums' in package 'base' does not exist and so has been treated as a topic
Rd warning: C:/Users/biocbuild/bbs-3.12-bioc/tmpdir/RtmpELGjYd/R.INSTALL150c59a941b8/GEM/man/SlicedData-class.Rd:91: file link 'colMeans' in package 'base' does not exist and so has been treated as a topic
** building package indices
** installing vignettes
** testing if installed package can be loaded from temporary location
** testing if installed package can be loaded from final location
** testing if installed package keeps a record of temporary installation path
install for x64
* installing *source* package 'GEM' ...
** testing if installed package can be loaded
* MD5 sums
packaged installation of 'GEM' as GEM_1.16.0.zip
* DONE (GEM)