| Back to Multiple platform build/check report for BioC 3.12 |
|
This page was generated on 2021-05-06 12:31:23 -0400 (Thu, 06 May 2021).
|
To the developers/maintainers of the GARS package: Please make sure to use the following settings in order to reproduce any error or warning you see on this page. |
| Package 665/1974 | Hostname | OS / Arch | INSTALL | BUILD | CHECK | BUILD BIN | ||||||||
| GARS 1.10.0 (landing page) Mattia Chiesa
| malbec1 | Linux (Ubuntu 18.04.5 LTS) / x86_64 | OK | OK | OK | |||||||||
| tokay1 | Windows Server 2012 R2 Standard / x64 | OK | OK | WARNINGS | OK | |||||||||
| merida1 | macOS 10.14.6 Mojave / x86_64 | ERROR | ERROR | skipped | skipped | |||||||||
| Package: GARS |
| Version: 1.10.0 |
| Command: rm -rf GARS.buildbin-libdir && mkdir GARS.buildbin-libdir && C:\Users\biocbuild\bbs-3.12-bioc\R\bin\R.exe --arch x64 CMD INSTALL --no-multiarch --build --library=GARS.buildbin-libdir GARS_1.10.0.tar.gz |
| StartedAt: 2021-05-06 09:07:35 -0400 (Thu, 06 May 2021) |
| EndedAt: 2021-05-06 09:08:58 -0400 (Thu, 06 May 2021) |
| EllapsedTime: 82.8 seconds |
| RetCode: 0 |
| Status: OK |
| PackageFile: GARS_1.10.0.zip |
| PackageFileSize: 516.7 KiB |
##############################################################################
##############################################################################
###
### Running command:
###
### rm -rf GARS.buildbin-libdir && mkdir GARS.buildbin-libdir && C:\Users\biocbuild\bbs-3.12-bioc\R\bin\R.exe --arch x64 CMD INSTALL --no-multiarch --build --library=GARS.buildbin-libdir GARS_1.10.0.tar.gz
###
##############################################################################
##############################################################################
* installing *source* package 'GARS' ...
** using staged installation
** R
** data
*** moving datasets to lazyload DB
** inst
** byte-compile and prepare package for lazy loading
** help
*** installing help indices
converting help for package 'GARS'
finding HTML links ... done
AllPop html
FitScore html
GARS html
GARS_Crossover html
GARS_Elitism html
GARS_FitFun html
GARS_Fitness_score html
GARS_GA html
GARS_Mutation html
GARS_PlotFeaturesUsage html
GARS_PlotFitnessEvolution html
GARS_Selection html
GARS_classes html
GARS_create_rnd_population html
GARS_data_norm html
GARS_fit_list html
GARS_pop_list html
GARS_popul html
GARS_res_GA html
GarsSelectedFeatures-class html
LastPop html
MatrixFeatures html
** building package indices
** installing vignettes
** testing if installed package can be loaded from temporary location
** testing if installed package can be loaded from final location
** testing if installed package keeps a record of temporary installation path
* MD5 sums
packaged installation of 'GARS' as GARS_1.10.0.zip
* DONE (GARS)