| Back to Multiple platform build/check report for BioC 3.12 |
|
This page was generated on 2021-05-06 12:31:22 -0400 (Thu, 06 May 2021).
|
To the developers/maintainers of the GA4GHshiny package: Please make sure to use the following settings in order to reproduce any error or warning you see on this page. |
| Package 657/1974 | Hostname | OS / Arch | INSTALL | BUILD | CHECK | BUILD BIN | ||||||||
| GA4GHshiny 1.12.0 (landing page) Welliton Souza
| malbec1 | Linux (Ubuntu 18.04.5 LTS) / x86_64 | OK | OK | OK | |||||||||
| tokay1 | Windows Server 2012 R2 Standard / x64 | OK | OK | OK | OK | |||||||||
| merida1 | macOS 10.14.6 Mojave / x86_64 | OK | OK | OK | OK | |||||||||
| Package: GA4GHshiny |
| Version: 1.12.0 |
| Command: rm -rf GA4GHshiny.buildbin-libdir && mkdir GA4GHshiny.buildbin-libdir && C:\Users\biocbuild\bbs-3.12-bioc\R\bin\R.exe CMD INSTALL --merge-multiarch --build --library=GA4GHshiny.buildbin-libdir GA4GHshiny_1.12.0.tar.gz |
| StartedAt: 2021-05-06 09:07:08 -0400 (Thu, 06 May 2021) |
| EndedAt: 2021-05-06 09:08:27 -0400 (Thu, 06 May 2021) |
| EllapsedTime: 79.4 seconds |
| RetCode: 0 |
| Status: OK |
| PackageFile: GA4GHshiny_1.12.0.zip |
| PackageFileSize: 453.4 KiB |
##############################################################################
##############################################################################
###
### Running command:
###
### rm -rf GA4GHshiny.buildbin-libdir && mkdir GA4GHshiny.buildbin-libdir && C:\Users\biocbuild\bbs-3.12-bioc\R\bin\R.exe CMD INSTALL --merge-multiarch --build --library=GA4GHshiny.buildbin-libdir GA4GHshiny_1.12.0.tar.gz
###
##############################################################################
##############################################################################
install for i386
* installing *source* package 'GA4GHshiny' ...
** using staged installation
** R
** inst
** byte-compile and prepare package for lazy loading
No methods found in package 'BiocGenerics' for request: 'lengths' when loading 'GA4GHclient'
** help
*** installing help indices
converting help for package 'GA4GHshiny'
finding HTML links ... done
GA4GHshiny-package html
app html
countGenotype html
** building package indices
** installing vignettes
** testing if installed package can be loaded from temporary location
No methods found in package 'BiocGenerics' for request: 'lengths' when loading 'GA4GHclient'
** testing if installed package can be loaded from final location
No methods found in package 'BiocGenerics' for request: 'lengths' when loading 'GA4GHclient'
** testing if installed package keeps a record of temporary installation path
install for x64
* installing *source* package 'GA4GHshiny' ...
** testing if installed package can be loaded
No methods found in package 'BiocGenerics' for request: 'lengths' when loading 'GA4GHclient'
* MD5 sums
packaged installation of 'GA4GHshiny' as GA4GHshiny_1.12.0.zip
* DONE (GA4GHshiny)