| Back to Multiple platform build/check report for BioC 3.12 | 
  | 
This page was generated on 2021-05-06 12:31:22 -0400 (Thu, 06 May 2021).
| 
To the developers/maintainers of the FunciSNP package: Please make sure to use the following settings in order to reproduce any error or warning you see on this page.  | 
| Package 654/1974 | Hostname | OS / Arch | INSTALL | BUILD | CHECK | BUILD BIN | ||||||||
Simon G. Coetzee 
  | malbec1 | Linux (Ubuntu 18.04.5 LTS) / x86_64 | OK | OK | WARNINGS | |||||||||
| tokay1 | Windows Server 2012 R2 Standard / x64 | ERROR | ERROR | skipped | skipped | |||||||||
| merida1 | macOS 10.14.6 Mojave / x86_64 | ERROR | ERROR | skipped | skipped | |||||||||
| Package: FunciSNP | 
| Version: 1.34.0 | 
| Command: chmod a+r FunciSNP -R && C:\Users\biocbuild\bbs-3.12-bioc\R\bin\R.exe CMD build --keep-empty-dirs --no-resave-data FunciSNP | 
| StartedAt: 2021-05-05 21:06:09 -0400 (Wed, 05 May 2021) | 
| EndedAt: 2021-05-05 21:06:13 -0400 (Wed, 05 May 2021) | 
| EllapsedTime: 3.8 seconds | 
| RetCode: 1 | 
| Status: ERROR | 
| PackageFile: FunciSNP_1.34.0.tar.gz | 
| PackageFileSize: 1.128 MiB | 
##############################################################################
##############################################################################
###
### Running command:
###
###   chmod a+r FunciSNP -R && C:\Users\biocbuild\bbs-3.12-bioc\R\bin\R.exe CMD build --keep-empty-dirs --no-resave-data FunciSNP
###
##############################################################################
##############################################################################
* checking for file 'FunciSNP/DESCRIPTION' ... OK
* preparing 'FunciSNP':
* checking DESCRIPTION meta-information ... OK
* installing the package to build vignettes
      -----------------------------------
ERROR: dependency 'FunciSNP.data' is not available for package 'FunciSNP'
* removing 'C:/Users/biocbuild/bbs-3.12-bioc/tmpdir/RtmpobMr9v/Rinst18cc58d2964/FunciSNP'
      -----------------------------------
ERROR: package installation failed