| Back to Multiple platform build/check report for BioC 3.12 |
|
This page was generated on 2021-05-06 12:31:22 -0400 (Thu, 06 May 2021).
|
To the developers/maintainers of the FourCSeq package: Please make sure to use the following settings in order to reproduce any error or warning you see on this page. |
| Package 646/1974 | Hostname | OS / Arch | INSTALL | BUILD | CHECK | BUILD BIN | ||||||||
Mike Smith
| malbec1 | Linux (Ubuntu 18.04.5 LTS) / x86_64 | OK | OK | WARNINGS | |||||||||
| tokay1 | Windows Server 2012 R2 Standard / x64 | OK | OK | WARNINGS | OK | |||||||||
| merida1 | macOS 10.14.6 Mojave / x86_64 | OK | OK | WARNINGS | OK | |||||||||
| Package: FourCSeq |
| Version: 1.24.0 |
| Command: rm -rf FourCSeq.buildbin-libdir && mkdir FourCSeq.buildbin-libdir && C:\Users\biocbuild\bbs-3.12-bioc\R\bin\R.exe CMD INSTALL --merge-multiarch --build --library=FourCSeq.buildbin-libdir FourCSeq_1.24.0.tar.gz |
| StartedAt: 2021-05-06 09:06:32 -0400 (Thu, 06 May 2021) |
| EndedAt: 2021-05-06 09:07:59 -0400 (Thu, 06 May 2021) |
| EllapsedTime: 86.9 seconds |
| RetCode: 0 |
| Status: OK |
| PackageFile: FourCSeq_1.24.0.zip |
| PackageFileSize: 4.852 MiB |
##############################################################################
##############################################################################
###
### Running command:
###
### rm -rf FourCSeq.buildbin-libdir && mkdir FourCSeq.buildbin-libdir && C:\Users\biocbuild\bbs-3.12-bioc\R\bin\R.exe CMD INSTALL --merge-multiarch --build --library=FourCSeq.buildbin-libdir FourCSeq_1.24.0.tar.gz
###
##############################################################################
##############################################################################
install for i386
* installing *source* package 'FourCSeq' ...
** using staged installation
** R
** data
** inst
** byte-compile and prepare package for lazy loading
** help
*** installing help indices
converting help for package 'FourCSeq'
finding HTML links ... done
FourC html
addFragments html
addPeaks html
addViewpointFrags html
combineFragEnds html
countFragmentOverlaps html
countFragmentOverlapsSecondCutter html
distFitMonotone html
distFitMonotoneSymmetric html
fc html
fcf html
findViewpointFragments html
getAllResults html
getDifferences html
getDistAroundVp html
getNormalizationFactors html
getReferenceSeq html
getZScores html
normalizeRPM html
plotDifferences html
plotFits html
plotNormalizationFactors html
plotScatter html
plotZScores html
smoothCounts html
smoothHitPerCent html
writeTrackFiles html
** building package indices
** installing vignettes
** testing if installed package can be loaded from temporary location
Warning: Package 'FourCSeq' is deprecated and will be removed from Bioconductor
version 3.13
** testing if installed package can be loaded from final location
Warning: Package 'FourCSeq' is deprecated and will be removed from Bioconductor
version 3.13
** testing if installed package keeps a record of temporary installation path
install for x64
* installing *source* package 'FourCSeq' ...
** testing if installed package can be loaded
Warning: Package 'FourCSeq' is deprecated and will be removed from Bioconductor
version 3.13
* MD5 sums
packaged installation of 'FourCSeq' as FourCSeq_1.24.0.zip
* DONE (FourCSeq)