| Back to Multiple platform build/check report for BioC 3.12 |
|
This page was generated on 2021-05-06 12:31:04 -0400 (Thu, 06 May 2021).
|
To the developers/maintainers of the ExiMiR package: Please make sure to use the following settings in order to reproduce any error or warning you see on this page. |
| Package 575/1974 | Hostname | OS / Arch | INSTALL | BUILD | CHECK | BUILD BIN | ||||||||
| ExiMiR 2.32.0 (landing page) Sylvain Gubian
| malbec1 | Linux (Ubuntu 18.04.5 LTS) / x86_64 | OK | OK | OK | |||||||||
| tokay1 | Windows Server 2012 R2 Standard / x64 | OK | OK | OK | OK | |||||||||
| merida1 | macOS 10.14.6 Mojave / x86_64 | OK | OK | OK | OK | |||||||||
| Package: ExiMiR |
| Version: 2.32.0 |
| Command: rm -rf ExiMiR.buildbin-libdir && mkdir ExiMiR.buildbin-libdir && C:\Users\biocbuild\bbs-3.12-bioc\R\bin\R.exe CMD INSTALL --merge-multiarch --build --library=ExiMiR.buildbin-libdir ExiMiR_2.32.0.tar.gz |
| StartedAt: 2021-05-06 09:02:13 -0400 (Thu, 06 May 2021) |
| EndedAt: 2021-05-06 09:02:50 -0400 (Thu, 06 May 2021) |
| EllapsedTime: 37.4 seconds |
| RetCode: 0 |
| Status: OK |
| PackageFile: ExiMiR_2.32.0.zip |
| PackageFileSize: 1.179 MiB |
##############################################################################
##############################################################################
###
### Running command:
###
### rm -rf ExiMiR.buildbin-libdir && mkdir ExiMiR.buildbin-libdir && C:\Users\biocbuild\bbs-3.12-bioc\R\bin\R.exe CMD INSTALL --merge-multiarch --build --library=ExiMiR.buildbin-libdir ExiMiR_2.32.0.tar.gz
###
##############################################################################
##############################################################################
install for i386
* installing *source* package 'ExiMiR' ...
** using staged installation
** R
** data
** inst
** byte-compile and prepare package for lazy loading
** help
*** installing help indices
converting help for package 'ExiMiR'
finding HTML links ... done
ExiMiR-package html
GSE19183 html
GSE20122 html
NormiR html
NormiR.methods html
ReadExi html
bg.correct.miR html
createAB html
galenv html
make.gal.env html
norm.miR html
summarize.miR html
** building package indices
** installing vignettes
** testing if installed package can be loaded from temporary location
** testing if installed package can be loaded from final location
** testing if installed package keeps a record of temporary installation path
install for x64
* installing *source* package 'ExiMiR' ...
** testing if installed package can be loaded
* MD5 sums
packaged installation of 'ExiMiR' as ExiMiR_2.32.0.zip
* DONE (ExiMiR)