| Back to Multiple platform build/check report for BioC 3.12 |
|
This page was generated on 2021-05-06 12:34:56 -0400 (Thu, 06 May 2021).
|
To the developers/maintainers of the EventPointer package: Please make sure to use the following settings in order to reproduce any error or warning you see on this page. |
| Package 573/1974 | Hostname | OS / Arch | INSTALL | BUILD | CHECK | BUILD BIN | ||||||||
| EventPointer 2.8.0 (landing page) Juan Pablo Romero
| malbec1 | Linux (Ubuntu 18.04.5 LTS) / x86_64 | OK | OK | OK | |||||||||
| tokay1 | Windows Server 2012 R2 Standard / x64 | OK | OK | OK | OK | |||||||||
| merida1 | macOS 10.14.6 Mojave / x86_64 | OK | OK | OK | OK | |||||||||
| Package: EventPointer |
| Version: 2.8.0 |
| Command: rm -rf EventPointer.buildbin-libdir && mkdir EventPointer.buildbin-libdir && /Users/biocbuild/BBS/utils/build-universal.sh EventPointer_2.8.0.tar.gz /Library/Frameworks/R.framework/Versions/Current/Resources/bin/R EventPointer.buildbin-libdir |
| StartedAt: 2021-05-06 08:33:30 -0400 (Thu, 06 May 2021) |
| EndedAt: 2021-05-06 08:34:28 -0400 (Thu, 06 May 2021) |
| EllapsedTime: 57.8 seconds |
| RetCode: 0 |
| Status: OK |
| PackageFile: EventPointer_2.8.0.tgz |
| PackageFileSize: 1.124 MiB |
############################################################################## ############################################################################## ### ### Running command: ### ### rm -rf EventPointer.buildbin-libdir && mkdir EventPointer.buildbin-libdir && /Users/biocbuild/BBS/utils/build-universal.sh EventPointer_2.8.0.tar.gz /Library/Frameworks/R.framework/Versions/Current/Resources/bin/R EventPointer.buildbin-libdir ### ############################################################################## ############################################################################## >>>>>>> >>>>>>> INSTALLATION WITH 'R CMD INSTALL --preclean --no-multiarch --library=EventPointer.buildbin-libdir EventPointer_2.8.0.tar.gz' >>>>>>> * installing *source* package ‘EventPointer’ ... ** using staged installation ** R ** data *** moving datasets to lazyload DB ** inst ** byte-compile and prepare package for lazy loading Warning in .recacheSubclasses(def@className, def, env) : undefined subclass "numericVector" of class "Mnumeric"; definition not updated ** help *** installing help indices ** building package indices ** installing vignettes ** testing if installed package can be loaded from temporary location Warning in .recacheSubclasses(def@className, def, env) : undefined subclass "numericVector" of class "Mnumeric"; definition not updated ** testing if installed package can be loaded from final location Warning in .recacheSubclasses(def@className, def, env) : undefined subclass "numericVector" of class "Mnumeric"; definition not updated ** testing if installed package keeps a record of temporary installation path * DONE (EventPointer)