| Back to Multiple platform build/check report for BioC 3.12 |
|
This page was generated on 2021-05-06 12:31:03 -0400 (Thu, 06 May 2021).
|
To the developers/maintainers of the EpiTxDb package: Please make sure to use the following settings in order to reproduce any error or warning you see on this page. |
| Package 559/1974 | Hostname | OS / Arch | INSTALL | BUILD | CHECK | BUILD BIN | ||||||||
| EpiTxDb 1.2.1 (landing page) Felix G.M. Ernst
| malbec1 | Linux (Ubuntu 18.04.5 LTS) / x86_64 | OK | OK | OK | |||||||||
| tokay1 | Windows Server 2012 R2 Standard / x64 | OK | OK | OK | OK | |||||||||
| merida1 | macOS 10.14.6 Mojave / x86_64 | OK | OK | OK | OK | |||||||||
| Package: EpiTxDb |
| Version: 1.2.1 |
| Command: rm -rf EpiTxDb.buildbin-libdir && mkdir EpiTxDb.buildbin-libdir && C:\Users\biocbuild\bbs-3.12-bioc\R\bin\R.exe CMD INSTALL --merge-multiarch --build --library=EpiTxDb.buildbin-libdir EpiTxDb_1.2.1.tar.gz |
| StartedAt: 2021-05-06 09:00:39 -0400 (Thu, 06 May 2021) |
| EndedAt: 2021-05-06 09:02:02 -0400 (Thu, 06 May 2021) |
| EllapsedTime: 83.4 seconds |
| RetCode: 0 |
| Status: OK |
| PackageFile: EpiTxDb_1.2.1.zip |
| PackageFileSize: 1.495 MiB |
##############################################################################
##############################################################################
###
### Running command:
###
### rm -rf EpiTxDb.buildbin-libdir && mkdir EpiTxDb.buildbin-libdir && C:\Users\biocbuild\bbs-3.12-bioc\R\bin\R.exe CMD INSTALL --merge-multiarch --build --library=EpiTxDb.buildbin-libdir EpiTxDb_1.2.1.tar.gz
###
##############################################################################
##############################################################################
install for i386
* installing *source* package 'EpiTxDb' ...
** using staged installation
** R
** data
** inst
** byte-compile and prepare package for lazy loading
** help
*** installing help indices
converting help for package 'EpiTxDb'
finding HTML links ... done
EpiTxDb-class html
EpiTxDb-data html
EpiTxDb-package html
makeEpiTxDb html
makeEpiTxDbFromGRanges html
makeEpiTxDbFromRMBase html
makeEpiTxDbFromtRNAdb html
modifications html
positionSequence html
rescale html
select html
shiftGenomicToTranscript html
** building package indices
** installing vignettes
** testing if installed package can be loaded from temporary location
** testing if installed package can be loaded from final location
** testing if installed package keeps a record of temporary installation path
install for x64
* installing *source* package 'EpiTxDb' ...
** testing if installed package can be loaded
* MD5 sums
packaged installation of 'EpiTxDb' as EpiTxDb_1.2.1.zip
* DONE (EpiTxDb)