| Back to Multiple platform build/check report for BioC 3.12 |
|
This page was generated on 2021-05-06 12:27:29 -0400 (Thu, 06 May 2021).
|
To the developers/maintainers of the EnrichmentBrowser package: Please make sure to use the following settings in order to reproduce any error or warning you see on this page. |
| Package 549/1974 | Hostname | OS / Arch | INSTALL | BUILD | CHECK | BUILD BIN | ||||||||
| EnrichmentBrowser 2.20.7 (landing page) Ludwig Geistlinger
| malbec1 | Linux (Ubuntu 18.04.5 LTS) / x86_64 | OK | OK | OK | |||||||||
| tokay1 | Windows Server 2012 R2 Standard / x64 | OK | OK | OK | OK | |||||||||
| merida1 | macOS 10.14.6 Mojave / x86_64 | OK | OK | OK | OK | |||||||||
| Package: EnrichmentBrowser |
| Version: 2.20.7 |
| Command: /home/biocbuild/bbs-3.12-bioc/R/bin/R CMD check --install=check:EnrichmentBrowser.install-out.txt --library=/home/biocbuild/bbs-3.12-bioc/R/library --no-vignettes --timings EnrichmentBrowser_2.20.7.tar.gz |
| StartedAt: 2021-05-06 01:16:16 -0400 (Thu, 06 May 2021) |
| EndedAt: 2021-05-06 01:22:13 -0400 (Thu, 06 May 2021) |
| EllapsedTime: 356.7 seconds |
| RetCode: 0 |
| Status: OK |
| CheckDir: EnrichmentBrowser.Rcheck |
| Warnings: 0 |
##############################################################################
##############################################################################
###
### Running command:
###
### /home/biocbuild/bbs-3.12-bioc/R/bin/R CMD check --install=check:EnrichmentBrowser.install-out.txt --library=/home/biocbuild/bbs-3.12-bioc/R/library --no-vignettes --timings EnrichmentBrowser_2.20.7.tar.gz
###
##############################################################################
##############################################################################
* using log directory ‘/home/biocbuild/bbs-3.12-bioc/meat/EnrichmentBrowser.Rcheck’
* using R version 4.0.5 (2021-03-31)
* using platform: x86_64-pc-linux-gnu (64-bit)
* using session charset: UTF-8
* using option ‘--no-vignettes’
* checking for file ‘EnrichmentBrowser/DESCRIPTION’ ... OK
* this is package ‘EnrichmentBrowser’ version ‘2.20.7’
* package encoding: UTF-8
* checking package namespace information ... OK
* checking package dependencies ... OK
* checking if this is a source package ... OK
* checking if there is a namespace ... OK
* checking for hidden files and directories ... OK
* checking for portable file names ... OK
* checking for sufficient/correct file permissions ... OK
* checking whether package ‘EnrichmentBrowser’ can be installed ... OK
* checking installed package size ... OK
* checking package directory ... OK
* checking ‘build’ directory ... OK
* checking DESCRIPTION meta-information ... OK
* checking top-level files ... OK
* checking for left-over files ... OK
* checking index information ... OK
* checking package subdirectories ... OK
* checking R files for non-ASCII characters ... OK
* checking R files for syntax errors ... OK
* checking whether the package can be loaded ... OK
* checking whether the package can be loaded with stated dependencies ... OK
* checking whether the package can be unloaded cleanly ... OK
* checking whether the namespace can be loaded with stated dependencies ... OK
* checking whether the namespace can be unloaded cleanly ... OK
* checking dependencies in R code ... NOTE
Unexported object imported by a ':::' call: 'pathview:::parseKGML2Graph2'
See the note in ?`:::` about the use of this operator.
* checking S3 generic/method consistency ... OK
* checking replacement functions ... OK
* checking foreign function calls ... OK
* checking R code for possible problems ... NOTE
.getGOFromBiomart: no visible binding for global variable
‘go_linkage_type’
Undefined global functions or variables:
go_linkage_type
* checking Rd files ... OK
* checking Rd metadata ... OK
* checking Rd cross-references ... OK
* checking for missing documentation entries ... OK
* checking for code/documentation mismatches ... OK
* checking Rd \usage sections ... OK
* checking Rd contents ... OK
* checking for unstated dependencies in examples ... OK
* checking files in ‘vignettes’ ... OK
* checking examples ... OK
Examples with CPU (user + system) or elapsed time > 5s
user system elapsed
ebrowser 82.668 0.976 84.447
getGenesets 19.744 0.188 23.719
eaBrowse 11.992 0.336 15.729
import 6.680 0.020 6.747
deAna 6.020 0.136 6.269
* checking for unstated dependencies in vignettes ... OK
* checking package vignettes in ‘inst/doc’ ... OK
* checking running R code from vignettes ... SKIPPED
* checking re-building of vignette outputs ... SKIPPED
* checking PDF version of manual ... OK
* DONE
Status: 2 NOTEs
See
‘/home/biocbuild/bbs-3.12-bioc/meat/EnrichmentBrowser.Rcheck/00check.log’
for details.
EnrichmentBrowser.Rcheck/00install.out
############################################################################## ############################################################################## ### ### Running command: ### ### /home/biocbuild/bbs-3.12-bioc/R/bin/R CMD INSTALL EnrichmentBrowser ### ############################################################################## ############################################################################## * installing to library ‘/home/biocbuild/bbs-3.12-bioc/R/library’ * installing *source* package ‘EnrichmentBrowser’ ... ** using staged installation ** R ** inst ** byte-compile and prepare package for lazy loading ** help *** installing help indices ** building package indices ** installing vignettes ** testing if installed package can be loaded from temporary location ** testing if installed package can be loaded from final location ** testing if installed package keeps a record of temporary installation path * DONE (EnrichmentBrowser)
EnrichmentBrowser.Rcheck/EnrichmentBrowser-Ex.timings
| name | user | system | elapsed | |
| combResults | 0.912 | 0.016 | 0.927 | |
| compileGRN | 4.264 | 0.048 | 4.328 | |
| configEBrowser | 0 | 0 | 0 | |
| deAna | 6.020 | 0.136 | 6.269 | |
| downloadPathways | 0 | 0 | 0 | |
| eaBrowse | 11.992 | 0.336 | 15.729 | |
| ebrowser | 82.668 | 0.976 | 84.447 | |
| getGenesets | 19.744 | 0.188 | 23.719 | |
| ggeaGraph | 3.600 | 0.020 | 3.631 | |
| idMap | 0.796 | 0.036 | 0.835 | |
| import | 6.680 | 0.020 | 6.747 | |
| isAvailable | 0 | 0 | 0 | |
| makeExampleData | 0.052 | 0.000 | 0.051 | |
| nbea | 0.356 | 0.000 | 0.358 | |
| normalize | 0.524 | 0.020 | 0.548 | |
| plots | 2.204 | 0.028 | 3.202 | |
| probe2gene | 0.068 | 0.000 | 0.111 | |
| readSE | 0.036 | 0.000 | 0.037 | |
| sbea | 0.204 | 0.000 | 0.206 | |