| Back to Multiple platform build/check report for BioC 3.12 |
|
This page was generated on 2021-05-06 12:31:01 -0400 (Thu, 06 May 2021).
|
To the developers/maintainers of the EGSEA package: Please make sure to use the following settings in order to reproduce any error or warning you see on this page. |
| Package 536/1974 | Hostname | OS / Arch | INSTALL | BUILD | CHECK | BUILD BIN | ||||||||
| EGSEA 1.18.1 (landing page) Monther Alhamdoosh
| malbec1 | Linux (Ubuntu 18.04.5 LTS) / x86_64 | OK | OK | OK | |||||||||
| tokay1 | Windows Server 2012 R2 Standard / x64 | OK | OK | OK | OK | |||||||||
| merida1 | macOS 10.14.6 Mojave / x86_64 | OK | OK | OK | OK | |||||||||
| Package: EGSEA |
| Version: 1.18.1 |
| Command: rm -rf EGSEA.buildbin-libdir && mkdir EGSEA.buildbin-libdir && C:\Users\biocbuild\bbs-3.12-bioc\R\bin\R.exe CMD INSTALL --merge-multiarch --build --library=EGSEA.buildbin-libdir EGSEA_1.18.1.tar.gz |
| StartedAt: 2021-05-06 08:59:09 -0400 (Thu, 06 May 2021) |
| EndedAt: 2021-05-06 09:00:24 -0400 (Thu, 06 May 2021) |
| EllapsedTime: 74.5 seconds |
| RetCode: 0 |
| Status: OK |
| PackageFile: EGSEA_1.18.1.zip |
| PackageFileSize: 1.729 MiB |
##############################################################################
##############################################################################
###
### Running command:
###
### rm -rf EGSEA.buildbin-libdir && mkdir EGSEA.buildbin-libdir && C:\Users\biocbuild\bbs-3.12-bioc\R\bin\R.exe CMD INSTALL --merge-multiarch --build --library=EGSEA.buildbin-libdir EGSEA_1.18.1.tar.gz
###
##############################################################################
##############################################################################
install for i386
* installing *source* package 'EGSEA' ...
** using staged installation
** R
** inst
** byte-compile and prepare package for lazy loading
groupGOTerms: GOBPTerm, GOMFTerm, GOCCTerm environments built.
** help
*** installing help indices
converting help for package 'EGSEA'
finding HTML links ... done
EGSEA-package html
EGSEAResults-methods html
GSCollectionIndex-methods html
egsea-aux html
egsea-index html
egsea-main html
** building package indices
** installing vignettes
** testing if installed package can be loaded from temporary location
groupGOTerms: GOBPTerm, GOMFTerm, GOCCTerm environments built.
** testing if installed package can be loaded from final location
groupGOTerms: GOBPTerm, GOMFTerm, GOCCTerm environments built.
** testing if installed package keeps a record of temporary installation path
install for x64
* installing *source* package 'EGSEA' ...
** testing if installed package can be loaded
groupGOTerms: GOBPTerm, GOMFTerm, GOCCTerm environments built.
* MD5 sums
packaged installation of 'EGSEA' as EGSEA_1.18.1.zip
* DONE (EGSEA)